BEGIN:VCALENDAR
VERSION:2.0
PRODID:-//Journal Métro - ECPv6.0.13//NONSGML v1.0//EN
CALSCALE:GREGORIAN
METHOD:PUBLISH
X-WR-CALNAME:Journal Métro
X-ORIGINAL-URL:https://journalmetro.com
X-WR-CALDESC:évènements pour Journal Métro
REFRESH-INTERVAL;VALUE=DURATION:PT1H
X-Robots-Tag:noindex
X-PUBLISHED-TTL:PT1H
BEGIN:VTIMEZONE
TZID:America/Toronto
BEGIN:DAYLIGHT
TZOFFSETFROM:-0500
TZOFFSETTO:-0400
TZNAME:EDT
DTSTART:20230312T070000
END:DAYLIGHT
BEGIN:STANDARD
TZOFFSETFROM:-0400
TZOFFSETTO:-0500
TZNAME:EST
DTSTART:20231105T060000
END:STANDARD
END:VTIMEZONE
BEGIN:VEVENT
DTSTART;TZID=America/Toronto:20231016T080000
DTEND;TZID=America/Toronto:20231023T170000
DTSTAMP:20231016T111545
CREATED:20230324T212452Z
LAST-MODIFIED:20230324T212456Z
UID:10010012-1697443200-1698080400@journalmetro.com
SUMMARY:Le Social Comédie Club
DESCRIPTION:Le Social Comédie Club est une soirée Open-Mic animée par Yasmeen Gregs avec Caro Monast et Thibault Varin à la chronique qui a lieu tous les premiers lundis du mois!  \n\n\n\nDates: les 6 février – 6 mars – 3 avril – 1er mai \n\n\n\nRéservez votre place sur les réseaux sociaux – Instagram\, Facebook \n\n\n\nPour info: socialcomedieclub@gmail.com
URL:https://journalmetro.com/evenement/le-social-comedie-club-3/2023-10-16/
LOCATION:Bar Social Verdun\, 3819 rue Wellington\, Montréal\, QC\, Canada
ATTACH;FMTTYPE=image/jpeg:https://journalmetro.com/wp-content/uploads/2023/01/comedie-social-club-2.jpg
END:VEVENT
END:VCALENDAR