BEGIN:VCALENDAR
VERSION:2.0
PRODID:-//Journal Métro - ECPv6.0.13//NONSGML v1.0//EN
CALSCALE:GREGORIAN
METHOD:PUBLISH
X-WR-CALNAME:Journal Métro
X-ORIGINAL-URL:https://journalmetro.com
X-WR-CALDESC:évènements pour Journal Métro
REFRESH-INTERVAL;VALUE=DURATION:PT1H
X-Robots-Tag:noindex
X-PUBLISHED-TTL:PT1H
BEGIN:VTIMEZONE
TZID:America/Toronto
BEGIN:DAYLIGHT
TZOFFSETFROM:-0500
TZOFFSETTO:-0400
TZNAME:EDT
DTSTART:20230312T070000
END:DAYLIGHT
BEGIN:STANDARD
TZOFFSETFROM:-0400
TZOFFSETTO:-0500
TZNAME:EST
DTSTART:20231105T060000
END:STANDARD
END:VTIMEZONE
BEGIN:VEVENT
DTSTART;TZID=America/Toronto:20231108T130000
DTEND;TZID=America/Toronto:20231115T170000
DTSTAMP:20231018T161632
CREATED:20230109T164924Z
LAST-MODIFIED:20230329T152433Z
UID:10009449-1699448400-1700067600@journalmetro.com
SUMMARY:Cruel to be Kind - Jeanie Riddle & Delphine Hennelly
DESCRIPTION:Dans le cadre de la programmation culturelle et événementielle\, l’arrondissement d’Outremont présente en collaboration avec Pictura l’exposition “Cruel to be Kind” du 8 novembre 2023 au 7 janvier 2024 à la Galerie d’Outremont. \n\n\n\nCruel to be kind est une exposition en duo avec les artistes montréalaises Jeanie Riddle et Delphine Hennelly. Conçue tout spécialement pour l’espace\, l’exposition met le travail pictural des deux artistes en dialogue l’un à travers de l’autre par le billet d’une installation immersive.  \n\n\n\nL’exposition se veut une expérimentation qui propose la  confluence du travail de deux artistes dont l’esthétique  diffère\, l’une est d’habitude figurative\, l’autre abstraite. En travaillant l’une avec l’autre\, l’une au travers de l’autre\, Riddle et Hennelly créent un espace au sein de leur  pratique afin de prôner l’échange\, l’hospitalité\, l’amabilité et la réciprocité. \n\n\n\nExposition présentée dans le cadre de la biennale Pictura. \n\n\n\nLe vernissage aura lieu le 8 novembre\, entre 17 h et 20 h\, à la Galerie d’Outremont.  \n\n\n\nVenez à l’ouverture de l’exposition! \n\n\n\nVeuillez noter que la Galerie d’Outremont fermera du 23 décembre 2023 au 5 janvier 2024 inclusivement. \n\n\n\nSource: montreal.ca \n\n\n\nDates et horaires sont sujets à changement sans préavis. Avant de vous déplacer\, vérifier ces informations sur montreal.ca
URL:https://journalmetro.com/evenement/cruel-to-be-kind-jeanie-riddle-delphine-hennelly/2023-11-08/
LOCATION:Galerie d’Outremont\, 41 avenue Saint-Just\, Montréal\, QC\, Canada
CATEGORIES:Communautaire
ATTACH;FMTTYPE=image/jpeg:https://journalmetro.com/wp-content/uploads/2023/01/cruel-to-be-kind-2.jpg
END:VEVENT
END:VCALENDAR