BEGIN:VCALENDAR
VERSION:2.0
PRODID:-//Journal Métro - ECPv6.0.13//NONSGML v1.0//EN
CALSCALE:GREGORIAN
METHOD:PUBLISH
X-WR-CALNAME:Journal Métro
X-ORIGINAL-URL:https://journalmetro.com
X-WR-CALDESC:évènements pour Journal Métro
REFRESH-INTERVAL;VALUE=DURATION:PT1H
X-Robots-Tag:noindex
X-PUBLISHED-TTL:PT1H
BEGIN:VTIMEZONE
TZID:America/Toronto
BEGIN:DAYLIGHT
TZOFFSETFROM:-0500
TZOFFSETTO:-0400
TZNAME:EDT
DTSTART:20230312T070000
END:DAYLIGHT
BEGIN:STANDARD
TZOFFSETFROM:-0400
TZOFFSETTO:-0500
TZNAME:EST
DTSTART:20231105T060000
END:STANDARD
END:VTIMEZONE
BEGIN:VEVENT
DTSTART;TZID=America/Toronto:20231021T100000
DTEND;TZID=America/Toronto:20231022T170000
DTSTAMP:20231018T170818
CREATED:20230809T174440Z
LAST-MODIFIED:20230810T224117Z
UID:10019514-1697882400-1697994000@journalmetro.com
SUMMARY:Le marché de l'automne et de l'étrange
DESCRIPTION:Pour les amoureux de l’automne et d’Halloween\, le marché de l’automne et de l’étrange se veut un événement ouvert\, inclusif\, familial et inoubliable. Vous y trouverez plus de 40 exposants comprenant des créateurs locaux de qualité\, des antiquaires\, une ambiance électrisante\, une musique d’ambiance\, des surprises et du plaisir garanti !  \n\n\n\nVenez parcourir le décor de la grande scène pour une expérience unique. Découvrez les déguisements de notre quarantaine d’exposants\, déguster notre menu concocté spécialement pour l’événement et profiter des activités avec la famille\, les amis et les enfants ! \n\n\n\nTout cela et plus encore le 21 et 22 octobre\, de 10h à 17h\, au sous-sol de l’Église Notre-Dame-De-Lourdes à Verdun. \n\n\n\n\n\n\n\n\n\n\n\n\n\n\n\n\n\n\n\nSuivez le Bazar Verdunois sur leurs réseaux sociaux pour avoir des nouvelles sur les Marchés à venir. \n\n\n\n\n\n\n\nFacebook\n\nInstagram
URL:https://journalmetro.com/evenement/le-marche-de-lautomne-et-de-letrange/
LOCATION:Église Notre-Dame-de-Lourdes\, 630 4ième avenue\, Montréal\, QC\, H4G 1N4\, Canada
CATEGORIES:Promotionnel
ATTACH;FMTTYPE=image/jpeg:https://journalmetro.com/wp-content/uploads/2023/08/iStock-1327813387-2.jpg
END:VEVENT
END:VCALENDAR