BEGIN:VCALENDAR
VERSION:2.0
PRODID:-//Journal Métro - ECPv6.0.13//NONSGML v1.0//EN
CALSCALE:GREGORIAN
METHOD:PUBLISH
X-WR-CALNAME:Journal Métro
X-ORIGINAL-URL:https://journalmetro.com
X-WR-CALDESC:évènements pour Journal Métro
REFRESH-INTERVAL;VALUE=DURATION:PT1H
X-Robots-Tag:noindex
X-PUBLISHED-TTL:PT1H
BEGIN:VTIMEZONE
TZID:America/Toronto
BEGIN:DAYLIGHT
TZOFFSETFROM:-0500
TZOFFSETTO:-0400
TZNAME:EDT
DTSTART:20230312T070000
END:DAYLIGHT
BEGIN:STANDARD
TZOFFSETFROM:-0400
TZOFFSETTO:-0500
TZNAME:EST
DTSTART:20231105T060000
END:STANDARD
END:VTIMEZONE
BEGIN:VEVENT
DTSTART;TZID=America/Toronto:20230815T000000
DTEND;TZID=America/Toronto:20231018T235959
DTSTAMP:20231016T140339
CREATED:20230727T013504Z
LAST-MODIFIED:20230727T013505Z
UID:10019185-1692057600-1697673599@journalmetro.com
SUMMARY:Expo : Sur une berge près de chez vous
DESCRIPTION:La bibliothèque accueille Sur une berge près de chez-vous. Une exposition d’arts visuels et multimédias contemporaine créée entièrement à partir de matières plastiques et médias collectées un peu partout sur les berges québécoises et canadiennes. \n\n\n\n\n\n\n\n\n\n\n\n\n\n\n\n\n\n\n\n\n\n\n\n\n\nLa créatrice multidisciplinaire Anne-Marie Asselin\, fondatrice de l’Organisation Bleue et biologiste marine\, participera en septembre et octobre au nettoyage des berges et donnera une série de conférences dans les écoles et à la bibliothèque. \n\n\n\n\n\n\n\n\nConcours\n\n\n\nFaites-nous part de votre œuvre d’art préférée et vous pourriez gagner l’un des deux chèques-cadeaux de 50 $ dans une librairie de Pointe-Claire ou un sac réutilisable de l’Organisation Bleue.  \n\n\n\nTirage le 18 octobre \n\n\n\n\n\n\n\n\n\nPour plus d’information\n\n\n\n\n\n\n\n\n\n\n\n\n\n\n\n\nTwitter\n\nFacebook\n\nVimeo
URL:https://journalmetro.com/evenement/expo-sur-une-berge-pres-de-chez-vous/
LOCATION:Bibliothèque Publique de Pointe-Claire\, 100 Douglas-Shand Ave\, Pointe-Claire\, QC\, H9R 4V1\, Canada
CATEGORIES:Promotionnel
ATTACH;FMTTYPE=image/jpeg:https://journalmetro.com/wp-content/uploads/2023/07/test-2.jpg
END:VEVENT
BEGIN:VEVENT
DTSTART;TZID=America/Toronto:20231017T000000
DTEND;TZID=America/Toronto:20231028T235959
DTSTAMP:20231016T140339
CREATED:20230123T211741Z
LAST-MODIFIED:20230501T204952Z
UID:10012787-1697500800-1698537599@journalmetro.com
SUMMARY:« L'Espèce fabulatrice » au Théâtre Aux Écuries
DESCRIPTION:Contenu promotionnel \n\n\n\nLe 4 avril 2022\, le GIEC annonçait que la majorité des changements climatiques sont désormais irréversibles et que plusieurs risques « sont inévitables à court terme ». En d’autres mots\, le monde comme nous le connaissons et ses systèmes seraient voués à s’effondrer\, que ce soit de façon intentionnelle ou imposée. Pour surmonter la confusion et le désespoir\, il faut commencer à nous libérer du système de valeurs de la civilisation industrielle.En invitant dans la création un chœur de personnes qui se sont déjà retrouvées au cœur d’un effondrement\, la compagnie s’inspirera de « L’Espèce fabulatrice » de Nancy Houston. Les performeur·euse·s partageront les manières dont ils·elles ont habité le trouble et ce qui pétrit leurs « après ». Au fil des dix représentations\, ils·elles devront s’occuper d’un jardin sur scène. Sans sol ni soleil\, le résultat est imprévisible. Dans quel état sera laissée la vie ? \n\n\n\nPour en savoir plus\, rendez-vous au auxecuries.com ou consultez leurs médias sociaux \n\n\n\nInstagram\n\nYouTube\n\n\n\n28$ tarif régulier | 18-25$ tarifs réduits \n\n\n\nCrédit photo : Stéphane Garon
URL:https://journalmetro.com/evenement/lespece-fabulatrice-au-theatre-aux-ecuries/
LOCATION:Théâtre aux Écuries\, 7285\, rue Chabot\, MONTREAL\, Québec\, H2E 2K7
CATEGORIES:Promotionnel
ATTACH;FMTTYPE=image/jpeg:https://journalmetro.com/wp-content/uploads/2023/01/TAE_ILLUSTRATIONS_SPECTACLES_1000x1000_VISUELS12.jpg
END:VEVENT
BEGIN:VEVENT
DTSTART;TZID=America/Toronto:20231021T100000
DTEND;TZID=America/Toronto:20231022T170000
DTSTAMP:20231016T140339
CREATED:20230809T174440Z
LAST-MODIFIED:20230810T224117Z
UID:10019514-1697882400-1697994000@journalmetro.com
SUMMARY:Le marché de l'automne et de l'étrange
DESCRIPTION:Pour les amoureux de l’automne et d’Halloween\, le marché de l’automne et de l’étrange se veut un événement ouvert\, inclusif\, familial et inoubliable. Vous y trouverez plus de 40 exposants comprenant des créateurs locaux de qualité\, des antiquaires\, une ambiance électrisante\, une musique d’ambiance\, des surprises et du plaisir garanti !  \n\n\n\nVenez parcourir le décor de la grande scène pour une expérience unique. Découvrez les déguisements de notre quarantaine d’exposants\, déguster notre menu concocté spécialement pour l’événement et profiter des activités avec la famille\, les amis et les enfants ! \n\n\n\nTout cela et plus encore le 21 et 22 octobre\, de 10h à 17h\, au sous-sol de l’Église Notre-Dame-De-Lourdes à Verdun. \n\n\n\n\n\n\n\n\n\n\n\n\n\n\n\n\n\n\n\nSuivez le Bazar Verdunois sur leurs réseaux sociaux pour avoir des nouvelles sur les Marchés à venir. \n\n\n\n\n\n\n\nFacebook\n\nInstagram
URL:https://journalmetro.com/evenement/le-marche-de-lautomne-et-de-letrange/
LOCATION:Église Notre-Dame-de-Lourdes\, 630 4ième avenue\, Montréal\, QC\, H4G 1N4\, Canada
CATEGORIES:Promotionnel
ATTACH;FMTTYPE=image/jpeg:https://journalmetro.com/wp-content/uploads/2023/08/iStock-1327813387-2.jpg
END:VEVENT
END:VCALENDAR