BEGIN:VCALENDAR
VERSION:2.0
PRODID:-//Journal Métro - ECPv6.0.13//NONSGML v1.0//EN
CALSCALE:GREGORIAN
METHOD:PUBLISH
X-WR-CALNAME:Journal Métro
X-ORIGINAL-URL:https://journalmetro.com
X-WR-CALDESC:évènements pour Journal Métro
REFRESH-INTERVAL;VALUE=DURATION:PT1H
X-Robots-Tag:noindex
X-PUBLISHED-TTL:PT1H
BEGIN:VTIMEZONE
TZID:America/Toronto
BEGIN:DAYLIGHT
TZOFFSETFROM:-0500
TZOFFSETTO:-0400
TZNAME:EDT
DTSTART:20220313T070000
END:DAYLIGHT
BEGIN:STANDARD
TZOFFSETFROM:-0400
TZOFFSETTO:-0500
TZNAME:EST
DTSTART:20221106T060000
END:STANDARD
END:VTIMEZONE
BEGIN:VEVENT
DTSTART;TZID=America/Toronto:20221108T180000
DTEND;TZID=America/Toronto:20221108T180000
DTSTAMP:20231106T201557
CREATED:20221017T165902Z
LAST-MODIFIED:20221107T200003Z
UID:10008243-1667930400-1667930400@journalmetro.com
SUMMARY:Princes arabes
DESCRIPTION:Contenu promotionnel \n\n\n\nAchraf El Ahmed (danse)\, Shahrokh Moshkin-Ghalam (danse)(Tunisie\, Égypte\, Québec) \n\n\n\nIl était une fois où les danseurs de baladi étaient des hommes. Des “zennes” oubliés en faveur des femmes dans l’imaginaire collectif\, mais qui existent bel et bien dans le monde de la danse orientale. De la danse traditionnelle tunisienne au baladi\, Achraf El Abed et Shahrokh Moshkin-Ghalam feront fi de ces codes dans un spectacle emprunt de liberté aussi virtuose qu’envoûtant\, à l’image d’un monde en pleine reconstruction. 
URL:https://journalmetro.com/evenement/princes-arabes/
LOCATION:Cabaret culturel Kawalees\, 5175A Av du Parc\, Montréal\, QC\, H2V 4G3\, Canada
CATEGORIES:Promotionnel
ATTACH;FMTTYPE=image/png:https://journalmetro.com/wp-content/uploads/2022/10/Prince_arabes-3.png
END:VEVENT
BEGIN:VEVENT
DTSTART;TZID=America/Toronto:20221109T200000
DTEND;TZID=America/Toronto:20221109T200000
DTSTAMP:20231106T201557
CREATED:20221017T151403Z
LAST-MODIFIED:20221107T195957Z
UID:10008215-1668024000-1668024000@journalmetro.com
SUMMARY:Juan Carmona
DESCRIPTION:Contenu promotionnel \n\n\n\n(Espagne\, France) \n\n\n\nUn grand nom du flamenco fera trembler ses cordes au FMA. Le grand guitariste Juan Carmona vous racontera la découverte sensorielle d’une Andalousie fantasmée à travers une performance unique\, voyage initiatique au cœur de la musique et de l’histoire espagnole. \n\n\n\nPour ce spectacle inspiré de l’histoire de Zyriab\, illustre précurseur de la musique arabo-andalouse et des noubas\, Juan nous révélera avec dextérité la multitude d’influences musicales dont le poète et musicien de génie s’est imprégné en traversant l’Andalousie. De Bagdad à Cordoue\, c’est à cette odyssée à laquelle nous invite l’ingénieux musicien. Une promesse musicale habitée des sensibilités nomades qui ont fait de l’Andalousie une muse mythique adorée. \n\n\n\nIssu d’une famille exilée d’Afrique du Nord vers la France\, Juan Carmona développe très vite une passion pour la guitare\, démontrant au fil du temps sa virtuosité. Il retourne régulièrement vers l’Espagne\, terre de ses ancêtres\, afin de s’abreuver à la source du flamenco dans la ville de Jerez de la Frontera. 
URL:https://journalmetro.com/evenement/juan-carmona/
LOCATION:Théâtre Paradoxe\, 5959 boulevard Monk\, Montréal\, QC\, Canada
CATEGORIES:Promotionnel
ATTACH;FMTTYPE=image/png:https://journalmetro.com/wp-content/uploads/2022/10/Juan_Carmona_programmation-1.png
END:VEVENT
BEGIN:VEVENT
DTSTART;TZID=America/Toronto:20221111T183000
DTEND;TZID=America/Toronto:20221111T183000
DTSTAMP:20231106T201557
CREATED:20221017T170118Z
LAST-MODIFIED:20221107T195946Z
UID:10008245-1668191400-1668191400@journalmetro.com
SUMMARY:Être en mouvement
DESCRIPTION:Contenu promotionnel \n\n\n\nAmélie Prévost (voix)\, Alida Esmaïl (danse)(Québec) \n\n\n\nDe quoi est fait un corps humain ? A quelles misères\, à quelles contraintes est-il affecté tout au long de son existence ? S’il existe un principe universel auquel l’homme ne peut échapper\, il s’agit bien de la mouvance de son corps au fil du temps.  \n\n\n\nAccompagnée par les interprétations chorégraphiques de la danseuse Alida Esmail\, la poétesse Amélie Prévost déclamera un corpus de poèmes qui interrogent l’acceptation de l’éphémérité de notre enveloppe charnelle. Des mots d’ Abu Nawas à Elkahna Talbi en passant par Sarah Khilaji et ses propres textes\, Amélie touchera de sa voix des motifs variés s’appuyant sensiblement sur le rapport des individus à leur corps et à leur évolution dans les sociétés orientales et occidentales.
URL:https://journalmetro.com/evenement/etre-en-mouvement/
LOCATION:Cabaret culturel Kawalees\, 5175A Av du Parc\, Montréal\, QC\, H2V 4G3\, Canada
CATEGORIES:Promotionnel
ATTACH;FMTTYPE=image/png:https://journalmetro.com/wp-content/uploads/2022/10/etre-en-mouvement_amelie_prevost_programmation-1.png
END:VEVENT
BEGIN:VEVENT
DTSTART;TZID=America/Toronto:20221111T200000
DTEND;TZID=America/Toronto:20221111T200000
DTSTAMP:20231106T201557
CREATED:20221017T142115Z
LAST-MODIFIED:20221107T195940Z
UID:10008209-1668196800-1668196800@journalmetro.com
SUMMARY:Cheikh Sidi Bémol
DESCRIPTION:Contenu promotionnel \n\n\n\nChouf!(Algérie\, France) \n\n\n\nDes chansons vibrantes\, nerveuses à souhait et teintées de blues\, telle est la composition de Chouf!\, le dernier album de Cheikh Sidi Bémol. Porté par le charisme du talentueux Hocine Boukella\, l’album est un appel poignant à l’éveil de nos consciences\, une fenêtre sur un monde en proie à la corruption et au fanatisme religieux\, tout en incarnant une profonde lettre d’amour au rock’n roll. \n\n\n\nC’est en effet dans ce genre que Boukella tire ses racines musicales\, et qui est à l’origine de son désir de chanter et de faire crier sa guitare. Évoluant dans les milieux underground algériens qui ne cessent de réinventer les traditions des musiques maghrébines\, il fera ses premiers pas sur la scène parisienne sous les couverts du groupe Cheikh Sidi Bémol\, traduisant ses inspirations diverses en un style unique qualifié de Gourbi-rock. Mêlant blues\, rock\, mais aussi chaâbi\, gnawa et balades de style celtiques et berbères\, ses textes aux multiples langues puisent dans l’humour et le sarcasme pour défier le statu quo et formuler un profond hymne à la liberté. \n\n\n\nFin observateur des luttes politiques\, sa musique reste porteuse d’optimisme en exprimant une confiance dévouée à travers une jeunesse avide de liberté et assoiffée de changement. Chouf! est un manifeste électrique\, en quête de savoir et tourné vers l’Autre. Teinté d’amour\, en particulier pour les femmes\, il dévoue deux balades en hommage à leur place dans la société\, symbole généreux d’espoir et d’égalité. Un spectacle qui promet d’être exaltant.
URL:https://journalmetro.com/evenement/cheikh-sidi-bemol/
LOCATION:Théâtre Corona\, 2490 Rue Notre Dame O\, Montréal\, QC\, QC\, H3J 1N5\, Canada
CATEGORIES:Promotionnel
ATTACH;FMTTYPE=image/png:https://journalmetro.com/wp-content/uploads/2022/10/Cheikh_Sidi_Bémol_programmation-3.png
END:VEVENT
BEGIN:VEVENT
DTSTART;TZID=America/Toronto:20221111T220000
DTEND;TZID=America/Toronto:20221111T230000
DTSTAMP:20231106T201557
CREATED:20221109T164019Z
LAST-MODIFIED:20221109T164023Z
UID:10008700-1668204000-1668207600@journalmetro.com
SUMMARY:GROSSE ISLE -  Le Bonhomme Sept Heures au Biennale CINARS
DESCRIPTION:Contenu promotionnel \n\n\n\n\n\n\n\nLe 11 novembre 2022\, Grosse Isle aura l’honneur de présenter des extraits de son spectacle Le Bonhomme Sept-Heures – The Bonesetter dans le cadre de la prestigieuse  Biennale CINARS qui rassemblera des centaines de professionnels de l’industrie entre le 7 et le 12 novembre 2022 à Montréal\, Québec. \n\n\n\nLors de l’ouverture des kiosques d’exposants\, Geneviève St-Denis\, Geneviève Nadeau\, ainsi que Danielle Devlin seront présentent au kiosque de La Compagnie du Nord pour présenter les projets du trio\, ainsi que ceux de tous les artistes de La Compagnie. \n\n\n\nSur scène\, le trio présente un sublime mélange de répertoire irlandais\, répertoire québécois et compositions originales. L’union des deux cultures\, l’authenticité et l’immense talent des artistes donnent un impressionnant résultat! Des complaintes aux chansons plus rythmées\, le concert est varié et affiche les 1001 couleurs de ce trio rafraîchissant!  \n\n\n\n\n\n\n\n\n\n\n\n\n\n\n\n\n\n\n\n\n\n\n\nPour en savoir plus sur Grosse Isle\, rendez-vous sur grosse-isle.com ou ses médias sociaux! \n\n\n\nFacebook\n\nYouTube\n\n\n\nPour connaitre la programmation complète de Biennale CINARS 2022\, rendez-vous au cinars.org!
URL:https://journalmetro.com/evenement/grosse-isle-le-bonhomme-sept-heures/
LOCATION:Le National\, 1220 Rue Sainte-Catherine E\, Montréal\, QC\, H2L 2G9\, Canada
CATEGORIES:Promotionnel
ATTACH;FMTTYPE=image/jpeg:https://journalmetro.com/wp-content/uploads/2022/11/WEB-1052-1.jpeg
END:VEVENT
BEGIN:VEVENT
DTSTART;TZID=America/Toronto:20221112T180000
DTEND;TZID=America/Toronto:20221112T180000
DTSTAMP:20231106T201557
CREATED:20221017T170322Z
LAST-MODIFIED:20221107T195933Z
UID:10008252-1668276000-1668276000@journalmetro.com
SUMMARY:Transes en danses
DESCRIPTION:Contenu promotionnel \n\n\n\nNazgol (danse)\, Evenis (danse)\, Don Mescal (DJ)(Egypte\, Québec) \n\n\n\nMille complices se poussent sur la scène du Festival du Monde Arabe. Sous la conduite du collectif montréalais de musique électronique trance-arabic\,Cosmovisions Records\, musiciens et danseuses fusionneront dans un écrin de rencontres impromptues et jubilatoires. Dans un espace hors du temps et multiforme\, le collectif invitera différents artistes et le public dans une série de jam\, mélange d’instruments traditionnels arabes et de musique électronique actuelle\, pour une soirée unique et transcendante emprunte d’émotion communicative. \n\n\n\nCinéma du Musée : 1379-A\, rue Sherbrooke O.Prix du billet: 14$ (taxes incluses) 
URL:https://journalmetro.com/evenement/transes-en-danses/
LOCATION:Cabaret culturel Kawalees\, 5175A Av du Parc\, Montréal\, QC\, H2V 4G3\, Canada
CATEGORIES:Promotionnel
ATTACH;FMTTYPE=image/png:https://journalmetro.com/wp-content/uploads/2022/10/Transes-en-danse.png
END:VEVENT
BEGIN:VEVENT
DTSTART;TZID=America/Toronto:20221112T200000
DTEND;TZID=America/Toronto:20221112T200000
DTSTAMP:20231106T201557
CREATED:20221017T135422Z
LAST-MODIFIED:20221107T195926Z
UID:10008200-1668283200-1668283200@journalmetro.com
SUMMARY:Les Possédés
DESCRIPTION:Contenu promotionnel \n\n\n\n*Création FMA 2022Hello Psychaleppo (électro-tarab\, création visuelle et direction musicale)\, Ahmad Azrak & Lena Chamamyan (chant)\, Fourat Koyo (gnawa)\, Mohamed Masmoudi (co-direction musicale)(Syrie\, France\, Maroc\, Québec) \n\n\n\nDans cette nouvelle lecture de la création Les Possédés (présentée dans sa première interprétation en 2006)\, le FMA ouvre la porte obscure du lâcher prise que nos sociétés modernes redoutent\, libérant les pulsions dionysiaques de la transe dans l’univers de la musique électronique\, fait de démesure\, aux cieux extatiques et psychédéliques. \n\n\n\nLibérées peu à peu de la raison despote\, les cordes se laissent saisir par des vagues pénétrantes\, éternellement recommencées. Des rythmes en spirale\, des airs éthérés\, le souffle d’une mélodie qui se cherche\, l’écume de l’être qui déborde\, l’auditoire est gagné par l’appel répété de fréquences sonores envoûtantes\, comme les falaises sculptées en récifs par le roulis  incessant de l’eau qui se jette sur elles. Et voici que l’évidence nous habite\, un monde fait de circonvolutions\, d’antiennes proclamées en leitmotiv et de syncopes hâtives se dresse autour de notre être ensorcelé.  \n\n\n\nVéritable vedette à la voix ensorcelante provenant de paradis rarement atteints\, la fabuleuse Lena Chamamyan envoûtera le public avec ses tonalités éthérées. Artiste aux identités croisées\, cette chanteuse arméno-syrienne s’est affirmée comme une compositrice et interprète d’une grande virtuosité\, une pionnière du jazz oriental qu’elle a marqué de son sceau. Grâce à ses incantations aux mélodies obsédantes et à l’entêtante délicatesse\, elle invoquera les charmes de l’héritage croisé de la musique damascène pour plonger le public dans une transe enchanteresse. \n\n\n\nAvec une telle facilité qui frise l’insolence\, le grand chanteur Ahmad Azrak portera\, une fois de plus\, les trésors les plus précieux du patrimoine levantin\, ces cantiques des temps anciens qui font tourner derviches et esprits\, dans le monde céleste de l’enchantement et de l’ivresse. Les perles mystiques les plus précieuses et les envolées lyriques se relaient tel un fleuve déchaîné chez ce chanteur au souffle irrésistible qui a marqué de son sceau plusieurs créations du FMA\, du Cercle de l’extase à Qudud Flamenco ! Les transes musicales auxquelles appelle sa voix au timbre tonitruant sont d’une contagiosité irrépressible. Doté d’une présence scénique hors du commun\, il manie avec une justesse redoutable les secrets des rituels sacrés les plus profonds. Jamais avare en défi\, Ahmed Azrak promet un nouveau moment de foisonnement sans pareil! \n\n\n\nVent d’Est\, vent d’Ouest\, les rythmes gnawa se mettent en branle au son des krakebs métalliques\, menés par le guembri dansant de Fourat Koyo et son groupe\, indiquant le chemin libérateur des âmes enchaînées. Tantôt tâtonnant et trébuchant\, tantôt fluide\, le langage de la transe s’apprivoise en un éternel recommencement. Les cadences sacrées reprennent leur ronde où\, les tambours et le ney\, terre et vent dansant autour du feu de notre être ravivé\, révèlent à nouveau ce qui à l’origine nous fût caché. \n\n\n\nDans ce cheminement du même au multiple surgit le jazz\, prince des catharsis qui\, du swing populaire au jazz progressif\, offre aux musiciens une voix unique à l’improvisation. Ce cousin lointain d’Amérique a\, lui aussi\, pavé la voie à la libération des corps en souffrance\, à celle des esprits torturés\, comme en un pavot renouvelable aux infinis parfums. Féru de jazz moderne et de musiques classiques venues d’Orient ou d’Afrique du Nord\, jazzistique\, arabistique\, oudistique\, Mohamed Masmoudi pousse ses recherches et ses techniques instrumentales pour marier les standards du jazz avec un son de  oud unique qui puise dans les maqams arabes et les phrasés issus de plusieurs cultures du monde. \n\n\n\nEnfin\, plus proche de nous\, pris en tenaille entre les diktats du “progrès” et les regrets d’un âge d’or musical vraisemblablement révolu\, l’électro-tarab du compositeur créateuret artiste visuel Hello Psychaleppo habille le tout d’enveloppes sonores et visuelles des plus enivrantes. Ce paradoxe musical\, aux sonorités futuristes teintées de nostalgie\, marie avec une fougue narcotique les traditions musicales ancestrales arabes avec la modernité des musiques électroniques\, donnant lieu à un genre nouveau d’euphorie musicale\, propice aux transes urbaines qui fourmillent en maints lieux au sein des centres-villes\, au détour des autoroutes et des banlieues. En bref\, une fleur du mal pour les docteurs experts en satiété raisonnable\, mais un véritable remède pour tout moderne déphasé. \n\n\n\nPris de convulsions dans des remous cycliques\, celui qui ose accueillir la transe au cœur de son être franchit les frontières d’un royaume étrange aux puissances immémoriales. Les possédés du 23e FMA proposent une musique nouvelle\, une déflagration de notes venues du plus profond de l’être\, avec une dextérité impulsive\, où l’instinct recouvre son plus beau domaine. 
URL:https://journalmetro.com/evenement/les-possedes/
LOCATION:Théâtre Maisonneuve\, 260 Boul. de Maisonneuve Ouest\, 2ème étage\, Montréal\, QC\, H2X 1Y9\, Canada
CATEGORIES:Promotionnel
ATTACH;FMTTYPE=image/jpeg:https://journalmetro.com/wp-content/uploads/2022/10/Possedes-1920x1080-2.jpg
END:VEVENT
BEGIN:VEVENT
DTSTART;TZID=America/Toronto:20221113T200000
DTEND;TZID=America/Toronto:20221113T200000
DTSTAMP:20231106T201557
CREATED:20221017T140244Z
LAST-MODIFIED:20221107T195851Z
UID:10008202-1668369600-1668369600@journalmetro.com
SUMMARY:Harem
DESCRIPTION:Contenu promotionnel \n\n\n\n*Création FMA 2022 – Soirée de clôtureHela Melki (chant)\, Ilhan Karabacak\, Shahrokh Moshkin-Ghalam\, Chanel Cheiban (danse)(Tunisie\, Iran\, Turquie\, Etats-Unis\, Québec) \n\n\n\n« Nous évoquons le harem parce qu’il renvoie indéniablement à l’un des sujets miroirs entre les “mondes”: le rapport à la femme. La femme de “l’autre bord” est la mesure de nos fantasmes et complexes. Libre ou disponible\, sensuelle ou soumise\, elle est en alternance objet de désir clandestin et lieu d’adversité collective. Revisiter le Harem\, c’est autant recouvrer l’érotisme et repeupler le corps de sa transcendance originelle que déjouer les différences\, les représentations et les tensions. Il n’y a pas de meilleur espace imaginaire que ce lieu de réclusion pour explorer nos perceptions des opposés\, déserter nos a priori et tenter une autre façon de vivre la différence\, qu’elle soit sexuelle ou culturelle !»   \n\n\n\nExtrait de la présentation d’Harem (2005) \n\n\n\n“Shahrokh Moshkin Ghalam\, an accomplished dancer\, actor and choreographer\, was giving the audience a lesson in the art of seduction…”Huffpost (2017) \n\n\n\n“Quel choc\, la vision de l’androgyne Ilhan Karabacak ondoyant majestueusement\, fin\, seul sur l’immense scène vide du Théâtre Maisonneuve\, restera à jamais gravée dans la mémoire du public […] Chapeau aux organisateurs du Festival du Monde Arabe d’avoir déniché une telle perle”Stéphanie Brody\, La Presse (2005) \n\n\n\n“Avec une voix limpide et puissante\, la diva montante Hela Melki aura charmé un public des grands jours\, un public somptueux…”Webdo (2019) \n\n\n\nRelecture en miroir du spectacle éponyme datant de 2005\, Harem tente des réappropriations nouvelles et singulières du corps oriental féminin\, source d’énigmes et de passions rêvées.  \n\n\n\nDu spirituel à la séduction\, en passant par la transe\, l’introspection et la recherche de soi\, les danseurs révèlent ce voyage intérieur qui cherche la lumière féminine du dehors. Ils parcourent\, avec une témérité sans égale\, la palette d’émotions qui pénètrent l’insaisissable corps ainsi que les mutations profondes qui le traversent\, quand bien même l’on cherche à le façonner à notre guise. Lieu de tous les interdits où s’assouvissent les plaisirs cachés\, le harem apparaît alors comme le temple de mystères inavoués\, de sacrés insoupçonnables\, mais aussi le sanctuaire défendu où se joue la quête d’un idéal rarement saisi. \n\n\n\nDans cette création audacieuse qui mêle le répertoire somptueux des chansons arabes classiques aux questionnements obsessifs portant sur les quêtes du Tout Identitaire\, la résurgence du corps devient le fil d’Ariane intrépide qui se dévide dans les dédales d’un labyrinthe hanté par le désir. Venus d’horizons où le soleil ne brille qu’aux confins de la marge\, des hommes et des femmes\, danseurs d’un charnel inextricable\, sondent ainsi\, sous nos yeux indiscrets\, la clef de voûte du secret de leur être\, au cœur d’un véritable harem musical et scénographique. \n\n\n\nLa chanteuse Hela Melki\, à la voix puissante et généreuse\, parcourt les deux rives de la Méditerranée à la recherche des récits de désir et de passion\, alors que deux pointures de la danse orientale au masculin\, Ilhan Karabacak et Shahrokh Moshkin-Ghalam\, se croisent pour la première fois sur les planches du Théâtre Maisonneuve de la Place des Arts. Les deux danseurs se livrent avec fougue à un pas de deux hétéroclite et sensuel\, à une mutinerie des corps improvisée où l’on dialogue et s’approprie les codes sophistiqués des rites sacrés et de la danse persane\, mère du kathakali et du flamenco. Se joint à eux la jeune danseuse chorégraphe Chanel Cheiban\, originaire du Liban\, pour se fondre dans cet univers musical libre qu’elle s’approprie et interprète avec fraîcheur\, dans une gestuelle qui emprunte aux pratiques orientales ancestrales et aux techniques de danse les plus avant-gardistes. \n\n\n\nEntourée de musiciens virtuoses\, Hela Melki habille la danse de poèmes et de chants qui célèbrent le corps\, revivifiant toute la sensualité et la beauté de la poésie et de la littérature arabes. Elle entonne aussi bien des vocalises sensationnelles et renversantes que des mélodies lyriques et romantiques du répertoire classique\, exultant l’amour clandestin\, la passion fiévreuse et l’interdit brûlant.  \n\n\n\nÀ sa première participation\, lors du 6e FMA en 2005\, le danseur d’origine turque Ilhan Karabacak a séduit le public avec sa danse charismatique et sensuelle. Il récidive plusieurs fois\, avec un grand succès\, notamment avec la première mouture de la présente création. “Ensorcelant. Dans Les Possédés\, au FMA en 2006\, Ilhan Karabaçak avait marqué l’imaginaire du public avec sa maîtrise du rythme et sa capacité de bouger en isolant les différentes parties de son corps”\, écrit Le Devoir en 2009. \n\n\n\nShahrokh Moshkin-Ghalam\, artiste iranien spécialiste des danses mystiques et traditionnelles revisitées du Moyen-Orient\, créateur exilé-engagé venu du monde du théâtre et de la littérature\, fait briller son astre une fois de plus sur les scènes du FMA. Puisant dans sa mémoire “persane’’\, il retrace ces pas de femme qui résonnent encore en Turquie\, dans le Caucase\, en Irak\, en Afghanistan et jusque en Inde où\, le kathakali\, inspiré en partie par la danse iranienne\, a engendré le flamenco. \n\n\n\nHarem\, une visite ouverte du lieu féminin\, réel ou imaginaire\, vu d’ici ou de là-bas\, approprié par des hommes ou par des femmes\, conjugué au singulier comme au pluriel. Une fenêtre grande ouverte sur le beau que peuvent tisser des corps libres\, déchaînés et croisés ! 
URL:https://journalmetro.com/evenement/harem/
LOCATION:Théâtre Maisonneuve\, 260 Boul. de Maisonneuve Ouest\, 2ème étage\, Montréal\, QC\, H2X 1Y9\, Canada
CATEGORIES:Promotionnel
ATTACH;FMTTYPE=image/jpeg:https://journalmetro.com/wp-content/uploads/2022/10/Harem-775x515-2.jpg
END:VEVENT
END:VCALENDAR