BEGIN:VCALENDAR
VERSION:2.0
PRODID:-//Journal Métro - ECPv6.0.13//NONSGML v1.0//EN
CALSCALE:GREGORIAN
METHOD:PUBLISH
X-WR-CALNAME:Journal Métro
X-ORIGINAL-URL:https://journalmetro.com
X-WR-CALDESC:évènements pour Journal Métro
REFRESH-INTERVAL;VALUE=DURATION:PT1H
X-Robots-Tag:noindex
X-PUBLISHED-TTL:PT1H
BEGIN:VTIMEZONE
TZID:America/Toronto
BEGIN:DAYLIGHT
TZOFFSETFROM:-0500
TZOFFSETTO:-0400
TZNAME:EDT
DTSTART:20220313T070000
END:DAYLIGHT
BEGIN:STANDARD
TZOFFSETFROM:-0400
TZOFFSETTO:-0500
TZNAME:EST
DTSTART:20221106T060000
END:STANDARD
BEGIN:DAYLIGHT
TZOFFSETFROM:-0500
TZOFFSETTO:-0400
TZNAME:EDT
DTSTART:20230312T070000
END:DAYLIGHT
BEGIN:STANDARD
TZOFFSETFROM:-0400
TZOFFSETTO:-0500
TZNAME:EST
DTSTART:20231105T060000
END:STANDARD
END:VTIMEZONE
BEGIN:VEVENT
DTSTART;TZID=America/Toronto:20221123T000000
DTEND;TZID=America/Toronto:20221203T235959
DTSTAMP:20231106T085312
CREATED:20221123T005940Z
LAST-MODIFIED:20221123T014053Z
UID:10008850-1669161600-1670111999@journalmetro.com
SUMMARY:L’exposition « Osez Marguerite! »
DESCRIPTION:Contenu Promotionnel \n\n\n\n\n\n\n\n\n\n\n\nVisitez l’exposition « Osez Marguerite! » pour découvrir cette femme inspirante et courageuse dont le Site porte le nom. Une fois sur place\, accédez au belvédère. L’accès est inclus dans le prix du billet pour la visite du Site.  \n\n\n\nVivez une expérience inédite dans un parcours thématique incluant\, entre autres\, des salles muséales réaménagées\, un site archéologique et une voûte de pierre du 18e siècle. Découvrez l’épopée humaine de la première enseignante de Montréal\, son dynamisme et son audace. \n\n\n\n\n\n\n\n\nAdulte : 15\,77$\n\n\n\nÉtudiants (18-25 ans – preuve requise): 8\,45$\n\n\n\nAinés (65 ans et plus):   13\,68$\n\n\n\nJeunes (13 ans à 17 ans): 6\,37$\n\n\n\nEnfants: Gratuit\n\n\n\nFamille (2 adultes et maximum 2 jeunes): 32\,49$\n\n\n\nAccèes au Belvédère : 10\,54$\n\n\n\n\n\nBillets\n\n\n\n\n\n\n\n\nPour en savoir davantage\, visitez margueritebourgeoys.org ou abonnez-vous aux médias sociaux! \n\n\n\n\n\n\n\nFacebook\n\nInstagram\n\nYouTube
URL:https://journalmetro.com/evenement/lexposition-osez-marguerite-en-primeur/
LOCATION:Site historique Marguerite-Bourgeoys\, 400 rue Saint-Paul Est\, Montréal\, QC\, H2Y 1H4\, Canada
CATEGORIES:Promotionnel
ATTACH;FMTTYPE=image/png:https://journalmetro.com/wp-content/uploads/2022/11/Screen-Shot-2022-11-22-at-8.29.13-PM.png
END:VEVENT
BEGIN:VEVENT
DTSTART;TZID=America/Toronto:20221130T000000
DTEND;TZID=America/Toronto:20221130T235959
DTSTAMP:20231106T085312
CREATED:20221020T171554Z
LAST-MODIFIED:20230216T200501Z
UID:10008328-1669766400-1669852799@journalmetro.com
SUMMARY:Collecte de sang
DESCRIPTION:Contenu promotionnel \n\n\n\nDONNEZ DU SANG. DONNEZ LA VIE. \n\n\n\nLes besoins sanguins des malades sont quotidiens. Tous les jours\, il importe que les personnes en santé prennent un peu de leur temps pour partager ce qu’elles ont de plus précieux : leur sang. \n\n\n\n\n\n\n\nA QUOI DOIS-JE M’ATTENDRE? \n\n\n\nSuivez le parcours du donneur en collecte… étape par étape! \n\n\n\n\n\n\n\n\n\nLe sang est un produit unique\, essentiel et irremplaçable\, pour lequel il n’existe aucun substitut. Le maintien de la réserve collective repose entièrement sur la générosité de personnes soucieuses de partager leur santé. Pour combler les besoins en produits sanguins de la population québécoise\, 1000 dons par jour sont nécessaires. \n\n\n\nChaque don de sang peut contribuer à sauver plusieurs vies. En posant ce geste remarquable de solidarité\, les donneurs sont considérés comme de véritables héros anonymes. Les receveurs et les malades en attente de composants sanguins unissent leur voix pour leur dire « merci ».
URL:https://journalmetro.com/evenement/collecte-de-sang/
LOCATION:Centre communautaire Roussin\, 12125\, rue Notre-Dame E\, Pointe-aux-Trembles\, QC\, H1B 2Y9\, Canada
CATEGORIES:Promotionnel
ATTACH;FMTTYPE=image/jpeg:https://journalmetro.com/wp-content/uploads/2022/10/Hema-Quebec_photo.jpg
END:VEVENT
BEGIN:VEVENT
DTSTART;TZID=America/Toronto:20221130T000000
DTEND;TZID=America/Toronto:20221130T235959
DTSTAMP:20231106T085313
CREATED:20221104T141615Z
LAST-MODIFIED:20230216T200457Z
UID:10008593-1669766400-1669852799@journalmetro.com
SUMMARY:Collecte de sang
DESCRIPTION:Contenu promotionnel \n\n\n\nDONNEZ DU SANG. DONNEZ LA VIE. \n\n\n\nLes besoins sanguins des malades sont quotidiens. Tous les jours\, il importe que les personnes en santé prennent un peu de leur temps pour partager ce qu’elles ont de plus précieux : leur sang. \n\n\n\n\n\n\n\nA QUOI DOIS-JE M’ATTENDRE? \n\n\n\nSuivez le parcours du donneur en collecte… étape par étape! \n\n\n\n\n\n\n\n\n\nLe sang est un produit unique\, essentiel et irremplaçable\, pour lequel il n’existe aucun substitut. Le maintien de la réserve collective repose entièrement sur la générosité de personnes soucieuses de partager leur santé. Pour combler les besoins en produits sanguins de la population québécoise\, 1000 dons par jour sont nécessaires. \n\n\n\nChaque don de sang peut contribuer à sauver plusieurs vies. En posant ce geste remarquable de solidarité\, les donneurs sont considérés comme de véritables héros anonymes. Les receveurs et les malades en attente de composants sanguins unissent leur voix pour leur dire « merci ».
URL:https://journalmetro.com/evenement/collecte-de-sang-2/
LOCATION:Centre communautaire Roussin\, 12125\, rue Notre-Dame E\, Pointe-aux-Trembles\, QC\, H1B 2Y9\, Canada
CATEGORIES:Promotionnel
ATTACH;FMTTYPE=image/png:https://journalmetro.com/wp-content/uploads/2022/11/Screenshot-2022-11-04-at-10.15.31-AM.png
END:VEVENT
BEGIN:VEVENT
DTSTART;TZID=America/Toronto:20221201T173000
DTEND;TZID=America/Toronto:20221201T233000
DTSTAMP:20231106T085313
CREATED:20221101T143933Z
LAST-MODIFIED:20221107T195125Z
UID:10008506-1669915800-1669937400@journalmetro.com
SUMMARY:Sud-Ouest en fête
DESCRIPTION:Contenu promotionnel \n\n\n\nLa SDC Les Quartiers du Canal vous invite le 1er décembre prochain au New City Gas dès 17h30 pour Horizon\, votre soirée en l’honneur des résidents et commerçants du Sud-Ouest. Une grande fête gratuite et accessible à toutes personnes majeures. \n\n\n\nHorizon pour se retrouver\, échanger\, découvrir\, s’amuser\, danser et tous réunis dans une grande fête qui fait du bien. \n\n\n\nProgrammation de la soirée : \n\n\n\nLa Vitrine | 17h30 à 19h30Immersion au cœur d’une communauté vibrante : expériences\, contenu et connexion \n\n\n\n\n\n\n\n\n\nConférences sur thématiques actuelles de 18h15 à 19h10 \n\n\n\nVenez assister à trois contenus simultanés avec des thématiques variées : \n\n\n\n\nIntervention de BNC (18H15 à 18h30)\n\n\n\nIntervention de La Piscine (18h40 à 19h10)\n\n\n\nRachelle Houde (18h40 à 19h10)\n\n\n\n\n\n\n\n\n\n\nPanel de discussion en direct avec Catherine Lefebvre de 18h30 à 19h30 \n\n\n\nEn immersion avec 3 restaurateurs du Sud-Ouest qui ont su s’élever pendant la pandémie mondiale. \n\n\n\nPanel de discussion animé par Catherine Lefebvre\, co-animatrice du balado On s’appelle et on déjeune sur OHdio\, chroniqueuse alimentation et voyage. \n\n\n\n\n\n\n\n\n\nPerformances du Cirque Carpe Diem et DJ Esther Côté de 18h00 à 19h30 \n\n\n\nAssistez pendant ce 5@7 festif à des performances artistiques du Cirque Carpe Diem et de la DJ Esther Côté. Le tout servi avec un cocktail imaginé spécialement pour cette soirée. \n\n\n\n\n\nRéservez votre billet ici : https://www.tixr.com/groups/newcitygas/events/horizon-54156 \n\n\n\nL’entrée est gratuite et ouverte aux personnes majeures. Réservez votre place dès maintenant en cliquant ici 👇 : https://www.tixr.com/groups/newcitygas/events/horizon-54156 \n\n\n\n \n\n\n\nSud-Ouest en fête | 20h00 à minuitSoirée musicale 100% féminine \n\n\n\n\n\n\n\n\n\nLa bronze de 20h00 à 21h00 \n\n\n\nLa Bronze est une autrice-compositrice-interprète et instrumentiste maroco-canadienne. Elle a commencé sa carrière musicale sous le nom de La Bronze en 2014. Elle chante en français\, arabe\, anglais et parfois en espagnol. \n\n\n\n\n\n\n\n\n\nMilk & Bone de 21h35 à 22h00 \n\n\n\nMilk & Bone est un duo électropop canadien basé à Montréal\, au Québec et formé par Laurence Lafond-Beaulne et Camille Poliquin. Leur premier album Little Mourning\, lancé en 2015 par Bounsound\, a été nominé de longue date pour le Prix Polaris Music 2015. Bien que les deux membres du groupe soient francophones\, elles écrivent et enregistrent en anglais. \n\n\n\n\n\n\n\n\n\nDJ Karaba de 22h15 à 00h \n\n\n\nKaraba est une Dj/Productrice de Montréal. Ayant grandi avec un père congolais\, sa musique est grandement influencée par ses racines africaines. Elle a été danseuse professionnelle pendant de nombreuses années\, faisant des tournées dans les stades du monde entier. \n\n\n\n\n\nSite web : https://lesquartiersducanal.com/soiree-horizon \n\n\n\nInsta : https://www.instagram.com/lesquartiersducanal/Facebook : https://www.facebook.com/lesquartiersducanal/Twitter : https://twitter.com/QuartiersCanalYouTube : https://www.youtube.com/channel/UC9sMQUc7n_MOkXUU46ZOy-w/videos
URL:https://journalmetro.com/evenement/sud-ouest-en-fete/
LOCATION:New City Gas\, 950 Rue Ottawa\, Montréal\, QC\, H3C 1S4\, Canada
CATEGORIES:Promotionnel
ATTACH;FMTTYPE=image/jpeg:https://journalmetro.com/wp-content/uploads/2022/11/Horizon_LesQuartiersDuCanal.jpg
END:VEVENT
BEGIN:VEVENT
DTSTART;TZID=America/Toronto:20221201T193000
DTEND;TZID=America/Toronto:20221201T210000
DTSTAMP:20231106T085313
CREATED:20221122T201853Z
LAST-MODIFIED:20221123T014839Z
UID:10008373-1669923000-1669928400@journalmetro.com
SUMMARY:Concert-bénéfice et ouverture des Choralies avec Natalie Choquette et ses filles
DESCRIPTION:Contenu Promotionnel \n\n\n\n\n\n\n\n\n\n\n\nDurant tout le mois de décembre\, le Site historique Marguerite-Bourgeoys vous propose de vivre pleinement la féérie des fêtes dans le Vieux-Montréal avec une foule d’activités pour toute la famille. \n\n\n\nLe 1er décembre à 19 h 30\, vivez une soirée inoubliable sur le thème « Un vrai Noël en famille ! » : un concert unique où mots et musiques seront offerts par Natalie Choquette et ses filles : Florence K\, Éléonore et Ariane Lagacé\, ainsi que sa petite-fille Alice.  \n\n\n\nChaleur humaine\, ambiance festive et belles voix seront au rendez-vous\, dans la magnifique Chapelle Notre-Dame-de-Bon-Secours.   \n\n\n\n\n\n\n\n\nBillets privilège : 175 $ (incluant un cocktail avec les artistes et un reçu d’impôt pour don de 100$.) \n\n\n\nBillets réguliers : 40 $.  \n\n\n\nEnfants : 20 $\n\n\n\n\n\nBillets\n\n\n\n\n\n\n\n\nPour en savoir davantage\, visitez margueritebourgeoys.org ou abonnez-vous aux médias sociaux! \n\n\n\n\n\n\n\nFacebook\n\nInstagram\n\nYouTube
URL:https://journalmetro.com/evenement/concert-benefice-et-ouverture-des-choralies-avec-natalie-choquette-et-ses-filles/
LOCATION:Chapelle Notre Dame de Bon Secours\, 400 rue Saint-Paul Est\, Montréal\, QC\, H2Y 1H4\, Canada
CATEGORIES:Promotionnel
ATTACH;FMTTYPE=image/jpeg:https://journalmetro.com/wp-content/uploads/2022/11/Noel_Famille_Vert_BR-1536x1536_1000x697.jpeg
END:VEVENT
BEGIN:VEVENT
DTSTART;TZID=America/Toronto:20221203T000000
DTEND;TZID=America/Toronto:20230122T235959
DTSTAMP:20231106T085313
CREATED:20221222T183414Z
LAST-MODIFIED:20221222T195102Z
UID:10009269-1670025600-1674431999@journalmetro.com
SUMMARY:Venez participer à la chasse au trésor Vitrines d'Hiver!
DESCRIPTION:Contenu promotionnel \n\n\n\n\n\n\n\nLes Quartiers du Canal en collaboration avec Amaze sont fiers de vous présenter pour la deuxième année consécutive « Vitrines d’Hiver »\, une chasse au trésor du temps des Fêtes dans les quartiers Saint-Henri et Petite-Bourgogne.  \n\n\n\nDu 3 décembre au 22 janvier venez admirez les vitrines des commerces participants\, élucidez les énigmes cachées dans les vitrines et tentez votre chance de gagner une carte-cadeau d’une valeur de 250 $ à l’Hôtel Alt Montréal.  \n\n\n\nParmi les participants\, découvrez les vitrines de: \n\n\n\n\n–Amaze Atwater\n\n\n\n–Vracs & Bocaux\n\n\n\n–Marché Underground\n\n\n\n–TNT Lancer de Hache\n\n\n\n–Café Saint-Henri\n\n\n\n–Maison des jeunes La Galerie\n\n\n\n–Crossover Comics \n\n\n\n–Karibu\n\n\n\n–Marché Atwater\n\n\n\n–Marché Bleuet\n\n\n\n–Lili & Oli\n\n\n\n–Librairie Livresse\n\n\n\n–Mamie Clafoutis\n\n\n\n-Et Salon Colibri\n\n\n\n\nL’événement est gratuit et accessible à tous! Le parcours contient plusieurs arrêts mais celui-ci commence au A/Maze! \n\n\n\n\n\n\n\n\n\n\n\n\n\n\n\n\n\n\n\n\n\nPour en savoir davantage\, visitez les pages médiatiques de l’évènement. \n\n\n\n\n\n\n\nFacebook\n\nInstagram
URL:https://journalmetro.com/evenement/venez-participer-a-la-chasse-au-tresor-vitrines-dhiver/
LOCATION:QC
CATEGORIES:Promotionnel
ATTACH;FMTTYPE=image/png:https://journalmetro.com/wp-content/uploads/2022/12/Image-principale-Vitrines-dHiver.png
END:VEVENT
BEGIN:VEVENT
DTSTART;TZID=America/Toronto:20221204T000000
DTEND;TZID=America/Toronto:20221205T235959
DTSTAMP:20231106T085313
CREATED:20221107T212911Z
LAST-MODIFIED:20221107T212950Z
UID:10008664-1670112000-1670284799@journalmetro.com
SUMMARY:La saison de CASSE-NOISETTE est arrivée
DESCRIPTION:Contenu promotionnel \n\n\n\n\n\n\n\nBallet Ouest est de retour avec sa production acclamée de Casse-Noisette les 3 et 4 décembre prochains à la Salle Pierre-Mercure du Centre Pierre Péladeau à Montréal. Cette version intégrale du classique bien-aimé du temps des Fêtes met en vedette plus de 40 danseurs et danseuses de la compagnie auxquels se joignent 80 jeunes enfants\, parfaitement intégrés pour offrir l’expérience complète de Casse-Noisette. \n\n\n\nDirecteur artistique : Claude Caron \n\n\n\nObtenez vos billets maintenant : https://centrepierrepeladeau.tuxedobillet.com/main/casse-noisette-2022 \n\n\n\nSite web : https://www.balletouest.com/Facebook : https://www.facebook.com/balletouestdemontreal/Vimeo : https://vimeo.com/balletouestdemontrealInsta : https://www.instagram.com/balletouest/
URL:https://journalmetro.com/evenement/la-saison-de-casse-noisette-est-arrivee/
LOCATION:Centre Pierre-Péladeau\, Salle Pierre-Mercure\, 300 Boul. Maisonneuve Est\, Montréal\, QC\, H2X 3X6\, Canada
CATEGORIES:Promotionnel
ATTACH;FMTTYPE=image/jpeg:https://journalmetro.com/wp-content/uploads/2022/11/312362187_2342348882579332_7537374184340544664_n-1.jpg
END:VEVENT
BEGIN:VEVENT
DTSTART;TZID=America/Toronto:20221204T103000
DTEND;TZID=America/Toronto:20221204T113000
DTSTAMP:20231106T085313
CREATED:20221112T171354Z
LAST-MODIFIED:20221122T150337Z
UID:10008775-1670149800-1670153400@journalmetro.com
SUMMARY:Nicolas Boulerice: concert Confiné aux voyages dans le cadre des Rendez-vous festifs des bibliothèques
DESCRIPTION:Contenu promotionnel \n\n\n\n\n\n\n\nNicolas Boulerice (aussi membre du groupe Le Vent du Nord) et le contrebassiste Frédéric Samson s’unissent pour vous offrir le spectacle envoûtant Confiné aux voyages qui met de l’avant de magnifiques complaintes et chansons traditionnelles accompagnées d’ambiances sonores captées à Saint-Antoine-sur-Richelieu.  \n\n\n\nCette rencontre\, qui est d’abord celle d’un territoire et d’un répertoire\, puis celle d’une voix et d’une contrebasse\, se déroule sous le thème du voyage\, de la mémoire et de l’amour. Sur scène s’ajoute un personnage seul\, confiné dans son salon\, qui permettra au public d’entendre des chants d’outardes\, de sorcière de vent et de moteur de bateau en plus de voir des images de l’infiniment petit et de l’infiniment grand. C’est un moment pour écouter des histoires\, remonter dans le temps et s’inventer des souvenirs.  \n\n\n\nCe concert est inspiré de l’album Maison de pierres – Confiné aux voyages qui a été lancé en novembre dernier \n\n\n\n\n\n\n\n\n\n\n\n\n\n\n\n\n\n\n\n\n\n\n\n\n\n\n\nPour en savoir davantage\, rendez-vous au nicolasboulerice.com ou sur ses médias sociaux! \n\n\n\nFacebook\n\nSpotify
URL:https://journalmetro.com/evenement/nicolas-boulerice-confine-aux-voyages/
LOCATION:Bibliothèque Adélard-Berger\, 180 Rue Laurier\, Saint-Jean-sur-Richelieu\, QC\, J3B 6K5\, Canada
CATEGORIES:Promotionnel
ATTACH;FMTTYPE=image/jpeg:https://journalmetro.com/wp-content/uploads/2022/11/nicolas-boulerice-maison-de-pierres-photo-tz10564-1.jpg
END:VEVENT
END:VCALENDAR