BEGIN:VCALENDAR
VERSION:2.0
PRODID:-//Journal Métro - ECPv6.0.13//NONSGML v1.0//EN
CALSCALE:GREGORIAN
METHOD:PUBLISH
X-WR-CALNAME:Journal Métro
X-ORIGINAL-URL:https://journalmetro.com
X-WR-CALDESC:évènements pour Journal Métro
REFRESH-INTERVAL;VALUE=DURATION:PT1H
X-Robots-Tag:noindex
X-PUBLISHED-TTL:PT1H
BEGIN:VTIMEZONE
TZID:America/Toronto
BEGIN:DAYLIGHT
TZOFFSETFROM:-0500
TZOFFSETTO:-0400
TZNAME:EDT
DTSTART:20220313T070000
END:DAYLIGHT
BEGIN:STANDARD
TZOFFSETFROM:-0400
TZOFFSETTO:-0500
TZNAME:EST
DTSTART:20221106T060000
END:STANDARD
BEGIN:DAYLIGHT
TZOFFSETFROM:-0500
TZOFFSETTO:-0400
TZNAME:EDT
DTSTART:20230312T070000
END:DAYLIGHT
BEGIN:STANDARD
TZOFFSETFROM:-0400
TZOFFSETTO:-0500
TZNAME:EST
DTSTART:20231105T060000
END:STANDARD
END:VTIMEZONE
BEGIN:VEVENT
DTSTART;TZID=America/Toronto:20221223T000000
DTEND;TZID=America/Toronto:20230305T235959
DTSTAMP:20231102T225825
CREATED:20230102T182939Z
LAST-MODIFIED:20230104T163346Z
UID:10009313-1671753600-1678060799@journalmetro.com
SUMMARY:Activités hivernales au parc Jean-Drapeau: la raquette
DESCRIPTION:Contenu Promotionnel \n\n\n\n\n\n\n\n\n\n\n\nUn des sports les plus faciles\, amusants et accessibles pour tous les membres de la famille pendant la saison hivernale\, est la raquette.  \n\n\n\nQue ce soit pour observer la faune et la nature\, profiter d’un moment en plein air ou faire le plein d’énergie\, ce loisir est tout adapté pour apprivoiser l’hiver de la meilleure façon qui soit. Les raquettes vous permettront une marche agréable dans les sentiers du mont Boullé. \n\n\n\nJusqu’au 5 mars\, embrassez votre nordicité à travers une panoplie d’activités exaltantes et des installations de qualité de supérieure. \n\n\n\nLes activités sont gratuites et accessibles à tous! \n\n\n\n\n\n\n\n\n\n\n\n\n\nPour en savoir davantage sur les activités hivernales du parc Jean-Drapeau\, visitez le site web du Parc ou leurs médias sociaux! \n\n\n\n\n\n\n\n\n\n\n\nFacebook\n\nInstagram\n\nYouTube
URL:https://journalmetro.com/evenement/activites-hivernales-au-parc-jean-drapeau-la-raquette/
LOCATION:Parc Jean-Drapeau\, Île Sainte-Hélène\, Montréal\, H3C 4W7\, Canada
CATEGORIES:Promotionnel
ATTACH;FMTTYPE=image/jpeg:https://journalmetro.com/wp-content/uploads/2023/01/Raquette-2-A©-Parc-Jean-Drapeau_1200x687.jpeg
END:VEVENT
BEGIN:VEVENT
DTSTART;TZID=America/Toronto:20221223T000000
DTEND;TZID=America/Toronto:20230305T235959
DTSTAMP:20231102T225825
CREATED:20230102T184804Z
LAST-MODIFIED:20230202T151335Z
UID:10009314-1671753600-1678060799@journalmetro.com
SUMMARY:Activités hivernales au parc Jean-Drapeau: le vélo d'hiver
DESCRIPTION:Contenu Promotionnel \n\n\n\n\n\n\n\nVenez apprivoiser le vélo d’hiver dans les sentiers du parc Jean-Drapeau. Ces vélos aux pneus surdimensionnés permettent d’avoir de la traction et de maintenir le contrôle sur plusieurs types de surfaces\, dont la neige.  \n\n\n\nUne boucle destinée à l’initiation du vélo d’hiver est disponible à proximité du centre de location. Après avoir maîtrisé ce nouveau mode de transport actif qui gagne en popularité\, partez à la découverte du parc Jean-Drapeau et de ses nombreux points de vue exceptionnels! \n\n\n\nJusqu’au 5 mars\, embrassez votre nordicité à travers une panoplie d’activités exaltantes et des installations de qualité de supérieure. \n\n\n\nLes activités sont gratuites et accessibles à tous! \n\n\n\n\n\n\n\nPour en savoir davantage sur les activités hivernales du parc Jean-Drapeau\, visitez le site web du Parc ou leurs médias sociaux! \n\n\n\n\n\n\n\n\n\n\n\nFacebook\n\nInstagram\n\nYouTube
URL:https://journalmetro.com/evenement/activites-hivernales-au-parc-jean-drapeau-le-velo-dhiver/
LOCATION:Parc Jean-Drapeau\, Île Sainte-Hélène\, Montréal\, H3C 4W7\, Canada
CATEGORIES:Promotionnel
ATTACH;FMTTYPE=image/jpeg:https://journalmetro.com/wp-content/uploads/2023/01/VA©lo-dhiver-1-A©-Parc-Jean-Drapeau_1200x680.jpeg
END:VEVENT
BEGIN:VEVENT
DTSTART;TZID=America/Toronto:20221223T000000
DTEND;TZID=America/Toronto:20230305T235959
DTSTAMP:20231102T225825
CREATED:20230102T190105Z
LAST-MODIFIED:20230104T164606Z
UID:10009316-1671753600-1678060799@journalmetro.com
SUMMARY:Activités hivernales au parc Jean-Drapeau: le ski de fond
DESCRIPTION:Contenu promotionnel \n\n\n\n\n\n\n\nAu parc Jean-Drapeau\, près de 8 km de sentiers sont balisés et entretenus mécaniquement par nos équipes. Chaque matin\, notre personnel se fait un devoir d’assurer une glisse de qualité pour les skieurs.  \n\n\n\nGrâce aux différentes pistes aménagées au Parc\, les athlètes débutants et chevronnés peuvent profiter pleinement d’une expérience sur-mesure. Une activité hivernale par excellence! \n\n\n\nJusqu’au 5 mars\, embrassez votre nordicité à travers une panoplie d’activités exaltantes et des installations de qualité de supérieure. \n\n\n\nLes activités sont gratuites et accessibles à tous! \n\n\n\n\n\n\n\n\n\n\n\n\n\n\n\n\n\nPour en savoir davantage sur les activités hivernales du parc Jean-Drapeau\, visitez le site web du Parc ou leurs médias sociaux! \n\n\n\n\n\n\n\n\n\n\n\nFacebook\n\nInstagram\n\nYouTube
URL:https://journalmetro.com/evenement/activites-hivernales-au-parc-jean-drapeau-le-ski-de-fond/
LOCATION:Parc Jean-Drapeau\, l’île Notre-Dame\, Montréal\, QC\, H3C 4W7\, Canada
CATEGORIES:Promotionnel
ATTACH;FMTTYPE=image/jpeg:https://journalmetro.com/wp-content/uploads/2023/01/Ski-de-fond-2-A©-Parc-Jean-Drapeau_1200x653.jpeg
END:VEVENT
BEGIN:VEVENT
DTSTART;TZID=America/Toronto:20221223T000000
DTEND;TZID=America/Toronto:20230305T235959
DTSTAMP:20231102T225825
CREATED:20230102T191623Z
LAST-MODIFIED:20230104T164924Z
UID:10009319-1671753600-1678060799@journalmetro.com
SUMMARY:Activités hivernales au parc Jean-Drapeau: la glissade libre
DESCRIPTION:Contenu promotionnel \n\n\n\n\n\n\n\nVenez dévaler la pente naturelle de l’Espace 67. Puisque la zone est dépourvue de tout obstacle\, les enfants peuvent glisser en toute sécurité. Un sentier\, situé à l’extrémité de la zone de glisse\, vous permet une remontée facile et sans effort.  \n\n\n\nApportez votre luge\, votre traîneau\, votre tapis de glisse\, votre planche en mousse ou tout autre moyen loufoque et venez découvrir cet endroit magnifique. Du plaisir en perspective et une activité incontournable pour tous les membres de la famille. \n\n\n\nJusqu’au 5 mars\, embrassez votre nordicité à travers une panoplie d’activités exaltantes et des installations de qualité de supérieure. \n\n\n\nLes activités sont gratuites et accessibles à tous! \n\n\n\n\n\n\n\nPour en savoir davantage sur les activités hivernales du parc Jean-Drapeau\, visitez le site web du Parc ou leurs médias sociaux! \n\n\n\n\n\n\n\n\n\n\n\nFacebook\n\nInstagram\n\nYouTube
URL:https://journalmetro.com/evenement/activites-hivernales-au-parc-jean-drapeau-glissade-libre/
LOCATION:Parc Jean-Drapeau\, Île Sainte-Hélène\, Montréal\, H3C 4W7\, Canada
CATEGORIES:Promotionnel
ATTACH;FMTTYPE=image/jpeg:https://journalmetro.com/wp-content/uploads/2023/01/Glissade-2-A©-Parc-Jean-Drapeau_1200x673.jpeg
END:VEVENT
BEGIN:VEVENT
DTSTART;TZID=America/Toronto:20221223T000000
DTEND;TZID=America/Toronto:20230305T235959
DTSTAMP:20231102T225826
CREATED:20230102T192808Z
LAST-MODIFIED:20230104T164900Z
UID:10009322-1671753600-1678060799@journalmetro.com
SUMMARY:Activités hivernales au parc Jean-Drapeau: le sentier des patineurs
DESCRIPTION:Contenu promotionnel \n\n\n\n\n\n\n\nPatiner est une bonne façon de faire de l’exercice\, de prendre l’air et de s’amuser pendant la saison hivernale. Au parc Jean-Drapeau\, un sentier de glace permet de s’adonner à cette activité à seulement quelques minutes du centre-ville de Montréal.  \n\n\n\nCe parcours glacé féérique est réfrigéré et entretenu régulièrement\, ce qui garantit une expérience inoubliable\, spécialement après une petite bordée de neige. Venez passer un moment à patiner librement\, seul\, accompagné ou en famille\, et contempler le coucher du soleil derrière les gratte-ciel de la métropole. \n\n\n\nJusqu’au 5 mars\, embrassez votre nordicité à travers une panoplie d’activités exaltantes et des installations de qualité de supérieure. \n\n\n\nLes activités sont gratuites et accessibles à tous! \n\n\n\n\n\n\n\n\n\n\n\n\n\n\n\n\n\nPour en savoir davantage sur les activités hivernales du parc Jean-Drapeau\, visitez le site web du Parc ou leurs médias sociaux! \n\n\n\n\n\n\n\n\n\n\n\nFacebook\n\nInstagram\n\nYouTube
URL:https://journalmetro.com/evenement/activites-hivernales-au-parc-jean-drapeau-sentier-des-patineurs/
LOCATION:Parc Jean-Drapeau\, Île Sainte-Hélène\, Montréal\, H3C 4W7\, Canada
CATEGORIES:Promotionnel
ATTACH;FMTTYPE=image/jpeg:https://journalmetro.com/wp-content/uploads/2023/01/Sentier-des-patineurs-1-A©-Parc-Jean-Drapeau_1200x652.jpeg
END:VEVENT
BEGIN:VEVENT
DTSTART;TZID=America/Toronto:20230101T000000
DTEND;TZID=America/Toronto:20230614T235959
DTSTAMP:20231102T225826
CREATED:20230113T193405Z
LAST-MODIFIED:20230524T210529Z
UID:10009529-1672531200-1686787199@journalmetro.com
SUMMARY:Inscrivez-vous aux activités du SAC Anjou!
DESCRIPTION:Contenu promotionnel \n\n\n\n\n\n\n\nLe service d’aide communautaire Anjou vous invite à participer à une panoplie d’activités. Plusieurs cours\, clubs\, dîners communautaires et ateliers sont accessibles dans leurs locaux. Les diverses activités sont offertes à tous. \n\n\n\nCertaines activités sont payantes et une inscription annuelle de 20$ est demandée. Des bénévoles sont aussi recherchés ! \n\n\n\n\n\n\n\n\n\n\n\n\n\n\nAdultes\n\n–Calcul de base\n\n\n\n–Ciné-popcorn\n\n\n\n–Conférences pour tous\n\n\n\n–Conversation en français\n\n\n\n–Dîners-causeries\n\n\n\n–Écrivaine publique\n\n\n\n–Français écrit\n\n\n\n–Initiation à l’informatique\n\n\n\n–La soupière\n\n\n\n–Sorties extérieures\n\n\n\n\n\n\n\n\n\nAînés\n\n–Ateliers informatiques\n\n\n\n–Bulletin « La Plume »\n\n\n\n–Club de lecture \n\n\n\n–Club de marche \n\n\n\n–Club de tricot \n\n\n\n–Club photo SAClic\n\n\n\n–Conférences pour aînés\n\n\n\n–Conférences pour tous\n\n\n\n–Cuisine collective\n\n\n\n–Dépannage informatique\n\n\n\n–Dîners communautaires \n\n\n\n–La soupière\n\n\n\n–Mise en forme\n\n\n\n–Troupe d’humour\n\n\n\n\n\n\n\n\n\nJeunes et Familles\n\n–Ateliers de cuisine (6-11 ans)\n\n\n\n–Transition scolaire\n\n\n\n–Projets jeunesse\n\n\n\n–Halte-garderie\n\n\n\n–Le salon des parents\n\n\n\n\n\n\n\n\n\nInscrivez-vous dès maintenant!\n\n\n\n\n\n\n\n\n\n\n\n\n\n\n\n\nPour en savoir davantage sur les activités disponibles et sur le SAC d’Anjou\, rendez-vous au sacanjou.org ou sur leurs médias sociaux. \n\n\n\nFacebook\n\nYouTube\n\nLinkedIn
URL:https://journalmetro.com/evenement/inscrivez-vous-aux-activites-du-sac-anjou/
LOCATION:Service d’aide communautaire Anjou (SAC)\, 6497 Av. Azilda\, Anjou\, QC\, H1K 2Z8\, Canada
CATEGORIES:Promotionnel
ATTACH;FMTTYPE=image/jpeg:https://journalmetro.com/wp-content/uploads/2023/01/iStock-864654586-2.jpg
END:VEVENT
BEGIN:VEVENT
DTSTART;TZID=America/Toronto:20230124T000000
DTEND;TZID=America/Toronto:20230207T235959
DTSTAMP:20231102T225826
CREATED:20230116T211607Z
LAST-MODIFIED:20230328T154736Z
UID:10009997-1674518400-1675814399@journalmetro.com
SUMMARY:Vous aimeriez faire partie du choeur du SARA d'Anjou ? Inscrivez-vous dès maintenant !
DESCRIPTION:Contenu Promotionnel \n\n\n\n\n\n\n\nLe chœur du SARA d’Anjou est à la recherche de nouvelle voix pour l’année 2023. Vous aimeriez tenter votre chance? Les inscriptions pour faire partie de la chorale se tiendront tous les mardis et jeudis de 13h00 à 15h00 à compter du 24 janvier 2023 \n\n\n\n\n\nL’inscription est gratuite pour les résidents d’Anjou. Contactez Coralie Charbonneau pour plus d’information. \n\n\n\n\nc.charbonneau@sara-anjou.com\n\n\n\n514-351-2517 poste 107\n\n\n\n\n\n\n\n\n\n\n\n\n\n\n\n\n\n\n\n\n\n\n\n\n\n\n\n\n\n\n\n\n\n\nPour en savoir davantage sur le SARA d’Anjou\, rendez-vous au sara-anjou.com ou sur leurs médias sociaux. \n\n\n\n\n\n\n\nFacebook
URL:https://journalmetro.com/evenement/vous-aimeriez-faire-partie-du-choeur-du-sara-danjou-inscrivez-vous-des-maintenant/
LOCATION:Service d’Aide et de Référencement Aîné d’Anjou\, 7800 boul. Métropolitain Est\, Montreal\, QC\, H1K1A1\, Canada
CATEGORIES:Promotionnel
ATTACH;FMTTYPE=image/png:https://journalmetro.com/wp-content/uploads/2023/01/Screen-Shot-2023-01-16-at-4.11.42-PM_1374x554.png
END:VEVENT
BEGIN:VEVENT
DTSTART;TZID=America/Toronto:20230124T090000
DTEND;TZID=America/Toronto:20230124T090000
DTSTAMP:20231102T225826
CREATED:20230120T184250Z
LAST-MODIFIED:20230120T213643Z
UID:10012520-1674550800-1674550800@journalmetro.com
SUMMARY:Journée portes ouvertes du programme préscolaire du Centre culturel Stewart Hall
DESCRIPTION:Contenu Promotionnel \n\n\n\nJournée portes ouvertes à Pointe-Claire!Mardi le 24 janvier à 9 hCentre culturel Stewart Hall situé au: 176\, ch. du Bord-du-Lac — LakeshoreVisitez nos installations\, rencontrer les professeurs\, voir le déroulement des ateliers\, et pouvez même inscrire votre enfant pour l’année 2023-2024 qui débute en septembre.RSVP requis au 514 630-1220\, poste 1774 Lucie
URL:https://journalmetro.com/evenement/journee-portes-ouvertes-du-programme-prescolaire-du-centre-culturel-stewart-hall/
LOCATION:Centre culturel de Pointe-Claire\, Stewart Hall\, 176\, chemin du Bord-du-Lac - Lakeshore\, Pointe-Claire\, H9S 4J7
CATEGORIES:Promotionnel
ATTACH;FMTTYPE=image/jpeg:https://journalmetro.com/wp-content/uploads/2023/01/LTPlogo2011.jpg
END:VEVENT
BEGIN:VEVENT
DTSTART;TZID=America/Toronto:20230125T180000
DTEND;TZID=America/Toronto:20230125T200000
DTSTAMP:20231102T225826
CREATED:20230119T173534Z
LAST-MODIFIED:20230328T154732Z
UID:10010486-1674669600-1674676800@journalmetro.com
SUMMARY:Assemblée publique de consultation: transition écologique
DESCRIPTION:Contenu Promotionnel \n\n\n\nUne assemblée publique de consultation aura lieu le mercredi 25 janvier prochain et il sera question\, notamment\, des deux projets de règlements portant sur la transition écologique.  \n\n\n\nL’assemblée aura lieu à compter de 18 h\, au 6854\, rue Sherbrooke Est. \n\n\n\nLe lieu et la date de l’assemblée publique de consultation font l’objet d’un avis public diffusé sur le site web de l’arrondissement. \n\n\n\nDisponible exceptionnellement par webdiffusion\n\n\n\nComme ce projet de révision réglementaire est en lien avec le Plan climat\, un dossier prioritaire de l’arrondissement\, et qu’il s’adresse à tous les citoyens\, nous mettons à l’essai une nouvelle formule en diffusant cette assemblée publique par webdiffusion. \n\n\n\nAinsi\, en plus de pouvoir y assister en personne\, vous pourrez suivre l’assemblée en direct ou consulter la webdiffusion sur la plateforme Youtube de l’arrondissement. \n\n\n\nPour poser vos questions\n\n\n\nUne période de questions est réservée aux citoyens. \n\n\n\nSi vous suivez l’assemblée par webdiffusion\, sachez qu’il sera possible de poser vos questions aux membres de l’assemblée par l’intermédiaire de ce formulaire\, du mercredi 18 janvier\, à 17 h\,  au mercredi 25 janvier\, à 15 h. Nos professionnels s’assureront d’intégrer les réponses à vos questions dans le cadre de leurs présentations. \n\n\n\nConsultez la page: Une réglementation adaptée pour accélérer la transition écologique.
URL:https://journalmetro.com/evenement/assemblee-publique-de-consultation-transition-ecologique/
LOCATION:Salle du conseil du bureau d’arrondissement\, 6854\, rue Sherbrooke Est\, Montréal\, H1N 1E1\, Canada
CATEGORIES:Promotionnel
ATTACH;FMTTYPE=image/jpeg:https://journalmetro.com/wp-content/uploads/2023/01/Arrondissement.jpeg
END:VEVENT
BEGIN:VEVENT
DTSTART;TZID=America/Toronto:20230125T180000
DTEND;TZID=America/Toronto:20230125T200000
DTSTAMP:20231102T225826
CREATED:20230119T213819Z
LAST-MODIFIED:20230329T144350Z
UID:10010525-1674669600-1674676800@journalmetro.com
SUMMARY:Assemblée publique de consultation: transition écologique
DESCRIPTION:Contenu Promotionnel \n\n\n\nUne assemblée publique de consultation aura lieu le mercredi 25 janvier prochain et il sera question\, notamment\, des deux projets de règlements portant sur la transition écologique.  \n\n\n\nL’assemblée aura lieu à compter de 18 h\, au 6854\, rue Sherbrooke Est. \n\n\n\nLe lieu et la date de l’assemblée publique de consultation font l’objet d’un avis public diffusé sur le site web de l’arrondissement. \n\n\n\nDisponible exceptionnellement par webdiffusion\n\n\n\nComme ce projet de révision réglementaire est en lien avec le Plan climat\, un dossier prioritaire de l’arrondissement\, et qu’il s’adresse à tous les citoyens\, nous mettons à l’essai une nouvelle formule en diffusant cette assemblée publique par webdiffusion. \n\n\n\nAinsi\, en plus de pouvoir y assister en personne\, vous pourrez suivre l’assemblée en direct ou consulter la webdiffusion sur la plateforme Youtube de l’arrondissement. \n\n\n\nPour poser vos questions\n\n\n\nUne période de questions est réservée aux citoyens. \n\n\n\nSi vous suivez l’assemblée par webdiffusion\, sachez qu’il sera possible de poser vos questions aux membres de l’assemblée par l’intermédiaire de ce formulaire\, du mercredi 18 janvier\, à 17 h\,  au mercredi 25 janvier\, à 15 h. Nos professionnels s’assureront d’intégrer les réponses à vos questions dans le cadre de leurs présentations. \n\n\n\nConsultez la page: Une réglementation adaptée pour accélérer la transition écologique.
URL:https://journalmetro.com/evenement/assemblee-publique-de-consultation-transition-ecologique-2/
LOCATION:Salle du conseil du bureau d’arrondissement\, 6854\, rue Sherbrooke Est\, Montréal\, H1N 1E1\, Canada
CATEGORIES:Promotionnel
ATTACH;FMTTYPE=image/jpeg:https://journalmetro.com/wp-content/uploads/2023/01/Arrondissement-1.jpeg
END:VEVENT
END:VCALENDAR