BEGIN:VCALENDAR
VERSION:2.0
PRODID:-//Journal Métro - ECPv6.0.13//NONSGML v1.0//EN
CALSCALE:GREGORIAN
METHOD:PUBLISH
X-WR-CALNAME:Journal Métro
X-ORIGINAL-URL:https://journalmetro.com
X-WR-CALDESC:évènements pour Journal Métro
REFRESH-INTERVAL;VALUE=DURATION:PT1H
X-Robots-Tag:noindex
X-PUBLISHED-TTL:PT1H
BEGIN:VTIMEZONE
TZID:America/Toronto
BEGIN:DAYLIGHT
TZOFFSETFROM:-0500
TZOFFSETTO:-0400
TZNAME:EDT
DTSTART:20230312T070000
END:DAYLIGHT
BEGIN:STANDARD
TZOFFSETFROM:-0400
TZOFFSETTO:-0500
TZNAME:EST
DTSTART:20231105T060000
END:STANDARD
END:VTIMEZONE
BEGIN:VEVENT
DTSTART;TZID=America/Toronto:20230601T000000
DTEND;TZID=America/Toronto:20230904T235959
DTSTAMP:20231025T230331
CREATED:20230614T235423Z
LAST-MODIFIED:20230618T170458Z
UID:10018078-1685577600-1693871999@journalmetro.com
SUMMARY:Le complexe aquatique du Parc Jean-Drapeau
DESCRIPTION:Le parc Jean-Drapeau possède l’un des plus beaux complexes aquatiques en plein air au Canada! La piscine récréative chauffée est dédiée au bain libre et à la nage en longueur pour le grand public et est généralement accessible tous les jours de la saison estivale.  \n\n\n\nCet été\, profitez de plusieurs activités offertes au Complexe aquatique du parc Jean-Drapeau :  \n\n\n\n\n\n\n➤ La Baignade libre\n\n\n\n➤ Les dimanches familles\n\n\n\n\n\n➤ Zone de jeux d’eau\n\n\n\n➤ Les tremplins\n\n\n\n\n\n➤ Zone d’ombrage\n\n\n\n➤ La nage en longueur\n\n\n\n\n\n\n\n\n\n\n\n\n\n\n\n\n\n\n\n\n\n\n\n\n\n\n\n\n\n\nTarifs :\n\n\n\n\n\n\n\n\n14 ans et plus : 6.70$\n\n\n\n3 à 13 ans : 3.10$\n\n\n\n2 ans et moins : 0.00$\n\n\n\nFamille (2 x 14 ans + / 2 x 3-13 ans) : 15.40$\n\n\n\n\n\n\n\n\n\n\nAchetez vos billets ici\n\n\n\n\n\n\n\n\n\n\n\n\n\nPour en savoir davantage\, visitez le parcjeandrapeau.com ou suivez les réseaux sociaux du parc Jean-Drapeau! \n\n\n\n\n\n\n\n\n\n\n\nFacebook\n\nInstagram\n\nTwitter\n\nYouTube
URL:https://journalmetro.com/evenement/complexe-aquatique/
LOCATION:Complexe aquatique\, 130 Chem. du Tour de l'isle\, Montréal\, QC\, H3C 4W7\, Canada
CATEGORIES:Promotionnel
ATTACH;FMTTYPE=image/jpeg:https://journalmetro.com/wp-content/uploads/2023/06/Header-2000X1000-Explorez.jpg
END:VEVENT
BEGIN:VEVENT
DTSTART;TZID=America/Toronto:20230615T000000
DTEND;TZID=America/Toronto:20230930T235959
DTSTAMP:20231025T230331
CREATED:20230615T023217Z
LAST-MODIFIED:20230618T170619Z
UID:10018082-1686787200-1696118399@journalmetro.com
SUMMARY:Pique-nique et randonnée pédestre au parc Jean-Drapeau
DESCRIPTION:Avec plus de 25 kilomètres de routes et sentiers\, le parc Jean-Drapeau vous procure une évasion en pleine nature à quelques pas du centre-ville de Montréal. \n\n\n\nQue ce soit sur le bord de l’eau\, sur le mont Boullé\, le long du ruisseau près de la Poudrière ou dans les Jardins des Floralies\, le Parc est un endroit agréable pour la randonnée pédestre\, et ce\, toutes saisons confondues.  \n\n\n\nIl devient l’endroit par excellence pour les amateurs de plein air et de photographie. Faites une pause collation ou repas lors de votre randonnée pédestre en prenant le temps de faire un pique-nique entre amis ou en famille! \n\n\n\n\n\n➤ Le Ste-Hélène Bistro\n\n\n\n\n\n➤ Tables à pique-nique\n\n\n\n➤ Art public\n\n\n\n\n\n➤ Plein air durable et responsable\n\n\n\n➤ Toilettes\n\n\n\n\n\n\n\n\n\n\n\n\n\n\n\n\n\n\n\n\n\n\n\n\n\n\n\n\n\n\n\nPour en savoir davantage\, visitez le parcjeandrapeau.com ou suivez les réseaux sociaux du parc Jean-Drapeau! \n\n\n\n\n\n\n\n\n\n\n\nFacebook\n\nInstagram\n\nTwitter\n\nYouTube
URL:https://journalmetro.com/evenement/pique-nique-et-randonnee-pedestre-au-parc-jean-drapeau/
LOCATION:Parc Jean-Drapeau\, Île Sainte-Hélène\, Montréal\, H3C 4W7\, Canada
CATEGORIES:Promotionnel
ATTACH;FMTTYPE=image/jpeg:https://journalmetro.com/wp-content/uploads/2023/06/1N2A2767_aoAt272022_@myriambariltessier-2.jpg
END:VEVENT
BEGIN:VEVENT
DTSTART;TZID=America/Toronto:20230624T000000
DTEND;TZID=America/Toronto:20230904T235959
DTSTAMP:20231025T230331
CREATED:20230615T015454Z
LAST-MODIFIED:20230618T170441Z
UID:10018079-1687564800-1693871999@journalmetro.com
SUMMARY:Cet été\, visitez la plage Jean-Doré
DESCRIPTION:La plage Jean-Doré est un lieu idéal et incontournable pour les amateurs de baignade. On peut se baigner\, se rafraîchir et jouer dans l’eau!   \n\n\n\nCet été\, profitez de plusieurs activités offertes à la plage Jean-Doré:  \n\n\n\n\n\n➤ La Baignade libre\n\n\n\n➤ Volleyball de plage\n\n\n\n\n\n➤ Embarcations nautiques\n\n\n\n➤ Planche à pagaie (SUP)\n\n\n\n\n\n➤ Aquazilla (structure gonflable géante)\n\n\n\n➤ Nage en eau libre\n\n\n\n\n\n\n\n\n\n\n\n\n\n\n\n\n\n\n\n\n\n\n\n\n\n\n\n\n\nTarifs :\n\n\n\n\n\n\n\n\n14 ans et plus : 9.25$\n\n\n\n3 à 13 ans : 4.60$\n\n\n\nFamille : 22.50$\n\n\n\n\n\n\n\n\n\n\nAchetez vos billets ici\n\n\n\n\n\n\n\n\n\nPour en savoir davantage\, visitez le parcjeandrapeau.com ou suivez les réseaux sociaux du parc Jean-Drapeau! \n\n\n\n\n\n\n\n\n\n\n\nFacebook\n\nInstagram\n\nTwitter\n\nYouTube
URL:https://journalmetro.com/evenement/cette-ete-visitez-la-plage-jean-dore/
LOCATION:Plage Jean-Doré\, 151 Circuit Gilles Villeneuve\, Montréal\, QC\, H3C 1A9\, Canada
CATEGORIES:Promotionnel
ATTACH;FMTTYPE=image/jpeg:https://journalmetro.com/wp-content/uploads/2023/06/Explorez-Calendrier-Evenement-Parc-Jean-Drapeau-2.jpg
END:VEVENT
BEGIN:VEVENT
DTSTART;TZID=America/Toronto:20230624T000000
DTEND;TZID=America/Toronto:20230904T235959
DTSTAMP:20231025T230331
CREATED:20230615T021514Z
LAST-MODIFIED:20230618T170601Z
UID:10018081-1687564800-1693871999@journalmetro.com
SUMMARY:Les embarcations nautiques de la plage Jean-Doré
DESCRIPTION:Cet été\, pour une activité qui sort de l’ordinaire\, vous pourrez naviguer librement entre la zone de baignade de la plage Jean-Doré et le Casino de Montréal\, ou encore\, découvrir le centre de l’île Notre-Dame et le pourtour des Jardins des Floralies !   \n\n\n\nIl est  possible d’utiliser votre équipement personnel sur Le lac de l’île Notre-Dame en payant un droit d’accès au lac de la plage Jean-Doré.   \n\n\n\nIl vous sera aussi possible de louer une embarcation nautique pour la journée :  \n\n\n\n\n\n➤ Canot\n\n\n\n➤ Kayak\n\n\n\n\n\n➤ Pédalo\n\n\n\n➤ Planche à pagaie (SUP)\n\n\n\n\n\n\n\n\n\n\n\n\n\n\n\n\n\n\n\n\n\n\n\n\n\n\n\n\n\n\n\n\n\n\n\nPour en savoir davantage\, visitez le parcjeandrapeau.com ou suivez les réseaux sociaux du parc Jean-Drapeau! \n\n\n\n\n\n\n\n\n\n\n\nFacebook\n\nInstagram\n\nTwitter\n\nYouTube
URL:https://journalmetro.com/evenement/les-embarcations-nautiques-de-la-plage-jean-dore/
LOCATION:Pavillon des activités nautiques\, Circuit Gilles Villeneuve\, Montréal\, QC\, H3C 4W7\, Canada
CATEGORIES:Promotionnel
ATTACH;FMTTYPE=image/jpeg:https://journalmetro.com/wp-content/uploads/2023/06/Explorez-Calendrier-Evenement-Parc-Jean-Drapeau-2-1.jpg
END:VEVENT
BEGIN:VEVENT
DTSTART;TZID=America/Toronto:20230701T000000
DTEND;TZID=America/Toronto:20230904T235959
DTSTAMP:20231025T230331
CREATED:20230615T020459Z
LAST-MODIFIED:20230618T170540Z
UID:10018080-1688169600-1693871999@journalmetro.com
SUMMARY:Activités citoyennes à la roseraie
DESCRIPTION:Venez découvrir un tout nouvel espace citoyen en plein cœur du jardin de la roseraie! \n\n\n\nDans cet endroit magnifique\, venez apprendre et vous amuser en participant à une panoplie d’ateliers\, de cours et de conférences pour tous les goûts. C’est gratuit pour tous! \n\n\n\nCet été\, profitez de plusieurs activités offertes à la roseraie :  \n\n\n\n\n\n➤ Cours de yoga en plein air\n\n\n\n➤ Conférences horticoles\n\n\n\n\n\n➤ Agriculture urbaine\n\n\n\n➤ Fabrication de cabanes d’oiseaux\n\n\n\n\n\n➤ Fabrication de marionnettes\n\n\n\n➤ Aquarelle\n\n\n\n\n\n\n\n\n\n\n\n\n\n\n\n\n\n\n\n\n\n\n\n\n\n\n\n\n\n\n\nPour en savoir davantage\, visitez le parcjeandrapeau.com ou suivez les réseaux sociaux du parc Jean-Drapeau! \n\n\n\n\n\n\n\n\n\n\n\nFacebook\n\nInstagram\n\nTwitter\n\nYouTube
URL:https://journalmetro.com/evenement/activites-citoyennes-a-la-roseraie/
LOCATION:La Roseraie\, 200 Chem. du Tour de l'isle\, Montréal\, QC\, H3C 4G8\, Canada
CATEGORIES:Promotionnel
ATTACH;FMTTYPE=image/jpeg:https://journalmetro.com/wp-content/uploads/2023/06/Explorez-Calendrier-Evenement-Parc-Jean-Drapeau-3.jpg
END:VEVENT
BEGIN:VEVENT
DTSTART;TZID=America/Toronto:20230715T000000
DTEND;TZID=America/Toronto:20230716T235959
DTSTAMP:20231025T230331
CREATED:20230503T164303Z
LAST-MODIFIED:20230512T210757Z
UID:10017412-1689379200-1689551999@journalmetro.com
SUMMARY:Grand Marché D'été du Bazar Verdunois
DESCRIPTION:Le Grand Marché d’Été\, présenté par Bazar Verdunois\, est un événement festif mettant de l’avant la saison estivale\, les vacances et le plaisir. Vous pourrez y découvrir de nouveaux créateurs locaux de tous les genres\, ainsi que des vendeurs d’antiquités et de Vintage. \n\n\n\nL’espace café offre aussi un bon petit menu pour luncher\, du café et plus encore. \n\n\n\nBazar Verdunois est une petite équipe motivée et passionnée\, composée de Patrick\, Roxanne & Michel\, qui ont à cœur autant le bien-être de l’exposant que l’expérience agréable du visiteur. N’hésitez pas à les contacter pour avoir plus d’informations sur leurs événements. \n\n\n\nIls recherchent encore des exposants et les inscriptions sont ouvertes! \n\n\n\n\n\n\n\n\nExposants ici\n\n\n\n\n\n\n\n\n\n\n\n\n\n\n\n\nSuivez le Bazar Verdunois sur leurs réseaux sociaux pour avoir des nouvelles sur les Marchés à venir. \n\n\n\n\n\n\n\nFacebook\n\nInstagram
URL:https://journalmetro.com/evenement/grand-marche-dete-du-bazar-verdunois/
LOCATION:Église Notre-Dame-de-Lourdes\, 630 4ième avenue\, Montréal\, QC\, H4G 1N4\, Canada
CATEGORIES:Promotionnel
ATTACH;FMTTYPE=image/jpeg:https://journalmetro.com/wp-content/uploads/2023/05/Explorez-Bazar.jpg
END:VEVENT
END:VCALENDAR