BEGIN:VCALENDAR
VERSION:2.0
PRODID:-//Journal Métro - ECPv6.0.13//NONSGML v1.0//EN
CALSCALE:GREGORIAN
METHOD:PUBLISH
X-WR-CALNAME:Journal Métro
X-ORIGINAL-URL:https://journalmetro.com
X-WR-CALDESC:évènements pour Journal Métro
REFRESH-INTERVAL;VALUE=DURATION:PT1H
X-Robots-Tag:noindex
X-PUBLISHED-TTL:PT1H
BEGIN:VTIMEZONE
TZID:America/Toronto
BEGIN:DAYLIGHT
TZOFFSETFROM:-0500
TZOFFSETTO:-0400
TZNAME:EDT
DTSTART:20230312T070000
END:DAYLIGHT
BEGIN:STANDARD
TZOFFSETFROM:-0400
TZOFFSETTO:-0500
TZNAME:EST
DTSTART:20231105T060000
END:STANDARD
END:VTIMEZONE
BEGIN:VEVENT
DTSTART;TZID=America/Toronto:20230514T130000
DTEND;TZID=America/Toronto:20230827T150000
DTSTAMP:20231016T100605
CREATED:20230310T153639Z
LAST-MODIFIED:20230327T155839Z
UID:10016736-1684069200-1693148400@journalmetro.com
SUMMARY:STIAM : Bibliothèques à toute vapeur
DESCRIPTION:Le plaisir vous attend lors des activités STIAM (Sciences\, technologies\, Ingénierie\, Arts et Mathématiques). \n\n\n\nAmusez-vous à créer toutes sortes d’univers grâce à notre collection de LEGO et de Magformers\, certaines autres activités surprises pourront vous être proposées. Activité libre pour tous et toutes. \n\n\n\nLes dimanches\, en alternance entre la Bibliothèque de Pierrefonds et la Bibliothèque William-G.-Boll (Roxboro). \n\n\n\nSource: montreal.ca \n\n\n\nDates et horaires sont sujets à changement sans préavis. Avant de vous déplacer\, vérifier ces informations sur montreal.ca
URL:https://journalmetro.com/evenement/stiam-bibliotheques-a-toute-vapeur-6/2023-05-14/
LOCATION:Bibliothèque de Pierrefonds\, 13555\, boulevard de Pierrefonds\, Montréal\, QC\, H4Y 1A6\, Canada
ATTACH;FMTTYPE=image/jpeg:https://journalmetro.com/wp-content/uploads/2022/10/stiam-2.jpg
END:VEVENT
BEGIN:VEVENT
DTSTART;TZID=America/Toronto:20230706T183000
DTEND;TZID=America/Toronto:20230824T200000
DTSTAMP:20231016T100605
CREATED:20230705T150803Z
LAST-MODIFIED:20230705T150805Z
UID:10018652-1688668200-1692907200@journalmetro.com
SUMMARY:Ateliers de jeu d'échecs
DESCRIPTION:Les jeudis de 18 h 30 à 20 h \n\n\n\nDu 6 juillet au 24 août 2023 \n\n\n\nÀ la Bibliothèque de Pierrefonds. \n\n\n\nActivités diversifiées destinées aux jeunes débutants de 7 ans et plus pour pratiquer les stratégies et tactiques du jeu d’échecs. \n\n\n\nSource: montreal.ca \n\n\n\nDates et horaires sont sujets à changement sans préavis. Avant de vous déplacer\, vérifier ces informations sur montreal.ca
URL:https://journalmetro.com/evenement/ateliers-de-jeu-dechecs/
LOCATION:Bibliothèque de Pierrefonds\, 13555\, boulevard de Pierrefonds\, Montréal\, QC\, H4Y 1A6\, Canada
ATTACH;FMTTYPE=image/jpeg:https://journalmetro.com/wp-content/uploads/2023/07/echecs-pierrefonds-2.jpg
END:VEVENT
BEGIN:VEVENT
DTSTART;TZID=America/Toronto:20230722T180000
DTEND;TZID=America/Toronto:20230902T190000
DTSTAMP:20231016T100605
CREATED:20230721T162409Z
LAST-MODIFIED:20230721T162411Z
UID:10019114-1690048800-1693681200@journalmetro.com
SUMMARY:Yoga sur planche à pagaie
DESCRIPTION:Venez vous amuser\, solliciter votre équilibre et adresse et retirer les bienfaits que vous procure la pratique de cette discipline durant cette séance d’initiation. Muscles de tout votre corps sollicités et relaxation profonde au rendez-vous! \n\n\n\nInscriptions: ouvertes deux semaines à l’avance. \n\n\n\nCoût : gratuit pour tous les participants\, stationnement payant. \n\n\n\n16 ans et plus \n\n\n\nSource: montreal.ca \n\n\n\nDates et horaires sont sujets à changement sans préavis. Avant de vous déplacer\, vérifier ces informations sur montreal.ca
URL:https://journalmetro.com/evenement/yoga-sur-planche-a-pagaie-2/
LOCATION:Plage du parc-nature du Cap-Saint-Jacques\, 21115 boulevard Gouin Ouest\, Montréal\, QC\, Canada
ATTACH;FMTTYPE=image/jpeg:https://journalmetro.com/wp-content/uploads/2023/07/yoga-planche-2.jpg
END:VEVENT
BEGIN:VEVENT
DTSTART;TZID=America/Toronto:20230723T130000
DTEND;TZID=America/Toronto:20230827T160000
DTSTAMP:20231016T100605
CREATED:20230411T185418Z
LAST-MODIFIED:20230411T185505Z
UID:10017182-1690117200-1693152000@journalmetro.com
SUMMARY:Passez GO! Ateliers de jeux de société
DESCRIPTION:À la bibliothèque de Pierrefonds et à la bibliothèque William-G.-Boll\, en alternance. \n\n\n\nEnvie de découvrir un nouveau jeu? Facilitez-vous la tâche en apprenant les règles rapidement et en vous laissant guider par les animateurs et animatrices. \n\n\n\nVenez découvrir et jouer à des jeux de société modernes avec vos amis et votre famille. Les animateurs et animatrices de BoardGamesNMore vous apprendront une variété de nouveaux jeux de société modernes. Plus besoin de lire des livres de règles\, car vous aurez des « livres de règles vivants». \n\n\n\nSource: montreal.ca \n\n\n\nDates et horaires sont sujets à changement sans préavis. Avant de vous déplacer\, vérifier ces informations sur montreal.ca
URL:https://journalmetro.com/evenement/passez-go-ateliers-de-jeux-de-societe-3/2023-07-23/
LOCATION:QC
ATTACH;FMTTYPE=image/jpeg:https://journalmetro.com/wp-content/uploads/2022/10/passez-go-2.jpg
END:VEVENT
BEGIN:VEVENT
DTSTART;TZID=America/Toronto:20230822T190000
DTEND;TZID=America/Toronto:20230822T200000
DTSTAMP:20231016T100605
CREATED:20230705T201428Z
LAST-MODIFIED:20230705T201430Z
UID:10018685-1692730800-1692734400@journalmetro.com
SUMMARY:L’expérience magique avec Fredo le magicien
DESCRIPTION:Avez-vous déjà assisté à un spectacle de magie en famille? Laissez Fredo\, un magicien énergique et délirant\, vous envoûter avec son art\, qu’il pratique depuis plus de 25 ans! \n\n\n\nFredo\, le magicien le plus délirant qui soit\, vous convie à un rendez-vous unique\, complice et abracadabrant! Avec son énergie débordante et sa passion contagieuse\, il vous invite au cœur de sa magie\, qu’il pratique depuis plus de 25 ans. À force de présenter des spectacles jeunesse partout au Québec et au Canada\, il est devenu une vraie sommité auprès des familles depuis des générations. \n\n\n\nClôture du club de lecture d’été TD \n\n\n\nSource: montreal.ca \n\n\n\nDates et horaires sont sujets à changement sans préavis. Avant de vous déplacer\, vérifier ces informations sur montreal.ca
URL:https://journalmetro.com/evenement/lexperience-magique-avec-fredo-le-magicien/
LOCATION:Centre culturel de Pierrefonds\, 13850 boulevard Gouin Ouest\, Montréal\, QC\, Canada
CATEGORIES:Communautaire
ATTACH;FMTTYPE=image/jpeg:https://journalmetro.com/wp-content/uploads/2023/07/fredo-2.jpg
END:VEVENT
BEGIN:VEVENT
DTSTART;TZID=America/Toronto:20230822T190000
DTEND;TZID=America/Toronto:20230822T200000
DTSTAMP:20231016T100605
CREATED:20230809T152318Z
LAST-MODIFIED:20230809T152320Z
UID:10019496-1692730800-1692734400@journalmetro.com
SUMMARY:L’expérience magique avec Fredo le magicien
DESCRIPTION:Avez-vous déjà assisté à un spectacle de magie en famille? Laissez Fredo\, un magicien énergique et délirant\, vous envoûter avec son art\, qu’il pratique depuis plus de 25 ans! \n\n\n\nFredo\, le magicien le plus délirant qui soit\, vous convie à un rendez-vous unique\, complice et abracadabrant! Avec son énergie débordante et sa passion contagieuse\, il vous invite au cœur de sa magie\, qu’il pratique depuis plus de 25 ans. À force de présenter des spectacles jeunesse partout au Québec et au Canada\, il est devenu une vraie sommité auprès des familles depuis des générations. \n\n\n\nClôture du club de lecture d’été TD \n\n\n\nSource: montreal.ca \n\n\n\nDates et horaires sont sujets à changement sans préavis. Avant de vous déplacer\, vérifier ces informations sur montreal.ca
URL:https://journalmetro.com/evenement/lexperience-magique-avec-fredo-le-magicien-2/
LOCATION:Centre culturel de Pierrefonds\, 13850 boulevard Gouin Ouest\, Montréal\, QC\, Canada
ATTACH;FMTTYPE=image/jpeg:https://journalmetro.com/wp-content/uploads/2023/08/PIERREFONDS_fredo-magicien.jpg
END:VEVENT
BEGIN:VEVENT
DTSTART;TZID=America/Toronto:20230823T130000
DTEND;TZID=America/Toronto:20230823T160000
DTSTAMP:20231016T100605
CREATED:20230809T142334Z
LAST-MODIFIED:20230809T142335Z
UID:10019499-1692795600-1692806400@journalmetro.com
SUMMARY:Hommage aux aînés
DESCRIPTION:Participez à l’événement annuel Hommage aux aînés\, organisé par l’arrondissement de Pierrefonds-Roxboro pour reconnaître l’apport à la vie culturelle et communautaire des personnes âgées de 65 ans et plus. Inscrivez-vous maintenant! \n\n\n\nCette année\, l’événement prisé qui rassemble habituellement plus de 100 personnes se déroulera sous la thématique « Motown ». Venez passer l’après-midi avec nous durant laquelle vous pourrez savourer un succulent dessert tout en profitant d’un spectacle musical! Ce sera aussi l’occasion de danser. \n\n\n\nQuand ?\n\n\n\nL’événement se déroulera au Centre communautaire Marcel-Morin \n\n\n\nLieu \n\n\n\nLe mercredi 23 août de 13 h à 16 h. \n\n\n\nInscription gratuite obligatoire\n\n\n\nPour vous inscrire gratuitement\, composez le : 438 990-5162 \n\n\n\nSource: montreal.ca \n\n\n\nDates et horaires sont sujets à changement sans préavis. Avant de vous déplacer\, vérifier ces informations sur montreal.ca
URL:https://journalmetro.com/evenement/hommage-aux-aines/
LOCATION:Centre Communautaire Marcel Morin\, 14068 boulevard Gouin Ouest\, Pierrefonds\, QC\, H8Z 1Y1\, Canada
CATEGORIES:Communautaire
ATTACH;FMTTYPE=image/jpeg:https://journalmetro.com/wp-content/uploads/2023/08/hommage-aux-aines-2.jpg
END:VEVENT
BEGIN:VEVENT
DTSTART;TZID=America/Toronto:20230823T180000
DTEND;TZID=America/Toronto:20230823T193000
DTSTAMP:20231016T100605
CREATED:20230705T201558Z
LAST-MODIFIED:20230705T201559Z
UID:10018686-1692813600-1692819000@journalmetro.com
SUMMARY:Introduction à l'impression 3D
DESCRIPTION:Découvrez cette technologie prometteuse en créant votre propre objet. \n\n\n\nUn membre de l’équipe de la Fabricathèque Pierrefonds vous présentera les bases de la modélisation 3D. Vous apprendrez ainsi le fonctionnement du logiciel Tinkercad et réaliserez votre propre objet 3D. Vos créations pourront être imprimées au cours de la semaine suivant l’activité. \n\n\n\nEn français et en anglais. \n\n\n\nActivité pour les 8 ans et plus. \n\n\n\nSource: montreal.ca \n\n\n\nDates et horaires sont sujets à changement sans préavis. Avant de vous déplacer\, vérifier ces informations sur montreal.ca
URL:https://journalmetro.com/evenement/introduction-a-limpression-3d-2/
LOCATION:Fabricathèque Pierrefonds\, 13555 boulevard de Pierrefonds\, Montréal\, QC\, Canada
ATTACH;FMTTYPE=image/jpeg:https://journalmetro.com/wp-content/uploads/2023/07/impression-3d-2.jpg
END:VEVENT
BEGIN:VEVENT
DTSTART;TZID=America/Toronto:20230827T150000
DTEND;TZID=America/Toronto:20230827T170000
DTSTAMP:20231016T100605
CREATED:20230809T162832Z
LAST-MODIFIED:20230809T162834Z
UID:10019505-1693148400-1693155600@journalmetro.com
SUMMARY:Conférence : La fermeture de son potager
DESCRIPTION:Vous ne savez pas trop quoi faire et à quel moment commencer le ménage automnal de votre jardin afin de le préparer aux grands froids imminents de l’hiver? Cet atelier vous permettra de connaître les bons réflexes à adopter afin que la vie végétale foisonne à nouveau l’an prochain. \n\n\n\nThèmes abordés : récolte\, conservation\, protection\, nettoyage\, fertilisation\, etc.  \n\n\n\nInscriptions à partir du 14 août 2023. \n\n\n\nCoût : gratuit pour tous les participants\, stationnement payant \n\n\n\nSource: montreal.ca \n\n\n\nDates et horaires sont sujets à changement sans préavis. Avant de vous déplacer\, vérifier ces informations sur montreal.ca
URL:https://journalmetro.com/evenement/conference-la-fermeture-de-son-potager/
LOCATION:Parc-nature du Bois-de-Liesse\, 9432 boulevard Gouin Ouest\, Montréal\, QC\, Canada
ATTACH;FMTTYPE=image/jpeg:https://journalmetro.com/wp-content/uploads/2023/08/fermeture-potager-2.jpg
END:VEVENT
BEGIN:VEVENT
DTSTART;TZID=America/Toronto:20230910T120000
DTEND;TZID=America/Toronto:20230910T160000
DTSTAMP:20231016T100605
CREATED:20230724T194754Z
LAST-MODIFIED:20230724T194756Z
UID:10019151-1694347200-1694361600@journalmetro.com
SUMMARY:Les tomates
DESCRIPTION:Venez en apprendre davantage sur l’historique de ce produit\, les différentes variétés disponibles au Québec\, leur utilisation en cuisine\, les techniques agricoles ainsi que les différents enjeux environnementaux et sociaux qui y sont reliés. \n\n\n\nRendez-vous dans le secteur de la fermeCoût: activité gratuite pour tous\, stationnement payant \n\n\n\nSource: montreal.ca \n\n\n\nDates et horaires sont sujets à changement sans préavis. Avant de vous déplacer\, vérifier ces informations sur montreal.ca
URL:https://journalmetro.com/evenement/les-tomates/
LOCATION:Parc-nature du Cap-Saint-Jacques\, 20099 boulevard Gouin Ouest
ATTACH;FMTTYPE=image/jpeg:https://journalmetro.com/wp-content/uploads/2023/07/les-tomates-2.jpg
END:VEVENT
BEGIN:VEVENT
DTSTART;TZID=America/Toronto:20230917T193000
DTEND;TZID=America/Toronto:20230917T210000
DTSTAMP:20231016T100605
CREATED:20230725T000342Z
LAST-MODIFIED:20230725T000344Z
UID:10019175-1694979000-1694984400@journalmetro.com
SUMMARY:Rencontre au sommet - Orchestre Métropolitain
DESCRIPTION:Gagnant du dernier Concours Chopin de Varsovie\, le Montréalais Bruce Liu a marqué l’histoire en étant le seul Canadien à remporter cet honneur. Pourson premier concert aux côtés de Yannick Nézet-Séguin\, il s’attaque à un répertoire beaucoup plus fougueux : le Concerto pour piano n° 2 de Rachmaninov. \n\n\n\nLes premières notes de la saison viendront de l’œuvre de la compositrice Cris Derksen\, présentée en première mondiale et qui crée un espace où héritage classique et musique électro côtoient la vision du monde de la nation crie. Sous la direction de Yannick Nézet-Séguin\, l’OM poursuit son cycle Sibelius avec la Symphonie n° 2\, laquelle puise autant dans la résistance à l’envahisseur que dans le drame de son climat nordique pour offrir une pièce magistrale\, où l’atmosphère change en un coup de vent. \n\n\n\nSource: montreal.ca \n\n\n\nDates et horaires sont sujets à changement sans préavis. Avant de vous déplacer\, vérifier ces informations sur montreal.ca
URL:https://journalmetro.com/evenement/rencontre-au-sommet-orchestre-metropolitain/
LOCATION:Eglise Sainte-Suzanne\, 9501 boulevard Gouin Ouest\, Montréal\, QC\, Canada
CATEGORIES:Communautaire
ATTACH;FMTTYPE=image/jpeg:https://journalmetro.com/wp-content/uploads/2023/07/rencontre-au-sommet-2.jpg
END:VEVENT
BEGIN:VEVENT
DTSTART;TZID=America/Toronto:20230923T090000
DTEND;TZID=America/Toronto:20230923T160000
DTSTAMP:20231016T100605
CREATED:20230726T145120Z
LAST-MODIFIED:20230726T145121Z
UID:10019186-1695459600-1695484800@journalmetro.com
SUMMARY:Randonnée guidée inclusive avec BivouaQ
DESCRIPTION:Venez admirer la nature et ses composantes d’un peu plus près\, d’ici les prochains mois\, dans les parcs-nature du Cap-Saint-Jacques et du Bois-de-L’Île-Bizard. Il y en aura pour tous les goûts\, arbres centenaires\, à sucre\, grande variété d’oiseaux et bien plus. \n\n\n\nActivité adaptée pour les personnes à mobilité réduite \n\n\n\nCoût: activité gratuite pour tous\, stationnement payant. \n\n\n\nSource: montreal.ca \n\n\n\nDates et horaires sont sujets à changement sans préavis. Avant de vous déplacer\, vérifier ces informations sur montreal.ca
URL:https://journalmetro.com/evenement/randonnee-guidee-inclusive-avec-bivouaq-3/
LOCATION:Parc-nature du Cap-Saint-Jacques\, 20099 boulevard Gouin Ouest
ATTACH;FMTTYPE=image/jpeg:https://journalmetro.com/wp-content/uploads/2023/07/randonnee-guidee-bivouaq-2.jpg
END:VEVENT
BEGIN:VEVENT
DTSTART;TZID=America/Toronto:20230924T120000
DTEND;TZID=America/Toronto:20230924T160000
DTSTAMP:20231016T100605
CREATED:20230726T152314Z
LAST-MODIFIED:20230726T152316Z
UID:10019194-1695556800-1695571200@journalmetro.com
SUMMARY:Les poivrons
DESCRIPTION:Est-ce que ce sont des fruits ou bien des légumes?Est-ce que les abeilles et les autres pollinisateurs sont essentiels pour la fertilisation et la production de ce produit? Découvrez-en davantage sur leur culture et origine et comment bien les apprêter et les cuisiner. \n\n\n\nRendez-vous dans le secteur de la ferme \n\n\n\nDégustation incluse (quantité limitée) \n\n\n\nCoût: activité gratuite pour tous\, stationnement payant \n\n\n\nSource: montreal.ca \n\n\n\nDates et horaires sont sujets à changement sans préavis. Avant de vous déplacer\, vérifier ces informations sur montreal.ca
URL:https://journalmetro.com/evenement/les-poivrons/
LOCATION:Parc-nature du Cap-Saint-Jacques\, 20099 boulevard Gouin Ouest
ATTACH;FMTTYPE=image/jpeg:https://journalmetro.com/wp-content/uploads/2023/07/les-poivrons-2.jpg
END:VEVENT
BEGIN:VEVENT
DTSTART;TZID=America/Toronto:20230929T190000
DTEND;TZID=America/Toronto:20230929T200000
DTSTAMP:20231016T100605
CREATED:20230726T174844Z
LAST-MODIFIED:20230726T174845Z
UID:10019204-1696014000-1696017600@journalmetro.com
SUMMARY:Conseils gratuits d’experts en comportement canin
DESCRIPTION:Vous avez un chien? Venez profiter de l’expertise d’éducateurs canins\, qui vous partageront leurs meilleurs conseils pour mieux vivre avec votre animal de compagnie. Cet atelier théorique et pratique se déroule dans une trentaine de parcs à chiens de la Ville. \n\n\n\nParmi les sujets qui seront abordés : la gestion de la dynamique dans un parc à chiens\, l’intégration du chiot\, le langage canin\, la prévention des morsures\, l’agression entre chiens et le jeu. \n\n\n\nSource: montreal.ca \n\n\n\nDates et horaires sont sujets à changement sans préavis. Avant de vous déplacer\, vérifier ces informations sur montreal.ca
URL:https://journalmetro.com/evenement/conseils-gratuits-dexperts-en-comportement-canin-44/
LOCATION:Parc à chiens Logan\, 9047 rue Logan\, Montréal\, QC\, Canada
ATTACH;FMTTYPE=image/jpeg:https://journalmetro.com/wp-content/uploads/2023/07/expert-canin-2.jpg
END:VEVENT
BEGIN:VEVENT
DTSTART;TZID=America/Toronto:20231013T190000
DTEND;TZID=America/Toronto:20231013T190000
DTSTAMP:20231016T100605
CREATED:20230704T165459Z
LAST-MODIFIED:20230704T170136Z
UID:10018624-1697223600-1697223600@journalmetro.com
SUMMARY:Le Récital de magie - 4e saison de magie et musique sous les arbres pour Les Illusionnistes!
DESCRIPTION:Après avoir touché plus de 10 000 spectateurs et spectatrices\, le collectif de magie nouvelle Les Illusionnistes reprendra la route cet été pour 30 nouvelles représentations de leur Récital de magie\, dont 12 dans les parcs de Montréal. Le spectacle ambulant de magie et musique\, qui a été présenté plus d’une centaine de fois auprès des diffuseurs reconnus du Québec (Ville-Marie/Centre-Ville\, LaTohu\, Place des Arts\, Festival Phénoména) et qui met en vedette Marc-Alexandre Brûlé et Valérie Descheneaux\, sera présenté gratuitement dans les arrondissements du Plateau Mont-Royal\, Rosemont-Petite-Patrie\, Outremont\, le Sud-Ouest\, Saint Léonard et Lachine\, entre autres. \n\n\n\n« Dès le début de la pandémie\, Andrée-Anne Gingras-Roy et moi avons imaginé ce « magie-concert » pour les cours intérieures d’habitations de l’OMHM\, dans le souci de rassembler toutes les générations dans l’espace public. Nous sommes ravis de le partager pour une 4e année avec familles et aînés de la métropole.» – Marc-Alexandre Brûlé\, co-directeur artistique du collectif Les Illusionnistes. \n\n\n\nCréé par l’illusionniste et concepteur magique Marc-Alexandre Brûlé et la musicienne multi-instrumentiste et femme de théâtre Andrée-Anne Gingras-Roy\, ce projet hors les murs met en scène un couple de télépathes dysfonctionnel tout droit sorti d’un music-hall des années 20. \n\n\n\nCroisement unique d’un concert de femme-orchestre et de prouesses de magie actuelle\, le duo théâtral convie toutes les générations au coeur de la ville pour un rendez-vous intimiste à la fois classique\, drôle et envoûtant. \n\n\n\nChoisissez votre date et placez-la à votre calendrier dès aujourd’hui! \n\n\n\nVendredi 21 juillet 2023 19h00 Parc Baldwin\, Terrasse MercureMardi 25 juillet 2023 19h00 Scène culturelle du Parc Wilfrid-Bastien\, Saint-LéonardMercredi 26 juillet 2023 17h30 Parc de la Louisiane\, RosemontVendredi 28 juillet 2023 19h00 Parc Jeanne-ManceDimanche 30 juillet 2023 14h00 Parc Lafontaine\, Avenue Émile-DuployéVendredi 4 août 2023 19h00 Place André-LachapelleSamedi 5 août 2023 14h00 Parc Ethel-StarkDimanche 6 août 2023 15h30 Jardins Ashkelon\, Côte-Saint-LucVendredi 11 août 2023 18h00 Parc de l’aréna Saint-LouisSamedi 26 août 2023 16h00 îlot Saint-Viateur\, OutremontDimanche 1er octobre 2023 13h30 L’Entrepôt\, Lachine (Journées de la culture)Vendredi 13 octobre 2023 19h00 Centre communautaire Gerry-Robertson\, Pierrefonds \n\n\n\nToutes les dates disponibles ici : CALENDRIER https://www.marcalexandrebrule.com/evenements \n\n\n\nMUSIQUE MAGIQUE« J’utilise des boucles (loops) et séquences pour me démultiplier et créer des couches orchestrales. On peut entendre dans la même pièce violon\, voix\, accordéon et cajon\, mais tous joués en direct\, par la même personne. Les spectateurs aiment voir la construction à vue des pièces musicales\, comme des tours de magie dont on expose les secrets. C’est moi la vraie magicienne du spectacle!» – Andrée-Anne Gingras-Roy\, compositrice et co-conceptrice du spectacle. \n\n\n\nUNE COMPAGNIE DE MAGIE NOUVELLESeule entité entièrement dédiée à la magie contemporaine sur le continent\, le collectif terminait cet hiver son deuxième projet éponyme\, Les Illusionnistes\, un grand spectacle de scène créé en collaboration avec Philippe Robert qui sera en tournée québécoise dès l’automne 2024-25. \n\n\n\nÉQUIPE \n\n\n\nANDRÉE-ANNE GINGRAS-ROY (compositrice et interprète)Musicienne multi-instrumentiste et femme de théâtre\, ANDRÉE-ANNE GINGRAS-ROY possède une maîtrise du Conservatoire de Musique de Québec ainsi qu’un diplôme de performance (musique et théâtre combinés) de l’Université Carnegie Mellon de Pittsburgh. Andrée-Anne a arpenté pendant plus de 15 ans les plus grandes scènes de la planète\, d’abord au sein du Cirque Éloize\, puis de la Compania Finzi Pasca. Elle a contribué comme proche collaboratrice du metteur en scène Daniele Finzi Pasca à la création du spectacle Avudo (375e de Montréal) et de la cérémonie d’ouverture des Jeux Paraolympiques de Sotchi (performance solo). Elle est aussi compositrice et photographe. \n\n\n\nMARC-ALEXANDRE BRÛLÉ (concepteur et interprète)Circassien issu du milieu théâtral\, MARC-ALEXANDRE BRÛLÉ est un magicien et concepteur d’illusions basé à Montréal. Depuis 22 ans\, il oeuvre pour le milieu événementiel où il a animé des centaines d’événements pour des institutions. Il est aussi directeur artistique du studio iLLUSIONs DESIGN (www.illusions.design/fr) avec qui il crée et réalise des illusions et effets magiques pour la scène (Kodo/ExMachina – Robert Lepage; Daniele Finzi Pasca – Teatro Sunil / Cirque Éloize; Arturo Brachetti\, Franco Dragone et Serge Postigo – Juste Pour Rire Spectacles; École Nationale de Théâtre; cérémonie d’ouverture des Jeux du Québec. Il a été l’élève des magiciens de renom Eugene Burger et Jeff McBride. \n\n\n\nVALÉRIE DESCHENEAUX (musicienne et interprète)Formée du Conservatoire d’art dramatique de Québec (2002)\, VALÉRIE DESCHENEAUX travaille dans les deux langues autant à la télévision qu’au théâtre. On a pu la voir dans L’Auberge du chien noir où elle a campé le rôle d’Annabelle Roy pendant 8 ans\, dans 19-2\, Providence\, Lien Fatal\, Watatatow\, Les poupées russes\, Silent Era et au théâtre dans Another Brick In The Wall (Dominic Champagne)\, Roméo et Juliette (Jacques Rossi)\, Les Belles-Soeurs (Serge Denoncourt)\, The Bunker (Léo Sama)\, La Bonne Âme Du Setchouan (Antoine Laprise) et D’Artagnan & Les 3 Mousquetaires (Frédéric Bélanger). Aussi musicienne multi-instrumentiste formée de l’UQAM\, elle a composé et interprété pour le Conservatoire d’art dramatique de Québec\, Artamuse\, le Cirque du soleil (corpos Château Frontenac) et l’Orchestre symphonique de jeunes de Joliette. Elle est récipiendaire du Prix Du Public Théâtre Denise-Pelletier en tant que Meilleure Actrice et du Prix des abonnés du Trident pour la Meilleure Interprétation. \n\n\n\nPARTENAIRESLa tournée 2023-2024 du Récital de magie est rendue possible grâce au soutien du Conseil des Arts de Montréal (CAM en tournée) et de l’arrondissement du Plateau Mont-Royal (Programme de soutien aux actions culturelles du Plateau – PSAC). Le spectacle pourra aussi être apprécié\, entre autres\, à l’Assomption\, Shawinigan\, Granby\, Victoriaville\, Québec et Mont-Laurier.  \n\n\n\nPour davantage d’informations sur le projet\, visitez http://www.recitaldemagie.com
URL:https://journalmetro.com/evenement/le-recital-de-magie-4e-saison-de-magie-et-musique-sous-les-arbres-pour-les-illusionnistes-10/
LOCATION:Centre communautaire Gerry-Robertson\, 9665 boulevard Gouin Ouest\, Montréal\, Canada
CATEGORIES:Communautaire
ATTACH;FMTTYPE=image/jpeg:https://journalmetro.com/wp-content/uploads/2023/06/les-illusionnistes-2.jpg
END:VEVENT
END:VCALENDAR