BEGIN:VCALENDAR
VERSION:2.0
PRODID:-//Journal Métro - ECPv6.0.13//NONSGML v1.0//EN
CALSCALE:GREGORIAN
METHOD:PUBLISH
X-WR-CALNAME:Journal Métro
X-ORIGINAL-URL:https://journalmetro.com
X-WR-CALDESC:évènements pour Journal Métro
REFRESH-INTERVAL;VALUE=DURATION:PT1H
X-Robots-Tag:noindex
X-PUBLISHED-TTL:PT1H
BEGIN:VTIMEZONE
TZID:America/Toronto
BEGIN:DAYLIGHT
TZOFFSETFROM:-0500
TZOFFSETTO:-0400
TZNAME:EDT
DTSTART:20230312T070000
END:DAYLIGHT
BEGIN:STANDARD
TZOFFSETFROM:-0400
TZOFFSETTO:-0500
TZNAME:EST
DTSTART:20231105T060000
END:STANDARD
END:VTIMEZONE
BEGIN:VEVENT
DTSTART;TZID=America/Toronto:20230510T120000
DTEND;TZID=America/Toronto:20231023T170000
DTSTAMP:20231016T120308
CREATED:20230615T143656Z
LAST-MODIFIED:20230615T143657Z
UID:10018089-1683720000-1698080400@journalmetro.com
SUMMARY:Ça pousse! Une histoire à cultiver
DESCRIPTION:L’exposition vous dévoile les secrets de la culture des aliments. \n\n\n\nDescription\n\n\n\nDe la préparation des semis à la conservation des aliments\, de nombreux savoir-faire se sont transmis de génération en génération pour assurer à la population une forme d’autonomie alimentaire. Cette exposition vous fera découvrir les gestes\, les méthodes et les outils qui ont permis aux habitants et habitantes du territoire de se nourrir de la terre. De nombreux objets et œuvres d’art des collections du Musée\, rarement présentés au public\, vous seront dévoilés. \n\n\n\nComplétez votre visite de l’exposition par un détour dans notre potager historique. Vous y découvrirez plusieurs plantes ancestrales qui ont jadis fleuri dans les jardins montréalais. Un atelier de fabrication de bombes de semences est également offert gratuitement et en tout temps aux familles qui visitent le Musée. \n\n\n\nLe 13 mai à 14h\, l’historienne et commissaire de l’exposition\, Éliane Bélec\, offrira une visite guidée gratuite dans le cadre du Festival d’histoire de Montréal. Aucune réservation n’est requise. \n\n\n\nL’exposition est accessible du mercredi au dimanche\, de 12 h à 17 h du 10 mai au 29 octobre 2023.
URL:https://journalmetro.com/evenement/ca-pousse-une-histoire-a-cultiver-2/
LOCATION:Musée de Lachine\, 1 chemin du Musée\, Montreal\, QC\, H8S 4L9\, Canada
CATEGORIES:Communautaire
ATTACH;FMTTYPE=image/jpeg:https://journalmetro.com/wp-content/uploads/2023/06/mr3dws1eayrrgm4jqo4i.jpeg
END:VEVENT
BEGIN:VEVENT
DTSTART;TZID=America/Toronto:20230906T190000
DTEND;TZID=America/Toronto:20230906T200000
DTSTAMP:20231016T120308
CREATED:20230721T191540Z
LAST-MODIFIED:20230721T191542Z
UID:10019134-1694026800-1694030400@journalmetro.com
SUMMARY:Conseils gratuits d’experts en comportement canin
DESCRIPTION:Vous avez un chien? Venez profiter de l’expertise d’éducateurs canins\, qui vous partageront leurs meilleurs conseils pour mieux vivre avec votre animal de compagnie. Cet atelier théorique et pratique se déroule dans une trentaine de parcs à chiens de la Ville. \n\n\n\nParmi les sujets qui seront abordés : la gestion de la dynamique dans un parc à chiens\, l’intégration du chiot\, le langage canin\, la prévention des morsures\, l’agression entre chiens et le jeu. \n\n\n\nSource: montreal.ca \n\n\n\nDates et horaires sont sujets à changement sans préavis. Avant de vous déplacer\, vérifier ces informations sur montreal.ca
URL:https://journalmetro.com/evenement/conseils-gratuits-dexperts-en-comportement-canin-25/
LOCATION:Parc à chiens Roger-Richer\, Angle St-Jacques et Richmonds\, Montréal\, QC\, Canada
ATTACH;FMTTYPE=image/jpeg:https://journalmetro.com/wp-content/uploads/2023/07/expert-canin-2.jpg
END:VEVENT
BEGIN:VEVENT
DTSTART;TZID=America/Toronto:20230908T180000
DTEND;TZID=America/Toronto:20231022T190000
DTSTAMP:20231016T120308
CREATED:20230714T190035Z
LAST-MODIFIED:20230714T190037Z
UID:10018874-1694196000-1698001200@journalmetro.com
SUMMARY:Genèse - Normand Besner
DESCRIPTION:L’exposition temporaire Genèse de Normand Besner sera présentée à L’Entrepôt de Lachine\, du 8 septembre au 22 octobre 2023. \n\n\n\nL’artiste lachinois Normand Besner nous propose une réflexion sur la genèse et les générations au fil du temps : passé\, présent et futur. Dans cette série d’œuvres minimalistes\, marquées par un traitement à la spatule\, le mouvement des lignes de vie est représenté en suspension dans l’espace\, dans le temps. \n\n\n\nLe vernissage aura lieu le 8 septembre\, de 18 h à 21 h. \n\n\n\nLes heures d’ouverture de l’exposition sont les vendredis de 18 h à 21 h ainsi que les samedis et les dimanches\, de 12 h à 17 h. Ouvert également pendant le ciné-club et les spectacles. \n\n\n\nSource: montreal.ca \n\n\n\nDates et horaires sont sujets à changement sans préavis. Avant de vous déplacer\, vérifier ces informations sur montreal.ca
URL:https://journalmetro.com/evenement/genese-normand-besner/
LOCATION:L’Entrepôt – maison de la culture de Lachine\, 2901\, boulevard Saint-Joseph\, Montréal\, QC\, H8S4B7\, Canada
ATTACH;FMTTYPE=image/jpeg:https://journalmetro.com/wp-content/uploads/2023/07/genese-2.jpg
END:VEVENT
BEGIN:VEVENT
DTSTART;TZID=America/Toronto:20230914T193000
DTEND;TZID=America/Toronto:20230914T210000
DTSTAMP:20231016T120308
CREATED:20230714T190521Z
LAST-MODIFIED:20230714T190522Z
UID:10018875-1694719800-1694725200@journalmetro.com
SUMMARY:En rodage - Louis Morissette
DESCRIPTION:L’Entrepôt\, maison de la culture de Lachine est heureux de présenter le spectacle En rodage de Louis Morissette issu de sa programmation de l’automne 2023. \n\n\n\nMaintenant dans la cinquantaine\, Louis Morissette porte un regard humoristique et caustique sur son parcours\, le pouvoir des échecs professionnels\, et la société de performance. Avec une authenticité déroutante\, il se met à nu et pose la question : après quoi on court? \n\n\n\nSource: montreal.ca \n\n\n\nDates et horaires sont sujets à changement sans préavis. Avant de vous déplacer\, vérifier ces informations sur montreal.ca
URL:https://journalmetro.com/evenement/en-rodage-louis-morissette/
LOCATION:L’Entrepôt – maison de la culture de Lachine\, 2901\, boulevard Saint-Joseph\, Montréal\, QC\, H8S4B7\, Canada
ATTACH;FMTTYPE=image/jpeg:https://journalmetro.com/wp-content/uploads/2023/07/louis-morissette-2.jpg
END:VEVENT
BEGIN:VEVENT
DTSTART;TZID=America/Toronto:20230916T193000
DTEND;TZID=America/Toronto:20230916T204500
DTSTAMP:20231016T120308
CREATED:20230717T195900Z
LAST-MODIFIED:20230717T195902Z
UID:10018895-1694892600-1694897100@journalmetro.com
SUMMARY:Marie-Christine - Théâtre
DESCRIPTION:L’Entrepôt\, maison de la culture de Lachine est heureux de présenter la pièce Marie-Christine de Benoît Drouin-Germain issue de sa programmation de l’automne 2023. \n\n\n\nMarie-Christine est une fille anxieuse. Elle a peur de tout. Mais elle tente de célébrer la vie malgré l’angoisse qui la paralyse parfois. Elle nous présente un spectacle de musique avec son groupe Les Estacades. À travers ses chansons et ses histoires\, le théâtre prend forme peu à peu\, un drame se dessine.  \n\n\n\nMarie-Christine nous offre un vibrant hommage de son frère\, en nous faisant voyager de la Cathédrale de L’Assomption à Trois-Rivières jusque dans les White Mountains au New-Hampshire. \n\n\n\nLa musique nous accompagne tout au long du spectacle. Les trois interprètes sur scène sont à la fois chanteurs\, musiciens et comédiens. C’est un show qui fait du bien\, c’est drôle\, c’est touchant\, c’est plein d’espoir. \n\n\n\nUne discussion avec les artistes se tiendra après la pièce. \n\n\n\nPrésentée en collaboration avec Les Voyagements. \n\n\n\nSource: montreal.ca \n\n\n\nDates et horaires sont sujets à changement sans préavis. Avant de vous déplacer\, vérifier ces informations sur montreal.ca
URL:https://journalmetro.com/evenement/marie-christine-theatre/
LOCATION:L’Entrepôt – maison de la culture de Lachine\, 2901\, boulevard Saint-Joseph\, Montréal\, QC\, H8S4B7\, Canada
CATEGORIES:Communautaire
ATTACH;FMTTYPE=image/jpeg:https://journalmetro.com/wp-content/uploads/2023/07/marie-christine-2.jpg
END:VEVENT
BEGIN:VEVENT
DTSTART;TZID=America/Toronto:20230924T133000
DTEND;TZID=America/Toronto:20230924T143000
DTSTAMP:20231016T120308
CREATED:20230717T200307Z
LAST-MODIFIED:20230717T200310Z
UID:10018896-1695562200-1695565800@journalmetro.com
SUMMARY:O’ la traversée fantastique - Nadine Walsh
DESCRIPTION:L’Entrepôt\, maison de la culture de Lachine est heureux de présenter le conte O’ la traversée fantastique de Nadine Walsh\, issu de la programmation de l’automne 2023. \n\n\n\nFiona\, une petite Irlandaise s’embarque pour le Canada. Elle fuit la famine qui mange son île verte. Sur le bateau\, la vie n’est pas rose. Il y a trois fois trop de monde\, la cale est noire\, ça pue et les rats lui passent sur le corps! Pendant la traversée\, Fiona devra sauver les fairies de l’oubli\, car ces êtres féériques émigrent eux aussi ! À travers ce récit initiatique\, Nadine relate la traversée de ses ancêtres irlandais\, émigrés en 1847 et plonge dans les contes celtes. Parsemé d’ombres et de lumières\, O’ est un spectacle émouvant\, ludique et porteur d’images… fantastiques! \n\n\n\nÀ partir de 7 ans. \n\n\n\nSource: montreal.ca \n\n\n\nDates et horaires sont sujets à changement sans préavis. Avant de vous déplacer\, vérifier ces informations sur montreal.ca
URL:https://journalmetro.com/evenement/o-la-traversee-fantastique-nadine-walsh/
LOCATION:L’Entrepôt – maison de la culture de Lachine\, 2901\, boulevard Saint-Joseph\, Montréal\, QC\, H8S4B7\, Canada
CATEGORIES:Communautaire
ATTACH;FMTTYPE=image/jpeg:https://journalmetro.com/wp-content/uploads/2023/07/o-la-traversee-fantastique-2.jpg
END:VEVENT
BEGIN:VEVENT
DTSTART;TZID=America/Toronto:20230930T180000
DTEND;TZID=America/Toronto:20230930T190000
DTSTAMP:20231016T120308
CREATED:20230726T183659Z
LAST-MODIFIED:20230726T183702Z
UID:10019206-1696096800-1696100400@journalmetro.com
SUMMARY:All is in the Seed - Marthe Halvorsen
DESCRIPTION:Grâce à la sincérité unique de sa voix\, Marthe Halvorsen a la capacité spéciale de toucher quelque chose de profond chez les mélomanes. La nature caractéristique de l’Arctique norvégien de son enfance a toujours été une source d’inspiration importante dans sa musique. \n\n\n\nBasée à Montréal\, cette artiste joue une musique Indie Folk évocatrice et rêveuse avec des influences de la musique du monde. \n\n\n\nAvec un amour pour un son minimaliste et non poli\, l’autrice-compositrice-interprète cherche à écrire des chansons qui portent une intention et qui viennent d’un endroit authentique en elle-même. Elles servent d’outil de réflexion et de connexion. \n\n\n\nLe groupe de Marthe Halvorsen\n\n\n\nVoix et guitare : Marthe HalvorsenTabla et kamele ngoni : Saulo Olmedo EvansGuitare électrique : Francois Jalbert \n\n\n\nL’Entrepôt\, maison de la culture de Lachine est heureux de présenter le concert All is in The Seed de Marthe Halvorsen issu de sa programmation de l’automne 2023 et dans le cadre des Journées de la culture 2023. \n\n\n\nLe concert sera suivi d’une discussion avec l’artiste. \n\n\n\nSource: montreal.ca \n\n\n\nDates et horaires sont sujets à changement sans préavis. Avant de vous déplacer\, vérifier ces informations sur montreal.ca \n\n\n\nMarthe Halvorsen\n\n\n\nUn événement présenté dans le cadre du CAM en tournée.
URL:https://journalmetro.com/evenement/all-is-in-the-seed-marthe-halvorsen/
LOCATION:L’Entrepôt – maison de la culture de Lachine\, 2901\, boulevard Saint-Joseph\, Montréal\, QC\, H8S4B7\, Canada
CATEGORIES:Communautaire
ATTACH;FMTTYPE=image/jpeg:https://journalmetro.com/wp-content/uploads/2023/07/all-is-in-the-seed-2.jpg
END:VEVENT
BEGIN:VEVENT
DTSTART;TZID=America/Toronto:20231001T133000
DTEND;TZID=America/Toronto:20231001T133000
DTSTAMP:20231016T120308
CREATED:20230704T165331Z
LAST-MODIFIED:20230704T165333Z
UID:10018623-1696167000-1696167000@journalmetro.com
SUMMARY:Le Récital de magie - 4e saison de magie et musique sous les arbres pour Les Illusionnistes!
DESCRIPTION:Après avoir touché plus de 10 000 spectateurs et spectatrices\, le collectif de magie nouvelle Les Illusionnistes reprendra la route cet été pour 30 nouvelles représentations de leur Récital de magie\, dont 12 dans les parcs de Montréal. Le spectacle ambulant de magie et musique\, qui a été présenté plus d’une centaine de fois auprès des diffuseurs reconnus du Québec (Ville-Marie/Centre-Ville\, LaTohu\, Place des Arts\, Festival Phénoména) et qui met en vedette Marc-Alexandre Brûlé et Valérie Descheneaux\, sera présenté gratuitement dans les arrondissements du Plateau Mont-Royal\, Rosemont-Petite-Patrie\, Outremont\, le Sud-Ouest\, Saint Léonard et Lachine\, entre autres. \n\n\n\n« Dès le début de la pandémie\, Andrée-Anne Gingras-Roy et moi avons imaginé ce « magie-concert » pour les cours intérieures d’habitations de l’OMHM\, dans le souci de rassembler toutes les générations dans l’espace public. Nous sommes ravis de le partager pour une 4e année avec familles et aînés de la métropole.» – Marc-Alexandre Brûlé\, co-directeur artistique du collectif Les Illusionnistes. \n\n\n\nCréé par l’illusionniste et concepteur magique Marc-Alexandre Brûlé et la musicienne multi-instrumentiste et femme de théâtreAndrée-Anne Gingras-Roy\, ce projet hors les murs met en scène un couple de télépathes dysfonctionnel tout droit sorti d’un music-hall des années 20. \n\n\n\nCroisement unique d’un concert de femme-orchestre et de prouesses de magie actuelle\, le duo théâtral convie toutes les générations au coeur de la ville pour un rendez-vous intimiste à la fois classique\, drôle et envoûtant. \n\n\n\nChoisissez votre date et placez-la à votre calendrier dès aujourd’hui! \n\n\n\nVendredi 21 juillet 2023 19h00 Parc Baldwin\, Terrasse MercureMardi 25 juillet 2023 19h00 Scène culturelle du Parc Wilfrid-Bastien\, Saint-LéonardMercredi 26 juillet 2023 17h30 Parc de la Louisiane\, RosemontVendredi 28 juillet 2023 19h00 Parc Jeanne-ManceDimanche 30 juillet 2023 14h00 Parc Lafontaine\, Avenue Émile-DuployéVendredi 4 août 2023 19h00 Place André-LachapelleSamedi 5 août 2023 14h00 Parc Ethel-StarkDimanche 6 août 2023 15h30 Jardins Ashkelon\, Côte-Saint-LucVendredi 11 août 2023 18h00 Parc de l’aréna Saint-LouisSamedi 26 août 2023 16h00 îlot Saint-Viateur\, OutremontDimanche 1er octobre 2023 13h30 L’Entrepôt\, Lachine (Journées de la culture)Vendredi 13 octobre 2023 19h00 Centre communautaire Gerry-Robertson\, Pierrefonds \n\n\n\nToutes les dates disponibles ici : CALENDRIER https://www.marcalexandrebrule.com/evenements \n\n\n\nMUSIQUE MAGIQUE« J’utilise des boucles (loops) et séquences pour me démultiplier et créer des couches orchestrales. On peut entendre dans la même pièce violon\, voix\, accordéon et cajon\, mais tous joués en direct\, par la même personne. Les spectateurs aiment voir la construction à vue des pièces musicales\, comme des tours de magie dont on expose les secrets. C’est moi la vraie magicienne du spectacle!» – Andrée-Anne Gingras-Roy\, compositrice et co-conceptrice du spectacle. \n\n\n\nUNE COMPAGNIE DE MAGIE NOUVELLESeule entité entièrement dédiée à la magie contemporaine sur le continent\, le collectif terminait cet hiver son deuxième projet éponyme\, Les Illusionnistes\, un grand spectacle de scène créé en collaboration avec Philippe Robert qui sera en tournée québécoise dès l’automne 2024-25. \n\n\n\nÉQUIPE \n\n\n\nANDRÉE-ANNE GINGRAS-ROY (compositrice et interprète)Musicienne multi-instrumentiste et femme de théâtre\, ANDRÉE-ANNE GINGRAS-ROY possède une maîtrise du Conservatoire de Musique de Québec ainsi qu’un diplôme de performance (musique et théâtre combinés) de l’Université Carnegie Mellon de Pittsburgh. Andrée-Anne a arpenté pendant plus de 15 ans les plus grandes scènes de la planète\, d’abord au sein du Cirque Éloize\, puis de la Compania Finzi Pasca. Elle a contribué comme proche collaboratrice du metteur en scène Daniele Finzi Pasca à la création du spectacle Avudo (375e de Montréal) et de la cérémonie d’ouverture des Jeux Paraolympiques de Sotchi (performance solo). Elle est aussi compositrice et photographe. \n\n\n\nMARC-ALEXANDRE BRÛLÉ (concepteur et interprète)Circassien issu du milieu théâtral\, MARC-ALEXANDRE BRÛLÉ est un magicien et concepteur d’illusions basé à Montréal. Depuis 22 ans\, il oeuvre pour le milieu événementiel où il a animé des centaines d’événements pour des institutions. Il est aussi directeur artistique du studio iLLUSIONs DESIGN (www.illusions.design/fr) avec qui il crée et réalise des illusions et effets magiques pour la scène (Kodo/ExMachina – Robert Lepage; Daniele Finzi Pasca – Teatro Sunil / Cirque Éloize; Arturo Brachetti\, Franco Dragone et Serge Postigo – Juste Pour Rire Spectacles; École Nationale de Théâtre; cérémonie d’ouverture des Jeux du Québec. Il a été l’élève des magiciens de renom Eugene Burger et Jeff McBride. \n\n\n\nVALÉRIE DESCHENEAUX (musicienne et interprète)Formée du Conservatoire d’art dramatique de Québec (2002)\, VALÉRIE DESCHENEAUX travaille dans les deux langues autant à la télévision qu’au théâtre. On a pu la voir dans L’Auberge du chien noir où elle a campé le rôle d’Annabelle Roy pendant 8 ans\, dans 19-2\, Providence\, Lien Fatal\, Watatatow\, Les poupées russes\, Silent Era et au théâtre dans Another Brick In The Wall (Dominic Champagne)\, Roméo et Juliette (Jacques Rossi)\, Les Belles-Soeurs (Serge Denoncourt)\, The Bunker (Léo Sama)\, La Bonne Âme Du Setchouan (Antoine Laprise) et D’Artagnan & Les 3 Mousquetaires (Frédéric Bélanger). Aussi musicienne multi-instrumentiste formée de l’UQAM\, elle a composé et interprété pour le Conservatoire d’art dramatique de Québec\, Artamuse\, le Cirque du soleil (corpos Château Frontenac) et l’Orchestre symphonique de jeunes de Joliette. Elle est récipiendaire du Prix Du Public Théâtre Denise-Pelletier en tant que Meilleure Actrice et du Prix des abonnés du Trident pour la Meilleure Interprétation. \n\n\n\nPARTENAIRESLa tournée 2023-2024 du Récital de magie est rendue possible grâce au soutien du Conseil des Arts de Montréal (CAM en tournée) et de l’arrondissement du Plateau Mont-Royal (Programme de soutien aux actions culturelles du Plateau – PSAC). Le spectacle pourra aussi être apprécié\, entre autres\, à l’Assomption\, Shawinigan\, Granby\, Victoriaville\, Québec et Mont-Laurier.  \n\n\n\nPour davantage d’informations sur le projet\, visitez http://www.recitaldemagie.com
URL:https://journalmetro.com/evenement/le-recital-de-magie-4e-saison-de-magie-et-musique-sous-les-arbres-pour-les-illusionnistes-9/
LOCATION:L’Entrepôt – maison de la culture de Lachine\, 2901\, boulevard Saint-Joseph\, Montréal\, QC\, H8S4B7\, Canada
CATEGORIES:Communautaire
ATTACH;FMTTYPE=image/jpeg:https://journalmetro.com/wp-content/uploads/2023/06/les-illusionnistes-2.jpg
END:VEVENT
END:VCALENDAR