BEGIN:VCALENDAR
VERSION:2.0
PRODID:-//Journal Métro - ECPv6.0.13//NONSGML v1.0//EN
CALSCALE:GREGORIAN
METHOD:PUBLISH
X-WR-CALNAME:Journal Métro
X-ORIGINAL-URL:https://journalmetro.com
X-WR-CALDESC:évènements pour Journal Métro
REFRESH-INTERVAL;VALUE=DURATION:PT1H
X-Robots-Tag:noindex
X-PUBLISHED-TTL:PT1H
BEGIN:VTIMEZONE
TZID:America/Toronto
BEGIN:DAYLIGHT
TZOFFSETFROM:-0500
TZOFFSETTO:-0400
TZNAME:EDT
DTSTART:20230312T070000
END:DAYLIGHT
BEGIN:STANDARD
TZOFFSETFROM:-0400
TZOFFSETTO:-0500
TZNAME:EST
DTSTART:20231105T060000
END:STANDARD
END:VTIMEZONE
BEGIN:VEVENT
DTSTART;TZID=America/Toronto:20230510T120000
DTEND;TZID=America/Toronto:20231023T170000
DTSTAMP:20231016T120141
CREATED:20230615T143656Z
LAST-MODIFIED:20230615T143657Z
UID:10018089-1683720000-1698080400@journalmetro.com
SUMMARY:Ça pousse! Une histoire à cultiver
DESCRIPTION:L’exposition vous dévoile les secrets de la culture des aliments. \n\n\n\nDescription\n\n\n\nDe la préparation des semis à la conservation des aliments\, de nombreux savoir-faire se sont transmis de génération en génération pour assurer à la population une forme d’autonomie alimentaire. Cette exposition vous fera découvrir les gestes\, les méthodes et les outils qui ont permis aux habitants et habitantes du territoire de se nourrir de la terre. De nombreux objets et œuvres d’art des collections du Musée\, rarement présentés au public\, vous seront dévoilés. \n\n\n\nComplétez votre visite de l’exposition par un détour dans notre potager historique. Vous y découvrirez plusieurs plantes ancestrales qui ont jadis fleuri dans les jardins montréalais. Un atelier de fabrication de bombes de semences est également offert gratuitement et en tout temps aux familles qui visitent le Musée. \n\n\n\nLe 13 mai à 14h\, l’historienne et commissaire de l’exposition\, Éliane Bélec\, offrira une visite guidée gratuite dans le cadre du Festival d’histoire de Montréal. Aucune réservation n’est requise. \n\n\n\nL’exposition est accessible du mercredi au dimanche\, de 12 h à 17 h du 10 mai au 29 octobre 2023.
URL:https://journalmetro.com/evenement/ca-pousse-une-histoire-a-cultiver-2/
LOCATION:Musée de Lachine\, 1 chemin du Musée\, Montreal\, QC\, H8S 4L9\, Canada
CATEGORIES:Communautaire
ATTACH;FMTTYPE=image/jpeg:https://journalmetro.com/wp-content/uploads/2023/06/mr3dws1eayrrgm4jqo4i.jpeg
END:VEVENT
BEGIN:VEVENT
DTSTART;TZID=America/Toronto:20230908T180000
DTEND;TZID=America/Toronto:20231022T190000
DTSTAMP:20231016T120141
CREATED:20230714T190035Z
LAST-MODIFIED:20230714T190037Z
UID:10018874-1694196000-1698001200@journalmetro.com
SUMMARY:Genèse - Normand Besner
DESCRIPTION:L’exposition temporaire Genèse de Normand Besner sera présentée à L’Entrepôt de Lachine\, du 8 septembre au 22 octobre 2023. \n\n\n\nL’artiste lachinois Normand Besner nous propose une réflexion sur la genèse et les générations au fil du temps : passé\, présent et futur. Dans cette série d’œuvres minimalistes\, marquées par un traitement à la spatule\, le mouvement des lignes de vie est représenté en suspension dans l’espace\, dans le temps. \n\n\n\nLe vernissage aura lieu le 8 septembre\, de 18 h à 21 h. \n\n\n\nLes heures d’ouverture de l’exposition sont les vendredis de 18 h à 21 h ainsi que les samedis et les dimanches\, de 12 h à 17 h. Ouvert également pendant le ciné-club et les spectacles. \n\n\n\nSource: montreal.ca \n\n\n\nDates et horaires sont sujets à changement sans préavis. Avant de vous déplacer\, vérifier ces informations sur montreal.ca
URL:https://journalmetro.com/evenement/genese-normand-besner/
LOCATION:L’Entrepôt – maison de la culture de Lachine\, 2901\, boulevard Saint-Joseph\, Montréal\, QC\, H8S4B7\, Canada
ATTACH;FMTTYPE=image/jpeg:https://journalmetro.com/wp-content/uploads/2023/07/genese-2.jpg
END:VEVENT
END:VCALENDAR