BEGIN:VCALENDAR
VERSION:2.0
PRODID:-//Journal Métro - ECPv6.0.13//NONSGML v1.0//EN
CALSCALE:GREGORIAN
METHOD:PUBLISH
X-WR-CALNAME:Journal Métro
X-ORIGINAL-URL:https://journalmetro.com
X-WR-CALDESC:évènements pour Journal Métro
REFRESH-INTERVAL;VALUE=DURATION:PT1H
X-Robots-Tag:noindex
X-PUBLISHED-TTL:PT1H
BEGIN:VTIMEZONE
TZID:America/Toronto
BEGIN:DAYLIGHT
TZOFFSETFROM:-0500
TZOFFSETTO:-0400
TZNAME:EDT
DTSTART:20230312T070000
END:DAYLIGHT
BEGIN:STANDARD
TZOFFSETFROM:-0400
TZOFFSETTO:-0500
TZNAME:EST
DTSTART:20231105T060000
END:STANDARD
END:VTIMEZONE
BEGIN:VEVENT
DTSTART;TZID=America/Toronto:20230605T100000
DTEND;TZID=America/Toronto:20230831T180000
DTSTAMP:20231016T110101
CREATED:20230531T161750Z
LAST-MODIFIED:20230531T161751Z
UID:10017823-1685959200-1693504800@journalmetro.com
SUMMARY:Les constellations de Verdun
DESCRIPTION:Venez créer votre constellation dans les bibliothèques de Verdun. \n\n\n\nCet été\, les bibliothèques de Verdun ont la tête dans les étoiles. Sur la grande baie vitrée de la bibliothèque de L’Île-des-Sœurs\, accrochez votre étoile avec celles des autres membres de votre famille\, de vos amis ou de ceux qui vous sont chers pour créer votre constellation. \n\n\n\nSource: montreal.ca \n\n\n\nDates et horaires sont sujets à changement sans préavis. Avant de vous déplacer\, vérifier ces informations sur montreal.ca
URL:https://journalmetro.com/evenement/les-constellations-de-verdun/
LOCATION:Bibliothèque de l’Ile des Soeurs\, 260 rue Elgar\, Montréal\, QC\, Canada
ATTACH;FMTTYPE=image/jpeg:https://journalmetro.com/wp-content/uploads/2023/05/constellations-verdun-2.jpg
END:VEVENT
BEGIN:VEVENT
DTSTART;TZID=America/Toronto:20230607T150000
DTEND;TZID=America/Toronto:20231101T190000
DTSTAMP:20231016T110101
CREATED:20230615T160334Z
LAST-MODIFIED:20230615T160510Z
UID:10018097-1686150000-1698865200@journalmetro.com
SUMMARY:Les marchés fermiers de Verdun
DESCRIPTION:Faites le plein de légumes frais et de produits locaux lors des marchés saisonniers de Verdun. \n\n\n\nLes mercredis du 7 juin au 1er novembre\, entre 15 h et 19 h. \n\n\n\nDescription\n\n\n\nVous avez envie de profiter de produits frais\, de saison\, sans trop vous éloigner de chez vous? Profitez des marchés saisonniers de Verdun!
URL:https://journalmetro.com/evenement/les-marches-fermiers-de-verdun/
LOCATION:Bibliothèque Jacqueline-De Repentigny\, 5955\, avenue Bannantyne\, Montréal\, QC\, H4H 1H6\, Canada
ATTACH;FMTTYPE=image/jpeg:https://journalmetro.com/wp-content/uploads/2023/06/epcjfifdodidmn1y2mrd-Cropped.jpg
END:VEVENT
BEGIN:VEVENT
DTSTART;TZID=America/Toronto:20230607T160000
DTEND;TZID=America/Toronto:20230927T180000
DTSTAMP:20231016T110101
CREATED:20230601T182206Z
LAST-MODIFIED:20230601T182207Z
UID:10017865-1686153600-1695837600@journalmetro.com
SUMMARY:Biblio au marché
DESCRIPTION:Profitez de votre visite au marché avec les enfants pour venir réaliser un bricolage avec la bibliothécaire jeunesse et découvrir des suggestions de lecture. \n\n\n\nL’activité a lieu dans le parc devant la bibliothèque. Elle sera annulée en cas de pluie. \n\n\n\nSource: montreal.ca \n\n\n\nDates et horaires sont sujets à changement sans préavis. Avant de vous déplacer\, vérifier ces informations sur montreal.ca
URL:https://journalmetro.com/evenement/biblio-au-marche/
LOCATION:Bibliothèque Jacqueline-De Repentigny\, 5955\, avenue Bannantyne\, Montréal\, QC\, H4H 1H6\, Canada
ATTACH;FMTTYPE=image/jpeg:https://journalmetro.com/wp-content/uploads/2023/06/biblio-au-marche-2.jpg
END:VEVENT
BEGIN:VEVENT
DTSTART;TZID=America/Toronto:20230611T090000
DTEND;TZID=America/Toronto:20230910T110000
DTSTAMP:20231016T110102
CREATED:20230605T203352Z
LAST-MODIFIED:20230605T203354Z
UID:10017920-1686474000-1694343600@journalmetro.com
SUMMARY:Location gratuite de kayaks et de planches à pagaie
DESCRIPTION:Découvrez les joie de la navigation en nature\, en plein ville! \n\n\n\nDates: 11 juin\, 17 juin\, 15 juillet\, 10 septembre \n\n\n\nLes place sont limitées.  Inscriptions en ligne seulement. \n\n\n\nLe lien d’inscription est fonctionnel 24 à 48 heures avant la date de l’activité. \n\n\n\nEn collaboration avec NAVI espace nautique en ville \n\n\n\nSource: montreal.ca \n\n\n\nDates et horaires sont sujets à changement sans préavis. Avant de vous déplacer\, vérifier ces informations sur montreal.ca
URL:https://journalmetro.com/evenement/location-gratuite-de-kayaks-et-de-planches-a-pagaie/
LOCATION:Parc de l’Honorable-George-O’Reilly\, 7523\, boulevard LaSalle\, Montréal\, QC\, H4H 1R4\, Canada
ATTACH;FMTTYPE=image/jpeg:https://journalmetro.com/wp-content/uploads/2023/06/location-gratuite-kayaks-2.jpg
END:VEVENT
BEGIN:VEVENT
DTSTART;TZID=America/Toronto:20230611T163000
DTEND;TZID=America/Toronto:20230924T210000
DTSTAMP:20231016T110102
CREATED:20230524T140949Z
LAST-MODIFIED:20230524T151048Z
UID:10017673-1686501000-1695589200@journalmetro.com
SUMMARY:West Coast Swing
DESCRIPTION:Venez célébrer l’été en dansant au rythme du West Coast Swing. \n\n\n\nLes dimanches 11 juin\, 9 et 30 juillet\, 6 et 27 août ainsi que le 10 et 24 septembre de 16h30 à 21h. \n\n\n\nL’activité gratuite est offerte dans le cadre de notre programmation Verdun actif. \n\n\n\nEn collaboration avec Westie Montréal. \n\n\n\nL’activité peut être annulée en cas de pluie. \n\n\n\nSource: montreal.ca \n\n\n\nDates et horaires sont sujets à changement sans préavis. Avant de vous déplacer\, vérifier ces informations sur montreal.ca
URL:https://journalmetro.com/evenement/west-coast-swing/
LOCATION:Piste de danse de l’ilot John-Gallagher\, 7000\, boulevard LaSalle\, Montréal\, QC\, H4H 1R4\, Canada
ATTACH;FMTTYPE=image/jpeg:https://journalmetro.com/wp-content/uploads/2023/05/west-coast-swing-2_1200x675.jpg
END:VEVENT
BEGIN:VEVENT
DTSTART;TZID=America/Toronto:20230612T160000
DTEND;TZID=America/Toronto:20230927T160000
DTSTAMP:20231016T110102
CREATED:20230612T202731Z
LAST-MODIFIED:20230612T202733Z
UID:10018034-1686585600-1695830400@journalmetro.com
SUMMARY:Biblio au marché
DESCRIPTION:Profitez de votre visite au marché avec les enfants pour venir réaliser un bricolage avec la bibliothécaire jeunesse et découvrir des suggestions de lecture. \n\n\n\nL’activité a lieu dans le parc devant la bibliothèque. Elle sera annulée en cas de pluie. \n\n\n\nSource: montreal.ca \n\n\n\nDates et horaires sont sujets à changement sans préavis. Avant de vous déplacer\, vérifier ces informations sur montreal.ca
URL:https://journalmetro.com/evenement/biblio-au-marche-2/
LOCATION:Bibliothèque Jacqueline-De Repentigny\, 5955\, avenue Bannantyne\, Montréal\, QC\, H4H 1H6\, Canada
ATTACH;FMTTYPE=image/jpeg:https://journalmetro.com/wp-content/uploads/2023/06/biblio-marche-2.jpg
END:VEVENT
BEGIN:VEVENT
DTSTART;TZID=America/Toronto:20230614T190000
DTEND;TZID=America/Toronto:20230906T220000
DTSTAMP:20231016T110102
CREATED:20230524T143437Z
LAST-MODIFIED:20230524T143438Z
UID:10017677-1686769200-1694037600@journalmetro.com
SUMMARY:Soirée tango
DESCRIPTION:Soirée tango. Danse libre et cours. \n\n\n\nTous les mercredis de 19h à 22h du 14 juin au 6 septembre. \n\n\n\nL’activité gratuite est offerte dans le cadre de notre programmation Verdun actif. \n\n\n\nL’activité peut être annulée en cas de pluie. \n\n\n\nEn collaboration avec l’école de danse Tango Libre. \n\n\n\nSource: montreal.ca \n\n\n\nDates et horaires sont sujets à changement sans préavis. Avant de vous déplacer\, vérifier ces informations sur montreal.ca
URL:https://journalmetro.com/evenement/soiree-tango-2/
LOCATION:Piste de danse de l’ilot John-Gallagher\, 7000\, boulevard LaSalle\, Montréal\, QC\, H4H 1R4\, Canada
ATTACH;FMTTYPE=image/jpeg:https://journalmetro.com/wp-content/uploads/2023/05/soiree-tango-2.jpg
END:VEVENT
BEGIN:VEVENT
DTSTART;TZID=America/Toronto:20230625T100000
DTEND;TZID=America/Toronto:20231015T140000
DTSTAMP:20231016T110102
CREATED:20230607T182506Z
LAST-MODIFIED:20230607T182508Z
UID:10017994-1687687200-1697378400@journalmetro.com
SUMMARY:Le marché bio-local de L’Île-des-Soeurs
DESCRIPTION:Vous avez envie de profiter de produits frais\, de saison\, sans trop vous éloigner de chez vous? Profitez des marchés saisonniers de Verdun! \n\n\n\nFaites le plein de légumes frais et de produits locaux au marché bio-local de L’Île-des-Soeurs. \n\n\n\nSource: montreal.ca \n\n\n\nDates et horaires sont sujets à changement sans préavis. Avant de vous déplacer\, vérifier ces informations sur montreal.ca
URL:https://journalmetro.com/evenement/le-marche-bio-local-de-lile-des-soeurs-2/
LOCATION:Place de la Grande-Marguerite\, 40 Pl. du Commerce\, Verdun\, QC\, H3E 1J6\, Canada
ATTACH;FMTTYPE=image/jpeg:https://journalmetro.com/wp-content/uploads/2023/05/marche-bio-local-ids-2.jpg
END:VEVENT
BEGIN:VEVENT
DTSTART;TZID=America/Toronto:20230821T080000
DTEND;TZID=America/Toronto:20230828T170000
DTSTAMP:20231016T110102
CREATED:20230324T212452Z
LAST-MODIFIED:20230324T212456Z
UID:10010010-1692604800-1693242000@journalmetro.com
SUMMARY:Le Social Comédie Club
DESCRIPTION:Le Social Comédie Club est une soirée Open-Mic animée par Yasmeen Gregs avec Caro Monast et Thibault Varin à la chronique qui a lieu tous les premiers lundis du mois!  \n\n\n\nDates: les 6 février – 6 mars – 3 avril – 1er mai \n\n\n\nRéservez votre place sur les réseaux sociaux – Instagram\, Facebook \n\n\n\nPour info: socialcomedieclub@gmail.com
URL:https://journalmetro.com/evenement/le-social-comedie-club-3/2023-08-21/
LOCATION:Bar Social Verdun\, 3819 rue Wellington\, Montréal\, QC\, Canada
ATTACH;FMTTYPE=image/jpeg:https://journalmetro.com/wp-content/uploads/2023/01/comedie-social-club-2.jpg
END:VEVENT
BEGIN:VEVENT
DTSTART;TZID=America/Toronto:20230827T080000
DTEND;TZID=America/Toronto:20230903T170000
DTSTAMP:20231016T110102
CREATED:20230324T213307Z
LAST-MODIFIED:20230324T213416Z
UID:10009565-1693123200-1693760400@journalmetro.com
SUMMARY:Le brunch aux folles
DESCRIPTION:Venez nous rejoindre tous les premiers dimanches du mois* pour un brunch à ne pas manquer !! Misty Waterfalls sera rejoint par deux invités spéciaux à chaque spectacle pour vous faire rire\, pleurer\, mais surtout\, fêter!! \n\n\n\nLe brunch est trop tôt pour vous ? ! Nous avons tout ce qu’il vous faut ! Venez à l’After Party du spectacle tardif pour passer un moment tout aussi fou\, dès 17h. \n\n\n\n$10 à la porte \n\n\n\n*L’horaire est susceptible d’être modifié
URL:https://journalmetro.com/evenement/le-brunch-aux-folles-2/2023-08-27/
LOCATION:Bar Social Verdun\, 3819 rue Wellington\, Montréal\, QC\, Canada
ATTACH;FMTTYPE=image/jpeg:https://journalmetro.com/wp-content/uploads/2023/01/le-brunch-aux-folles-2.jpg
END:VEVENT
BEGIN:VEVENT
DTSTART;TZID=America/Toronto:20230830T200000
DTEND;TZID=America/Toronto:20230830T220000
DTSTAMP:20231016T110102
CREATED:20230627T154931Z
LAST-MODIFIED:20230627T154933Z
UID:10018403-1693425600-1693432800@journalmetro.com
SUMMARY:Seuls - Paul Tom
DESCRIPTION:Mêlant prises de vues réelles et cinéma d’animation\, le film Seuls porte l’empreinte de l’espoir : comment un enfant arrive-t-il à se reconstruire dans un nouveau pays\, quand il a tout laissé derrière\, même ses parents \n\n\n\nCraignant pour leur vie\, Afshin\, Alain et Patricia ont quitté leur pays sans leurs parents. Ils ont tous les trois entamé un périple qui allait les mener\, après plusieurs mois d’incertitude\, au Canada : Afshin a quitté l’Iran en 1986\, Alain le Burundi en 2009 et Patricia l’Ouganda en 2019. \n\n\n\nChaque année\, plus de 400 enfants arrivent seuls\, à la frontière canadienne\, pour demander le statut de réfugié. \n\n\n\nSeuls. 2021\, Québec\, 82 minutes\, version originale en français et en anglais avec sous-titres en français. \n\n\n\nPour information : 514-872-4995 ou quai5160@montreal.ca \n\n\n\nAnnulé en cas de pluie – suivez l’événement sur le Facebook du Quai 5160 \n\n\n\nApportez votre chaise \n\n\n\nL’accès aux toilettes de la Station sera disponible jusqu’à 21h. \n\n\n\nUn événement présenté dans le cadre du CAM en tournée. \n\n\n\nSource: montreal.ca \n\n\n\nDates et horaires sont sujets à changement sans préavis. Avant de vous déplacer\, vérifier ces informations sur montreal.ca
URL:https://journalmetro.com/evenement/seuls-paul-tom/
LOCATION:La STATION – Maison intergénérationnelle\, 201\, rue Berlioz\, Montréal\, QC\, H3E 1C1\, Canada
CATEGORIES:Communautaire
ATTACH;FMTTYPE=image/jpeg:https://journalmetro.com/wp-content/uploads/2023/06/seuls-paul-tom-2.jpg
END:VEVENT
BEGIN:VEVENT
DTSTART;TZID=America/Toronto:20230831T200000
DTEND;TZID=America/Toronto:20230831T220000
DTSTAMP:20231016T110102
CREATED:20230627T155359Z
LAST-MODIFIED:20230706T180447Z
UID:10018404-1693512000-1693519200@journalmetro.com
SUMMARY:Retour à Reims (Fragments) - Jean-Gabriel Périot
DESCRIPTION:Ce documentaire de Jean-Gabriel Périot raconte une histoire intime et politique du monde ouvrier français du début des années 1950 à aujourd’hui\, d’après l’essai autobiographique du sociologue et philosophe Didier Eribon. \n\n\n\nNarré par Adèle Haenel\, le film raconte habilement\, avec de nombreux extraits d’archives de différentes natures (reportages\, films de fiction\, films militants) l’histoire ouvrière de la France. \n\n\n\nLe réalisateur déploie son mode de réalisation singulier : entre documentaire\, œuvre expérimentale et fiction\, il utilise des images d’archives puissantes et pertinemment choisies pour interroger l’histoire\, la politique\, les enjeux sociaux et la violence. \n\n\n\nRetour à Reims (fragments). 2021\, France\, 83 minutes\, français.  \n\n\n\nCette soirée de Cinéma sous les étoiles est présentée par Funambules Médias. \n\n\n\nPour information : 514-872-4995 ou quai5160@montreal.ca \n\n\n\nApportez votre chaise ! \n\n\n\nAnnulé en cas de pluie – suivez l’événement sur le Facebook du Quai 5160 pour les annonces de dernières minute. \n\n\n\nUn événement présenté dans le cadre du CAM en tournée. \n\n\n\nSource: montreal.ca \n\n\n\nDates et horaires sont sujets à changement sans préavis. Avant de vous déplacer\, vérifier ces informations sur montreal.ca
URL:https://journalmetro.com/evenement/retour-a-reims-fragments-jean-gabriel-periot/
LOCATION:Terrain du presbytère de l’église Notre-Dame-des-Sept-Douleurs\, Angle Galt et Wellington\, Montréal\, QC\, H4G 1V8\, Canada
CATEGORIES:Communautaire
ATTACH;FMTTYPE=image/jpeg:https://journalmetro.com/wp-content/uploads/2023/06/retour-a-reims-2.jpg
END:VEVENT
BEGIN:VEVENT
DTSTART;TZID=America/Toronto:20230901T190000
DTEND;TZID=America/Toronto:20230924T220000
DTSTAMP:20231016T110102
CREATED:20230811T172906Z
LAST-MODIFIED:20230811T183324Z
UID:10019618-1693594800-1695592800@journalmetro.com
SUMMARY:Danse en ligne à Verdun!
DESCRIPTION:Venez vous amuser dans une belle ambiance musicale et dans un paysage avec vue sur le fleuve Saint-Laurent. Les gens y sont sympathiques et le sourire y est contagieux! \n\n\n\nL’activité est offerte dans le cadre de notre programmation Verdun actif. Elle peut être annulée en cas de pluie. \n\n\n\nEn collaboration avec Johanne Riel. \n\n\n\nSource: montreal.ca \n\n\n\nDates et horaires sont sujets à changement sans préavis. Avant de vous déplacer\, vérifier ces informations sur montreal.ca
URL:https://journalmetro.com/evenement/danse-en-ligne-a-verdun/
LOCATION:Piste de danse de l’ilot John-Gallagher\, 7000\, boulevard LaSalle\, Montréal\, QC\, H4H 1R4\, Canada
ATTACH;FMTTYPE=image/jpeg:https://journalmetro.com/wp-content/uploads/2023/08/danse-ligne-verdun-2.jpg
END:VEVENT
BEGIN:VEVENT
DTSTART;TZID=America/Toronto:20230902T090000
DTEND;TZID=America/Toronto:20230902T110000
DTSTAMP:20231016T110102
CREATED:20230811T173027Z
LAST-MODIFIED:20230811T173029Z
UID:10019619-1693645200-1693652400@journalmetro.com
SUMMARY:Location gratuite de kayaks et de planches à pagaie (Île-des-Soeurs)
DESCRIPTION:Découvrez les joie de la navigation en nature\, en plein ville! \n\n\n\nDates : 4 juin\, 8 juillet\, 12 août\, 2 septembre. \n\n\n\nUne inscription par embarcation \n\n\n\nLes place sont limitées.  Inscriptions en ligne seulement. \n\n\n\nLe lien pour s’inscrire est fonctionnel dès le mercredi précédant la date de l’activité\, à partir de midi. \n\n\n\nEn collaboration avec NAVI espace nautique en ville \n\n\n\nSource: montreal.ca \n\n\n\nDates et horaires sont sujets à changement sans préavis. Avant de vous déplacer\, vérifier ces informations sur montreal.ca
URL:https://journalmetro.com/evenement/location-gratuite-de-kayaks-et-de-planches-a-pagaie-ile-des-soeurs-3/
LOCATION:Parc de l’esplanade de la Pointe-Nord\, 1606\, rue de la Rotonde\, Montréal\, QC\, H3E 0C1\, Canada
ATTACH;FMTTYPE=image/jpeg:https://journalmetro.com/wp-content/uploads/2023/06/location-gratuite-2.jpg
END:VEVENT
BEGIN:VEVENT
DTSTART;TZID=America/Toronto:20230902T103000
DTEND;TZID=America/Toronto:20230902T113000
DTSTAMP:20231016T110102
CREATED:20230811T173429Z
LAST-MODIFIED:20230811T173430Z
UID:10019623-1693650600-1693654200@journalmetro.com
SUMMARY:Zumba à l'îlot John-Gallagher
DESCRIPTION:Arrête tout et viens t’amuser durant nos séances de Zumba. Avertissement : il y a un risque de développer une agréable dépendance à l’activité. \n\n\n\nL’activité est offerte gratuitement dans le cadre de notre programmation Verdun actif.  \n\n\n\nElle peut être annulée en cas de pluie. \n\n\n\nEn collaboration avec Nuestroamericana. \n\n\n\nSource: montreal.ca \n\n\n\nDates et horaires sont sujets à changement sans préavis. Avant de vous déplacer\, vérifier ces informations sur montreal.ca
URL:https://journalmetro.com/evenement/zumba-a-lilot-john-gallagher/
LOCATION:Piste de danse de l’ilot John-Gallagher\, 7000\, boulevard LaSalle\, Montréal\, QC\, H4H 1R4\, Canada
ATTACH;FMTTYPE=image/jpeg:https://journalmetro.com/wp-content/uploads/2023/05/danse-urbaine-ados-2.jpg
END:VEVENT
BEGIN:VEVENT
DTSTART;TZID=America/Toronto:20230905T180000
DTEND;TZID=America/Toronto:20230905T190000
DTSTAMP:20231016T110102
CREATED:20230811T192514Z
LAST-MODIFIED:20230811T192515Z
UID:10019662-1693936800-1693940400@journalmetro.com
SUMMARY:Initiation au pickleball pour enfants et parents
DESCRIPTION:À la patinoire BBB ça PICKLEBALL! \n\n\n\nHey ! Les enfants et les parents\, venez découvrir une discipline super cool. \n\n\n\nVous ressortirez de vos séances en maitrisant les règlements et techniques de base de ce sport qui gagne en popularité.  \n\n\n\nL’équipement est fourni\, en plus ! \n\n\n\nLes inscriptions sont ouvertes à partir du dimanche qui précède chacune des séances du mardi. \n\n\n\nL’activité peut être annulé en cas de pluie. \n\n\n\nOffert par Camp Énergie \n\n\n\nSource: montreal.ca \n\n\n\nDates et horaires sont sujets à changement sans préavis. Avant de vous déplacer\, vérifier ces informations sur montreal.ca
URL:https://journalmetro.com/evenement/initiation-au-pickleball-pour-enfants-et-parents/
LOCATION:Patinoire Bleu Blanc Rouge du parc Willibrord\, 1018 rue Willibrord\, Montréal\, QC\, Canada
ATTACH;FMTTYPE=image/jpeg:https://journalmetro.com/wp-content/uploads/2023/08/nitiation-pickleball-2.jpg
END:VEVENT
BEGIN:VEVENT
DTSTART;TZID=America/Toronto:20231021T100000
DTEND;TZID=America/Toronto:20231022T170000
DTSTAMP:20231016T110102
CREATED:20230809T174440Z
LAST-MODIFIED:20230810T224117Z
UID:10019514-1697882400-1697994000@journalmetro.com
SUMMARY:Le marché de l'automne et de l'étrange
DESCRIPTION:Pour les amoureux de l’automne et d’Halloween\, le marché de l’automne et de l’étrange se veut un événement ouvert\, inclusif\, familial et inoubliable. Vous y trouverez plus de 40 exposants comprenant des créateurs locaux de qualité\, des antiquaires\, une ambiance électrisante\, une musique d’ambiance\, des surprises et du plaisir garanti !  \n\n\n\nVenez parcourir le décor de la grande scène pour une expérience unique. Découvrez les déguisements de notre quarantaine d’exposants\, déguster notre menu concocté spécialement pour l’événement et profiter des activités avec la famille\, les amis et les enfants ! \n\n\n\nTout cela et plus encore le 21 et 22 octobre\, de 10h à 17h\, au sous-sol de l’Église Notre-Dame-De-Lourdes à Verdun. \n\n\n\n\n\n\n\n\n\n\n\n\n\n\n\n\n\n\n\nSuivez le Bazar Verdunois sur leurs réseaux sociaux pour avoir des nouvelles sur les Marchés à venir. \n\n\n\n\n\n\n\nFacebook\n\nInstagram
URL:https://journalmetro.com/evenement/le-marche-de-lautomne-et-de-letrange/
LOCATION:Église Notre-Dame-de-Lourdes\, 630 4ième avenue\, Montréal\, QC\, H4G 1N4\, Canada
CATEGORIES:Promotionnel
ATTACH;FMTTYPE=image/jpeg:https://journalmetro.com/wp-content/uploads/2023/08/iStock-1327813387-2.jpg
END:VEVENT
BEGIN:VEVENT
DTSTART;TZID=America/Toronto:20231115T193000
DTEND;TZID=America/Toronto:20231115T193000
DTSTAMP:20231016T110102
CREATED:20230717T182223Z
LAST-MODIFIED:20230717T191606Z
UID:10018888-1700076600-1700076600@journalmetro.com
SUMMARY:Transcestral: rencontre des musiques autochtones et soufies - Oktoecho
DESCRIPTION:Rencontre des musiques autochtones et soufies  \n\n\n\nPour sa prochaine saison\, l’ensemble musical Oktoecho participera à une foule d’événements culturels majeurs québécois : Festival de Lanaudière\, Virée classique de l’OSM\, Conseil des arts de Montréal en tournée\, Festival Trad Montréal\, Festival des traditions du monde de Sherbrooke\, Présence autochtone et encore plus.    \n\n\n\n« Nous sommes très heureuses d’aller rencontrer des gens de partout au Québec pour partager nos différents projets\, qu’il s’agisse de nos trois concerts\, de notre atelier ou de notre nouvelle vidéo »\, soulignent les codirectrices artistiques Katia Makdissi-Warren et Lydia Etok.    \n\n\n\nTournée montréalaise La saison s’amorcera le vendredi 28 juillet\, à la 40e édition de l’événement Le CAM en tournée. Organisé par le Conseil des arts de Montréal (CAM)\, ce rendez-vous annuel démocratise l’art et fait rayonner des œuvres de qualité dans les quartiers montréalais. Oktoecho y présentera Transcestral au Théâtre de Verdure du parc Lafontaine.    \n\n\n\nHymne à la vie\, Transcestral exprime la commune quête perpétuelle de l’harmonie entre l’homme et la nature\, en s’inspirant des musiques et des danses sacrées de traditions soufies et autochtones d’ici. Il sera interprété par une vingtaine de chanteurs\, musiciens et danseurs de divers horizons\, dont six communautés autochtones et soufies\, ainsi que des musiciens de jazz\, de musique classique et contemporaine.    \n\n\n\nCette tournée mettra en vedette les solistes hors pair Nina Segalowitz\, Moe Clark\, Anouar Berrada\, Buffalo Hat Singers\, Linda Thali et Kathia Rock. Sans oublier les solides danseurs Barbara Diabo Tanya Evanson\, Adam Barrada\, Ivanie Aubin et Thomasina Nina Philips.    \n\n\n\nToujours dans le cadre de CAM en tournée\, Transcestral sera aussi offert le : Mercredi 2 août au parc Goncourt (7130 Goncourt); Vendredi 29 septembre au Cégep de Saint-Laurent (613 Sainte-Croix); Mercredi 15 novembre à la Maison de la culture de Verdun (5160 LaSalle); Samedi 25 novembre à la Maison de la culture Mercier (8105 Hochelaga); Jeudi 22 février 2024 à la Maison de la culture Claude-Léveillée (911 Jean-Talon Est). \n\n\n\nÀ la rentrée\, le dimanche 3 septembre\, Oktoecho proposera un duo de percussions marocaines\, avec Mohamed Raky et Bertil Schulrabe\, au parc Ahuntsic durant le Festival Trad Montréal.  \n\n\n\nLes splendeurs des chants de gorge Le dimanche 30 juillet\, à la journée portes ouvertes du Festival de Lanaudière\, Oktoecho organisera\, en collaboration avec la Société de musique contemporaine du Québec\, l’atelier Les Grands Espaces à l’Amphithéâtre Fernand-Lindsay de Joliette. Cette activité ludique et participative fera chanter les passionnés et simples curieux\, en explorant Les Grands Espaces\, œuvre écrite par Katia Makdissi-Warren.    \n\n\n\nOn y découvrira le katajjaq\, un jeu vocal traditionnel inuit\, puis on apprendra peu à peu les éléments de l’œuvre : sons du vent\, de la pluie\, cris des oies\, hululements des hiboux. Ce fantastique voyage dans les contrées lointaines de glace et de vent permettra d’expérimenter une forme chorale innovatrice en hommage à la culture inuit. Les chanteuses de gorge Nina et Sierra Segalowitz guideront la foule dans une ambiance décontractée\, pour une aventure inoubliable. Cet atelier a déjà conquis plus de 45 000 jeunes au Québec\, au Canada et en France.    \n\n\n\nVidéoclip artistique; une œuvre d’animation d’auteur Oktoecho dévoilera en primeur sa vidéo Inter-Nation-All\, dont la musique a été composée conjointement par l’artiste nakoda Anders Hunter et Katia Makdissi-Warren. La première sera présentée au Festival international Présence Autochtone\, le 11 août à 18h\, au Cinéma du Musée (1379-A Sherbrooke O\, Montréal).  \n\n\n\nAidés de la chorégraphe et danseuse de pow-wow Barbara Diabo et du danseur principal Marshall Kahente Diabo\, les réalisateurs Camille Poirier et Nicolás Aguirre ont concocté un collage poétique animé : une invitation à transcender les frontières entre Moi et l’Autre.   Le 9 août\, au Festival des traditions du monde de Sherbrooke\, Oktoecho interprétera Saimaniq (terme inuktitut signifiant « paix »). Bâtie autour du katajjaq\, cette création originale qui évoque les espaces désertiques transportera le public dans un sentiment de liberté et d’espace infini.    \n\n\n\nDes polyrythmies des déserts émiratis\, des flûtes japonaises et scandinaves\, de même que de la musique électronique s’ajouteront aux chants de gorge pour revisiter et rendre hommage à la beauté et à la profondeur de l’art inuit. Il s’agit d’un enrichissant voyage avec la compositrice Katia Makdissi-Warren\, les talentueuses chanteuses Lydia Etok\, Nina Segalowitz et Hélène Martel ainsi que des musiciens aguerris.    \n\n\n\nUn voyage musical classique autour d’un orchestre à cordes Cet été\, Oktoecho occupera une belle place dans la Virée classique de l’Orchestre symphonique de Montréal (OSM). Ainsi\, le vendredi 18 août\, il présentera au Théâtre Maisonneuve le concert Mémoires du monde.  \n\n\n\nCe spectacle\, tout à fait unique\, sera rehaussé par la présence d’un orchestre à cordes jouant des compositions écrites spécifiquement pour l’occasion. Du Moyen-Orient en passant par le Grand Nord\, l’ensemble fera découvrir un univers fascinant dans lequel maintes traditions musicales feront écho aux sonorités d’aujourd’hui.  \n\n\n\nOn y entendra les solistes Didem Basar (kanun)\, Binnaz Celik (kemence)\, Nina Segalowitz et Lydia Etok (chant de gorge inuit)\, sous la direction de Katia Makdissi-Warren.   Puis\, le samedi 19 août\, Katia Makdissi-Warren livrera à l’Espace OSM de la Place des Arts une passionnante conférence sur la musique traditionnelle et classique. Le dimanche 20 août\, Oktoecho conclura sa participation avec l’atelier Les Grands Espaces sur la scène extérieure\, située sur Sainte-Catherine à l’angle de Saint-Urbain.    \n\n\n\nPour tout savoir de la saison : oktoecho.com    \n\n\n\nÀ propos d’Oktoecho Fondé en 2001 et en résidence à la Maison de la Culture Ahuntsic depuis 2010\, Oktoecho favorise la création musicale métissée et l’interprétation d’œuvres métissées de compositeurs d’ici à titre de producteur de concerts\, événements\, enregistrements et tournées. De plus\, l’ensemble offre un enseignement spécialisé de musiques diverses (moyen-orientale\, autochtone\, juive) aux musiciens et aux compositeurs professionnels.  
URL:https://journalmetro.com/evenement/transcestral-rencontre-des-musiques-autochtones-et-soufies-oktoecho-2/
LOCATION:Quai 5160 – Maison de la culture de Verdun\, 5160\, boulevard LaSalle\, Montréal\, QC\, H4H 1N8\, Canada
CATEGORIES:Communautaire
ATTACH;FMTTYPE=image/jpeg:https://journalmetro.com/wp-content/uploads/2023/07/2021-oktoecho-transcestral-photo-michel-pinault-web-2.jpg
END:VEVENT
END:VCALENDAR