BEGIN:VCALENDAR
VERSION:2.0
PRODID:-//Journal Métro - ECPv6.0.13//NONSGML v1.0//EN
CALSCALE:GREGORIAN
METHOD:PUBLISH
X-WR-CALNAME:Journal Métro
X-ORIGINAL-URL:https://journalmetro.com
X-WR-CALDESC:évènements pour Journal Métro
REFRESH-INTERVAL;VALUE=DURATION:PT1H
X-Robots-Tag:noindex
X-PUBLISHED-TTL:PT1H
BEGIN:VTIMEZONE
TZID:America/Toronto
BEGIN:DAYLIGHT
TZOFFSETFROM:-0500
TZOFFSETTO:-0400
TZNAME:EDT
DTSTART:20230312T070000
END:DAYLIGHT
BEGIN:STANDARD
TZOFFSETFROM:-0400
TZOFFSETTO:-0500
TZNAME:EST
DTSTART:20231105T060000
END:STANDARD
END:VTIMEZONE
BEGIN:VEVENT
DTSTART;TZID=America/Toronto:20230908T170000
DTEND;TZID=America/Toronto:20230908T174500
DTSTAMP:20231016T130914
CREATED:20230810T192328Z
LAST-MODIFIED:20230810T192331Z
UID:10019557-1694192400-1694195100@journalmetro.com
SUMMARY:Burning BRASs Band
DESCRIPTION:Le Burning BRASs Band est une fanfare de cuivres et percussions féministe ayant pour mission d’augmenter la place des femmes et des personnes issues de la diversité de genre sur la scène musicale locale. \n\n\n\nDescription\n\n\n\nBasé à Montréal\, le groupe est en activité depuis l’été 2022. Grâce à des arrangements de chansons populaires aux couleurs de funk festif et exaltant\, le Burning BRASs Band revisite divers classiques du répertoire de la musique populaire ainsi que certaines pièces charnières de la tradition des fanfares d’ici et ailleurs. \n\n\n\nPrésenté dans le cadre du programme de soutien aux actions culturelles du Plateau. \n\n\n\nSource: montreal.ca \n\n\n\nDates et horaires sont sujets à changement sans préavis. Avant de vous déplacer\, vérifier ces informations sur montreal.ca
URL:https://journalmetro.com/evenement/burning-brass-band/2023-09-08/1/
LOCATION:Parc des Amériques\, Rue Rachel Est\, Montréal\, QC\, Canada
CATEGORIES:Communautaire
ATTACH;FMTTYPE=image/jpeg:https://journalmetro.com/wp-content/uploads/2023/08/khlvx5qkn559nwredfbn-Cropped.jpg
END:VEVENT
BEGIN:VEVENT
DTSTART;TZID=America/Toronto:20230913T200000
DTEND;TZID=America/Toronto:20230913T211500
DTSTAMP:20231016T130914
CREATED:20230629T182640Z
LAST-MODIFIED:20230811T155750Z
UID:10019597-1694635200-1694639700@journalmetro.com
SUMMARY:TRE - Rodrigo Simões\, guitariste de jazz brésilien
DESCRIPTION:Dans ce spectacle et dans l’album TRE\, on retrouve l’ADN du son de Rodrigo Simões : la guitare latine\, les grooves afrobrésiliens et le jazz fusion. \n\n\n\nDe la samba au baião en passant par la conga\, Rodrigo Simões s’amuse à faire des compositions ternaires avec les styles de la musique populaire brésilienne\, ce qui donne des nouveaux grooves inspirés. Avec son trio et ses invités\, le musicien livre une musique vibrante et joyeuse. \n\n\n\nGuitare : Rodrigo SimõesSaxophone : Jean-Pierre ZanellaVoix : Bianca RochaBatterie : Mark NelsonBasse : Carl MayottePercussions: Elli Miller-Maboungou \n\n\n\nRègles à suivre\n\n\n\nLes bouteilles de verre\, vélos et animaux sont interdits dans le Théâtre\, à l’exception des chiens accompagnateurs pour les personnes avec des limitations fonctionnelles. \n\n\n\nSource: montreal.ca \n\n\n\nDates et horaires sont sujets à changement sans préavis. Avant de vous déplacer\, vérifier ces informations sur montreal.ca
URL:https://journalmetro.com/evenement/tre-rodrigo-simoes-guitariste-de-jazz-bresilien-2/2023-09-13/
LOCATION:Théâtre de Verdure\, 3939 avenue du Parc-La Fontaine\, Montréal\, QC\, Canada
CATEGORIES:Communautaire
ATTACH;FMTTYPE=image/jpeg:https://journalmetro.com/wp-content/uploads/2023/06/e8mb8gqxwju6p145y02x.jpeg
END:VEVENT
BEGIN:VEVENT
DTSTART;TZID=America/Toronto:20230930T080000
DTEND;TZID=America/Toronto:20230930T170000
DTSTAMP:20231016T130914
CREATED:20230629T173416Z
LAST-MODIFIED:20230629T173956Z
UID:10018516-1696060800-1696093200@journalmetro.com
SUMMARY:Winterreise - José Navas/Compagnie Flak
DESCRIPTION:Avec Winterreise\, José Navas s’offre un corps à corps entre musique et chant. Une pièce poignante où le raffinement de ce danseur d’exception touche droit au cœur. \n\n\n\nLe danseur et chorégraphe José Navas s’approprie une œuvre immense du répertoire classique pour y lover sa danse. Avec son langage physique aux lignes à la fois classiques et contemporaines\, il s’abandonne de tout son être à l’essence du voyage proposé par Schubert. \n\n\n\nDans un corps à corps avec la musique et le chant\, Navas exprime l’esprit d’un homme seul contemplant la beauté mélancolique de la nature. Une pièce poignante\, transie d’humanité et d’émotion pure\, où la maturité et le raffinement de ce danseur d’exception irradient et touchent droit au cœur. \n\n\n\nChorégraphe et interprète : José NavasMusiciens : Francis Perron (piano)\, Jacques-Olivier Chartier (ténor)Musique : Winterreise de Franz Schubert\, textes de Wilhelm MüllerConception d’éclairages : Marc ParentCostumes : José NavasFabrication : Sonya Bayer\, L’Atelier de couture Sonya B. et Nathan KongDirection de production et développement : Adrien BussyProduction : Compagnie Flak \n\n\n\nRègles à suivre\n\n\n\nLes bouteilles de verre\, vélos et animaux sont interdits dans le Théâtre\, à l’exception des chiens accompagnateurs pour les personnes avec des limitations fonctionnelles.
URL:https://journalmetro.com/evenement/winterreise-jose-navas-compagnie-flak/2023-09-30/
LOCATION:Théâtre de Verdure\, 3939 avenue du Parc-La Fontaine\, Montréal\, QC\, Canada
CATEGORIES:Communautaire
ATTACH;FMTTYPE=image/jpeg:https://journalmetro.com/wp-content/uploads/2023/06/qouvmyscktld6p02502h.jpeg
END:VEVENT
END:VCALENDAR