BEGIN:VCALENDAR
VERSION:2.0
PRODID:-//Journal Métro - ECPv6.0.13//NONSGML v1.0//EN
CALSCALE:GREGORIAN
METHOD:PUBLISH
X-WR-CALNAME:Journal Métro
X-ORIGINAL-URL:https://journalmetro.com
X-WR-CALDESC:évènements pour Journal Métro
REFRESH-INTERVAL;VALUE=DURATION:PT1H
X-Robots-Tag:noindex
X-PUBLISHED-TTL:PT1H
BEGIN:VTIMEZONE
TZID:America/Toronto
BEGIN:DAYLIGHT
TZOFFSETFROM:-0500
TZOFFSETTO:-0400
TZNAME:EDT
DTSTART:20220313T070000
END:DAYLIGHT
BEGIN:STANDARD
TZOFFSETFROM:-0400
TZOFFSETTO:-0500
TZNAME:EST
DTSTART:20221106T060000
END:STANDARD
END:VTIMEZONE
BEGIN:VEVENT
DTSTART;TZID=America/Toronto:20220906T130000
DTEND;TZID=America/Toronto:20221023T170000
DTSTAMP:20231027T083151
CREATED:20221007T135746Z
LAST-MODIFIED:20221007T135748Z
UID:10008151-1662469200-1666544400@journalmetro.com
SUMMARY:Retenir son dernier souffle
DESCRIPTION:Pour les 40 ans de la maison de la culture Marie-Uguay\, les membres de la famille Plouffe élabore une exposition en art actuel. \n\n\n\nUne exposition qui propose un voyage du passé et du présent\, le tout dans une ambiance habitée par le souffle de Marie Uguay. Elle offre des rappels subtils de détails architecturaux\, décoratifs\, mobiliers et fonctionnels du bâtiment lui-même\, ainsi que des fragments de son histoire sociale. Elle tente simultanément de mettre en évidence la personnalité\, l’historicité et l’unicité de ce dernier étage du 6052 boulevard Monk. Entrée libre pour visiter les exposition.
URL:https://journalmetro.com/evenement/retenir-son-dernier-souffle/
LOCATION:Maison de la culture Marie-Uguay\, 6052 boulevard Monk\, Montréal\, QC\, Canada
ATTACH;FMTTYPE=image/jpeg:https://journalmetro.com/wp-content/uploads/2022/10/retenir-son-dernier-souffle-2.jpg
END:VEVENT
END:VCALENDAR