BEGIN:VCALENDAR
VERSION:2.0
PRODID:-//Journal Métro - ECPv6.0.13//NONSGML v1.0//EN
CALSCALE:GREGORIAN
METHOD:PUBLISH
X-WR-CALNAME:Journal Métro
X-ORIGINAL-URL:https://journalmetro.com
X-WR-CALDESC:évènements pour Journal Métro
REFRESH-INTERVAL;VALUE=DURATION:PT1H
X-Robots-Tag:noindex
X-PUBLISHED-TTL:PT1H
BEGIN:VTIMEZONE
TZID:America/Toronto
BEGIN:DAYLIGHT
TZOFFSETFROM:-0500
TZOFFSETTO:-0400
TZNAME:EDT
DTSTART:20220313T070000
END:DAYLIGHT
BEGIN:STANDARD
TZOFFSETFROM:-0400
TZOFFSETTO:-0500
TZNAME:EST
DTSTART:20221106T060000
END:STANDARD
BEGIN:DAYLIGHT
TZOFFSETFROM:-0500
TZOFFSETTO:-0400
TZNAME:EDT
DTSTART:20230312T070000
END:DAYLIGHT
BEGIN:STANDARD
TZOFFSETFROM:-0400
TZOFFSETTO:-0500
TZNAME:EST
DTSTART:20231105T060000
END:STANDARD
END:VTIMEZONE
BEGIN:VEVENT
DTSTART;TZID=America/Toronto:20221110T190000
DTEND;TZID=America/Toronto:20221110T213000
DTSTAMP:20231018T182133
CREATED:20221107T182513Z
LAST-MODIFIED:20230329T152716Z
UID:10008637-1668106800-1668115800@journalmetro.com
SUMMARY:Lancement officiel | Table de quartier d'Outremont
DESCRIPTION:Lancement officiel de la table de quartier d’Outremont \n\n\n\nOn vous invite à passer à Table avec le lancement de la Table de quartier d’Outremont! Vous souhaitez vous impliquer dans votre communauté ? Venez assister au lancement officiel de la toute nouvelle Table de quartier Outremont (TQO). Cette assemblée est ouverte à toutes et à tous et c’est gratuit ! Venez découvrir ce qu’est une table de quartier et partager vos idées! \n\n\n\nSource: montreal.ca \n\n\n\nDates et horaires sont sujets à changement sans préavis. Avant de vous déplacer\, vérifier ces informations sur montreal.ca
URL:https://journalmetro.com/evenement/lancement-officiel-table-de-quartier-doutremont/
LOCATION:Centre communautaire intergénérationnel\, 999 avenue McEachren\, Montréal\, QC\, Canada
ATTACH;FMTTYPE=image/jpeg:https://journalmetro.com/wp-content/uploads/2022/11/table-de-quartier-outremont-2.jpg
END:VEVENT
BEGIN:VEVENT
DTSTART;TZID=America/Toronto:20221108T080000
DTEND;TZID=America/Toronto:20221112T170000
DTSTAMP:20231018T182133
CREATED:20221012T134127Z
LAST-MODIFIED:20230329T152721Z
UID:10008189-1667894400-1668272400@journalmetro.com
SUMMARY:Ronnie Burkett\, The Loony Bin
DESCRIPTION:Casteliers est heureux d’accueillir cet automne la toute dernière création pour public adulte averti\, du réputé marionnettiste canadien Ronnie Burkett\, The Loony Bin\, qui sera présentée du 8 au 12 novembre 2022\, à la Maison internationale des arts de la marionnette (MIAM). \n\n\n\nThe Loony Bin marque le retour de l’artiste à la marionnette à gaine\, technique de ses premiers spectacles alors qu’il n’était qu’adolescent. Il a créé cette nouvelle œuvre uniquement pour le plaisir\, comme projet personnel dans le contexte pandémique. \n\n\n\nDans ce spectacle déjanté aux personnages farfelus\, on retrouve la charismatique Vealma Abattoir\, autrefois célèbre pour avoir été la vache qui a sauté par-dessus la lune dans la comptine anglaise Hey Diddle Diddle. Elle est entourée d’une troupe d’acteurs défraîchis\, de son équipe énigmatique et de personnages chéris des précédents spectacles de Burkett\, dont la mélancolique fée Schnitzel\, l’actrice has been Esmé Massengill et la bien-aimée matrone des prairies\, Mme Edna Rural. La vache qui a du ressort nous entraîne dans un univers déluré où s’entremêlent pots-pourris improvisés\, chansons\, et bouffonneries. Le tout se déroule dans un vieux castelet en lambeaux. \n\n\n\nThe Loony Bin\, c’est Ronnie Burkett tel qu’on le connaît\, mais sans les fils\, ni le contrôle ! Ce spectacle espiègle de style cabaret boudoir est réservé à un public adulte averti ! \n\n\n\nThe Loony Bin (2022) \n\n\n\nProduction : Ronnie Burkett Theatre of Marionettes ● Marionnettes et scénographie : Ronnie Burkett ● Costumes : Kim Crossley ● Assistant de studio : Alexander Mantia ● Construction de la scène : Christian Bellsmith ● Draperies de scène : Sondra Richter ● Remerciements spéciaux : Dina Meschkuleit\, Andy Hayward\, Joe Emory\, Jeff Moss et Jesse Vail   |  Durée : 75 minutes \n\n\n\nRonnie Burkett Theatre of Marionettes \n\n\n\nFondée en 1986\, le Ronnie Burkett Theatre of Marionettes joue depuis sur les plus grandes scènes du Canada et à travers le monde. Officier de l’Ordre du Canada depuis 2019\, Ronnie Burkett est récipiendaire du prix Siminovitch en théâtre (2009)\, du prix Herbert Whittaker Drama Bench pour sa contribution exceptionnelle au théâtre canadien\, d’un prix OBIE du Village Voice (New York) et de quatre Citations of Excellence in the Art of Puppetry décernées par l’Union internationale de la marionnette (UNIMA) USA. Avant sa première à Montréal\, The Loony Bin a été présenté à guichets fermés au Festival Puppets Up! à Almonte en Ontario. \n\n\n\nCasteliers \n\n\n\nFondé en 2005 et bien ancré dans la métropole québécoise\, Casteliers se consacre à la diffusion des arts de la marionnette\, à l’affût des créations les plus marquantes d’ici et du monde entier\, pour la plus grande fascination des adultes ou des enfants. Casteliers est cofondateur de la Maison internationale des arts de la marionnette (MIAM)\, un lieu identitaire où il donne vie à une saison et à un festival annuel qui se déploient dans toute la ville\, à des résidences de création\, à des ateliers et à d’extraordinaires collaborations internationales. \n\n\n\nCette tournée est réalisée avec le soutien du Conseil des arts du Canada. \n\n\n\nRéservations 
URL:https://journalmetro.com/evenement/ronnie-burkett-the-loony-bin/
LOCATION:Maison internationale des arts de la marionnette\, 30 avenue Saint-Just\, Montréal\, QC\, Canada
CATEGORIES:Communautaire
ATTACH;FMTTYPE=image/jpeg:https://journalmetro.com/wp-content/uploads/2022/10/ronny-burkett_@alejandrosantiago-2.jpg
END:VEVENT
BEGIN:VEVENT
DTSTART;TZID=America/Toronto:20221105T120000
DTEND;TZID=America/Toronto:20230108T170000
DTSTAMP:20231018T182133
CREATED:20221007T164520Z
LAST-MODIFIED:20230329T152728Z
UID:10008176-1667649600-1673197200@journalmetro.com
SUMMARY:Destroyers - Mary Hayes
DESCRIPTION:Dans le cadre de la programmation culturelle et événementielle de l’arrondissement\, la Galerie d’Outremont présente\, du 5 novembre 2022 au 8 janvier 2023\, l’exposition individuelle de Mary Hayes Destroyers. \n\n\n\nDestroyers est une série de peintures mettant en scène des adolescents et des jeunes dans des situations inspirées de récits de héros et d’anti-héros de la culture populaire américaine. Le titre Destroyers reflète la fascination et la peur de la société à l’égard des jeunes.  \n\n\n\nCe corpus d’œuvres est le dernier d’une collaboration de toute une vie avec les plus jeunes membres de la famille de l’artiste. Le geste et l’expression faciale deviennent ici des outils pour exprimer le voyage personnel de l’individu dans le contexte de la société en général. La xénophobie\, les changements climatiques et la transhumance humaine sont parmi les thèmes abordés. L’exposition Destroyers est dédiée à une génération héritière d’un monde en plein bouleversement sismique. \n\n\n\nPour plus d’information sur le travail de l’artiste\, cliquez ici. \n\n\n\nLe vernissage aura lieu le 5 novembre\, entre 13 h et 16 h\, à la Galerie d’Outremont. Venez à l’ouverture de l’exposition! \n\n\n\nVeuillez noter que la Galerie d’Outremont fermera du 24 décembre 2022 au 3 janvier 2023 inclusivement. \n\n\n\nSource: montreal.ca \n\n\n\nDates et horaires sont sujets à changement sans préavis. Avant de vous déplacer\, vérifier ces informations sur montreal.ca
URL:https://journalmetro.com/evenement/destroyers-mary-hayes/
LOCATION:Galerie d’Outremont\, 41 avenue Saint-Just\, Montréal\, QC\, Canada
CATEGORIES:Communautaire
ATTACH;FMTTYPE=image/jpeg:https://journalmetro.com/wp-content/uploads/2022/10/destroyers-2.jpg
END:VEVENT
BEGIN:VEVENT
DTSTART;TZID=America/Toronto:20221029T103000
DTEND;TZID=America/Toronto:20221029T111500
DTSTAMP:20231018T182133
CREATED:20221007T163913Z
LAST-MODIFIED:20230329T152733Z
UID:10008175-1667039400-1667042100@journalmetro.com
SUMMARY:Heure du conte spéciale avec Barbada (3-6 ans)
DESCRIPTION:Une heure du conte haute en couleurs avec la célèbre drag queen Barbada de Barbades! \n\n\n\nViens rencontrer et écouter la célèbre drag queen Barbada de Barbades qui te fera découvrir de magnifiques histoires. Qui que tu sois\, nous t’invitons à enfiler tes plus beaux habits et venir assister à cette rencontre hors de l’ordinaire\, où ouverture à la différence\, acceptation et plaisir seront au rendez-vous! \n\n\n\nSource: montreal.ca \n\n\n\nDates et horaires sont sujets à changement sans préavis. Avant de vous déplacer\, vérifier ces informations sur montreal.ca
URL:https://journalmetro.com/evenement/heure-du-conte-speciale-avec-barbada-3-6-ans/
LOCATION:Bibliothèque Robert-Bourassa\, 41 avenue Saint-Just\, Montréal\, QC\, Canada
CATEGORIES:Communautaire
ATTACH;FMTTYPE=image/jpeg:https://journalmetro.com/wp-content/uploads/2022/10/barbada-2.jpg
END:VEVENT
BEGIN:VEVENT
DTSTART;TZID=America/Toronto:20221022T103000
DTEND;TZID=America/Toronto:20221217T111500
DTSTAMP:20231018T182133
CREATED:20221007T162615Z
LAST-MODIFIED:20230329T152738Z
UID:10008173-1666434600-1671275700@journalmetro.com
SUMMARY:Heure du conte avec Karine Fortin (0-5 ans)
DESCRIPTION:Une belle heure du conte en famille animée par Karine Fortin à la bibliothèque Robert-Bourassa à Outremont. \n\n\n\nDes histoires courtes\, des comptines et des jeux sur un thème apprécié des petits\, animés par Karine Fortin! \n\n\n\nSource: montreal.ca \n\n\n\nDates et horaires sont sujets à changement sans préavis. Avant de vous déplacer\, vérifier ces informations sur montreal.ca
URL:https://journalmetro.com/evenement/heure-du-conte-avec-karine-fortin-0-5-ans/
LOCATION:Bibliothèque Robert-Bourassa\, 41 avenue Saint-Just\, Montréal\, QC\, Canada
ATTACH;FMTTYPE=image/jpeg:https://journalmetro.com/wp-content/uploads/2022/10/heure-du-conte-karine-fortin-2.jpg
END:VEVENT
BEGIN:VEVENT
DTSTART;TZID=America/Toronto:20221013T180000
DTEND;TZID=America/Toronto:20221013T190000
DTSTAMP:20231018T182133
CREATED:20221007T161700Z
LAST-MODIFIED:20230329T152744Z
UID:10008171-1665684000-1665687600@journalmetro.com
SUMMARY:Voyages au coeur de la poésie : causerie avec la poète outremontaise Claudine Bertrand
DESCRIPTION:Claudine Bertrand\, poète outremontaise\, nous parlera de poésie et de ses voyages en Europe et en Afrique. \n\n\n\nFemme engagée\, marquée par la pensée féministe et humaniste\, elle est considérée comme l’une des porte-parole de la poésie dans le monde. \n\n\n\nSon oeuvre est riche d’une trentaine de recueils poétiques et d’ouvrages publiés au Québec\, en Europe et en Afrique. \n\n\n\nPionnière\, elle a fondé la revue Arcade consacrée à l’écriture des femmes et elle l’a dirigée pendant vingt-cinq ans. \n\n\n\nEn plus des nombreux prix littéraires prestigieux qu’elle a remporté\, Prix Ganzo de Poésie 2021\, Prix Tristan-Tzara 2018\, Prix Virgile 2001\, pour n’en citer que quelqu’uns\, elle détient une maîtrise en études littéraires et elle a obtenu un Doctorat honoris causa de l’Université de Plovdiv en Bulgarie. \n\n\n\nSon écriture voyageuse nous mène sur plusieurs continents\, cherchant à s’ancrer dans un univers lumineux. \n\n\n\nSource: montreal.ca \n\n\n\nDates et horaires sont sujets à changement sans préavis. Avant de vous déplacer\, vérifier ces informations sur montreal.ca
URL:https://journalmetro.com/evenement/voyages-au-coeur-de-la-poesie-causerie-avec-la-poete-outremontaise-claudine-bertrand/
LOCATION:Bibliothèque Robert-Bourassa\, 41 avenue Saint-Just\, Montréal\, QC\, Canada
CATEGORIES:Communautaire
ATTACH;FMTTYPE=image/jpeg:https://journalmetro.com/wp-content/uploads/2022/10/voyage-au-coeur-de-la-poesie-2.jpg
END:VEVENT
BEGIN:VEVENT
DTSTART;TZID=America/Toronto:20221008T180000
DTEND;TZID=America/Toronto:20221008T204500
DTSTAMP:20231018T182133
CREATED:20221007T161123Z
LAST-MODIFIED:20230329T152749Z
UID:10008170-1665252000-1665261900@journalmetro.com
SUMMARY:Les Soupis - Imagicario
DESCRIPTION:Les Soupis sont des marionnettes ludiques et improbables inspirées à la fois des contes d’hiver et des petites souris qui se promènent dans nos maisons. \n\n\n\nCes étranges petits personnages parcourent les espaces urbains avec tout leur bagage afin de coudre\, de tisser\, de rapiécer et de créer des petits morceaux de notre quotidien. À l’aide de laine\, de fils et de petits outils\, ces marionnettes s’affairent à l’immense tâche d’entretenir la magie de l’univers. Doucement\, elles filent et défilent\, se laissant parfois surprendre et distraire. Spectacle ambulant mettant en scène cinq marionnettes illuminées de type habité. \n\n\n\nConception et réalisation : Helijalder Capristano & Laetitia Bérubé \n\n\n\nMusique : Maël Oudin \n\n\n\nInterprètes : Helijalder Capristano\, Mélissa Juillet\, Marie Perna\, Samantha Cyr\, Nina de Joncquere \n\n\n\nDeux autres représentations sont prévues à la même journée: \n\n\n\n– Parc Outremont à 19 h 30 min \n\n\n\n– Parc Beaubien à 20 h 45 min \n\n\n\nEn cas de pluie\, l’événement sera annulé. \n\n\n\nSource: montreal.ca \n\n\n\nDates et horaires sont sujets à changement sans préavis. Avant de vous déplacer\, vérifier ces informations sur montreal.ca
URL:https://journalmetro.com/evenement/les-soupis-imagicario/
LOCATION:Avenue Bernard\, Entre Ave\, Outremont et Ave. Bloomfield\, Montréal\, QC\, Canada
CATEGORIES:Communautaire
ATTACH;FMTTYPE=image/jpeg:https://journalmetro.com/wp-content/uploads/2022/10/les-soupis-2.jpg
END:VEVENT
BEGIN:VEVENT
DTSTART;TZID=America/Toronto:20221008T080000
DTEND;TZID=America/Toronto:20221119T170000
DTSTAMP:20231018T182133
CREATED:20221007T160356Z
LAST-MODIFIED:20230329T152754Z
UID:10008169-1665216000-1668877200@journalmetro.com
SUMMARY:Club d'échecs en huit rencontres (5-11 ans)
DESCRIPTION:COMPLET \n\n\n\nPour découvrir les échecs et se perfectionner dans ce jeu stratégique\, nous vous proposons un club d’échecs en huit rencontres animé par un animateur ou une animatrice chevronné·e de l’organisme Tour de la réussite. \n\n\n\nPour découvrir les échecs et se perfectionner dans ce jeu stratégique\, nous vous proposons un club d’échecs en huit rencontres animé par un joueur ou une joueuse chevronné·e de l’organisme Tour de la réussite. \n\n\n\nTous les samedis\, du 1er octobre au 19 novembreDe 13 h 15 à 14 h 15 \n\n\n\nInscription obligatoire (une seule pour les huit rencontres) \n\n\n\nSource: montreal.ca \n\n\n\nDates et horaires sont sujets à changement sans préavis. Avant de vous déplacer\, vérifier ces informations sur montreal.ca
URL:https://journalmetro.com/evenement/club-dechecs-en-huit-rencontres-5-11-ans/
LOCATION:Bibliothèque Robert-Bourassa\, 41 avenue Saint-Just\, Montréal\, QC\, Canada
ATTACH;FMTTYPE=image/jpeg:https://journalmetro.com/wp-content/uploads/2022/10/club-dechecs-2.jpg
END:VEVENT
BEGIN:VEVENT
DTSTART;TZID=America/Toronto:20221007T080000
DTEND;TZID=America/Toronto:20221007T170000
DTSTAMP:20231018T182133
CREATED:20221007T165045Z
LAST-MODIFIED:20230329T152759Z
UID:10008177-1665129600-1665162000@journalmetro.com
SUMMARY:Séance du conseil d'arrondissement d'Outremont de 7 novembre 2022
DESCRIPTION:Participez à la vie démocratique d’Outremont et assistez au conseil d’arrondissement du 7 novembre 2022. \n\n\n\nLa séance du conseil d’arrondissement d’Outremont du lundi 7 novembre 2022 à 19 h se tiendra en présentiel à la salle du conseil et sera accessible par webdiffusion en direct et en différé par la suite. \n\n\n\nVous pouvez dès maintenant envoyer votre question en remplissant le formulaire.  La question doit être reçue avant 18 h le jour même de la séance. Après ce délai\, la question sera traitée à la séance suivante. L’heure de réception à l’Arrondissement prévaut sur l’heure d’envoi du formulaire. \n\n\n\nVous pouvez également vous inscrire sur place à partir de 18 h 30 pour poser votre question. \n\n\n\nLes citoyens n’auront plus à faire des demandes d’accès à l’information pour obtenir les redditions de comptes. Les documents suivants seront dorénavant disponibles sur la page Ordres du jour et procès-verbaux. \n\n\n\n\nRapport des décisions déléguées;\n\n\n\nListe des bons de commande et des paiements sans bon de commande;\n\n\n\nListe des achats effectués par l’entremise de cartes de crédit;\n\n\n\nListe des virements de crédits.  \n\n\n\n\nÀ VENIR Ordres du jour et documents décisionnels \n\n\n\nVisionnez la webdiffusion en direct ou en différé. \n\n\n\nSource: montreal.ca \n\n\n\nDates et horaires sont sujets à changement sans préavis. Avant de vous déplacer\, vérifier ces informations sur montreal.ca
URL:https://journalmetro.com/evenement/seance-du-conseil-darrondissement-doutremont-de-7-novembre-2022/
LOCATION:Salle du conseil d’Outremont\, 530 avenue Davaar\, Montréal\, QC\, Canada
ATTACH;FMTTYPE=image/jpeg:https://journalmetro.com/wp-content/uploads/2022/10/mairie-outremont-2.jpg
END:VEVENT
BEGIN:VEVENT
DTSTART;TZID=America/Toronto:20220924T130000
DTEND;TZID=America/Toronto:20221217T150000
DTSTAMP:20231018T182133
CREATED:20221007T163342Z
LAST-MODIFIED:20230329T152807Z
UID:10008174-1664024400-1671289200@journalmetro.com
SUMMARY:Club de lecture mensuel avec Karine Fortin (Outremont)
DESCRIPTION:Club de lecture de la bibliothèque Robert-Bourassa (Outremont). \n\n\n\nAnimé par Karine Fortin. Rencontres prévues une fois par mois. \n\n\n\nL’an dernier pendant le confinement dû à la pandémie de COVID-19\, Karine Fortin a dirigé de main de maître le club de lecture de la bibliothèque en utilisant la vidéoconférence. Cet automne\, nous aurons la chance de la voir en chair et en os\, dès le samedi 24 septembre pour la première rencontre du club de lecture à la bibliothèque. Les rencontres auront lieu une fois par mois. Karine a mis au programme des livre de différents horizons et qui se déroulent à différentes époques. Venez partager votre amour de la lecture avec les autres membre du club! \n\n\n\nAu menu : \n\n\n\nHome de Toni Morrison                        Samedi 24 septembre   \n\n\n\nL’Art de perdre d’Alice Zeniter            Samedi 22 octobre       \n\n\n\n10 minutes et 38 secondes dans ce monde étrange d’Elif Shafak          Samedi 19 novembre    \n\n\n\nRayonnements d’Ying Chen                  Samedi 17 décembre \n\n\n\nSource: montreal.ca \n\n\n\nDates et horaires sont sujets à changement sans préavis. Avant de vous déplacer\, vérifier ces informations sur montreal.ca
URL:https://journalmetro.com/evenement/club-de-lecture-mensuel-avec-karine-fortin-outremont/
LOCATION:Bibliothèque Robert-Bourassa\, 41 avenue Saint-Just\, Montréal\, QC\, Canada
CATEGORIES:Communautaire
ATTACH;FMTTYPE=image/jpeg:https://journalmetro.com/wp-content/uploads/2022/10/vente-livres-1-2.jpg
END:VEVENT
BEGIN:VEVENT
DTSTART;TZID=America/Toronto:20220907T080000
DTEND;TZID=America/Toronto:20221030T170000
DTSTAMP:20231018T182133
CREATED:20221007T155824Z
LAST-MODIFIED:20230329T152811Z
UID:10008168-1662537600-1667149200@journalmetro.com
SUMMARY:Je\, Jean-Marc\, j'étais - Anne Billy
DESCRIPTION:Dans le cadre de la programmation culturelle et événementielle de l’arrondissement\, la Galerie d’Outremont présente\, du 7 septembre au 30 octobre 2022\, l’exposition individuelle d’Anne Billy Je\, Jean-Marc\, j’étais. \n\n\n\nInterpellée par les aléas de l’âme humaine\, Anne Billy présente dans cette série d’œuvres une histoire de collaboration et de tendresse dans laquelle se côtoient et se supportent jeunesse et vieillesse. Dans ce corpus\, l’artiste présente des scènes intimistes qui suggèrent différentes formes de communication entre un petit-fils et son grand-père. Les silhouettes brodées des protagonistes vous amènent vers le monde symbolique de l’artiste autour de cette relation intergénérationnelle. À ce dialogue finement ficelé\, s’ajoutent des courtepointes produites à partir des agendas du grand-père. \n\n\n\nPour plus d’information sur le travail de l’artiste\, cliquez ici. \n\n\n\nLe vernissage aura lieu le 7 septembre\, entre 17 h et 20 h à la Galerie d’Outremont. Venez à l’ouverture de l’exposition! \n\n\n\nDans le cadre de la programmation culturelle et événementielle de l’arrondissement\, la Galerie d’Outremont offre un atelier gratuit de linogravure et broderie en lien avec l’exposition Je\, Jean-Marc\, j’étais d’Anne Billy le 8 octobre à 10 h. \n\n\n\n​​La médiatrice culturelle Joanie Douville et l’artiste Anne Billy donneront un atelier de linogravure et broderie le samedi 8 octobre entre 10 h et 11 h 45. L’atelier fait partie des activités de médiation en lien avec l’exposition Je\, Jean-Marc\, j’étais offertes par la Galerie d’Outremont. \n\n\n\nLes places pour cette activité gratuite sont limitées. Pour vous inscrire\, veuillez envoyer un courriel à Joanie.Douville@uqat.ca \n\n\n\nSource: montreal.ca \n\n\n\nDates et horaires sont sujets à changement sans préavis. Avant de vous déplacer\, vérifier ces informations sur montreal.ca
URL:https://journalmetro.com/evenement/je-jean-marc-jetais-anne-billy/
LOCATION:Galerie d’Outremont\, 41 avenue Saint-Just\, Montréal\, QC\, Canada
CATEGORIES:Communautaire
ATTACH;FMTTYPE=image/jpeg:https://journalmetro.com/wp-content/uploads/2022/10/je-jean-marc-2.jpg
END:VEVENT
END:VCALENDAR