BEGIN:VCALENDAR
VERSION:2.0
PRODID:-//Journal Métro - ECPv6.0.13//NONSGML v1.0//EN
CALSCALE:GREGORIAN
METHOD:PUBLISH
X-WR-CALNAME:Journal Métro
X-ORIGINAL-URL:https://journalmetro.com
X-WR-CALDESC:évènements pour Journal Métro
REFRESH-INTERVAL;VALUE=DURATION:PT1H
X-Robots-Tag:noindex
X-PUBLISHED-TTL:PT1H
BEGIN:VTIMEZONE
TZID:America/Toronto
BEGIN:DAYLIGHT
TZOFFSETFROM:-0500
TZOFFSETTO:-0400
TZNAME:EDT
DTSTART:20230312T070000
END:DAYLIGHT
BEGIN:STANDARD
TZOFFSETFROM:-0400
TZOFFSETTO:-0500
TZNAME:EST
DTSTART:20231105T060000
END:STANDARD
END:VTIMEZONE
BEGIN:VEVENT
DTSTART;TZID=America/Toronto:20230510T120000
DTEND;TZID=America/Toronto:20231023T170000
DTSTAMP:20231016T120404
CREATED:20230615T143656Z
LAST-MODIFIED:20230615T143657Z
UID:10018089-1683720000-1698080400@journalmetro.com
SUMMARY:Ça pousse! Une histoire à cultiver
DESCRIPTION:L’exposition vous dévoile les secrets de la culture des aliments. \n\n\n\nDescription\n\n\n\nDe la préparation des semis à la conservation des aliments\, de nombreux savoir-faire se sont transmis de génération en génération pour assurer à la population une forme d’autonomie alimentaire. Cette exposition vous fera découvrir les gestes\, les méthodes et les outils qui ont permis aux habitants et habitantes du territoire de se nourrir de la terre. De nombreux objets et œuvres d’art des collections du Musée\, rarement présentés au public\, vous seront dévoilés. \n\n\n\nComplétez votre visite de l’exposition par un détour dans notre potager historique. Vous y découvrirez plusieurs plantes ancestrales qui ont jadis fleuri dans les jardins montréalais. Un atelier de fabrication de bombes de semences est également offert gratuitement et en tout temps aux familles qui visitent le Musée. \n\n\n\nLe 13 mai à 14h\, l’historienne et commissaire de l’exposition\, Éliane Bélec\, offrira une visite guidée gratuite dans le cadre du Festival d’histoire de Montréal. Aucune réservation n’est requise. \n\n\n\nL’exposition est accessible du mercredi au dimanche\, de 12 h à 17 h du 10 mai au 29 octobre 2023.
URL:https://journalmetro.com/evenement/ca-pousse-une-histoire-a-cultiver-2/
LOCATION:Musée de Lachine\, 1 chemin du Musée\, Montreal\, QC\, H8S 4L9\, Canada
CATEGORIES:Communautaire
ATTACH;FMTTYPE=image/jpeg:https://journalmetro.com/wp-content/uploads/2023/06/mr3dws1eayrrgm4jqo4i.jpeg
END:VEVENT
BEGIN:VEVENT
DTSTART;TZID=America/Toronto:20230704T093000
DTEND;TZID=America/Toronto:20230822T120000
DTSTAMP:20231016T120404
CREATED:20230629T171716Z
LAST-MODIFIED:20230629T181722Z
UID:10018512-1688463000-1692705600@journalmetro.com
SUMMARY:Bibli-au-parc : parc Kirkland
DESCRIPTION:Pour le plaisir de lire dehors!  Une activité du Club de lecture d’été TD 2023 des bibliothèques de Lachine. \n\n\n\nVotre bibliothèque de Lachine s’installe avec des livres et des activités pour les familles\, les garderies et les camps de jour.  Venez nous voir près des jeux extérieurs! \n\n\n\nNotez que l’activité est annulée en cas de pluie. \n\n\n\nSource: montreal.ca \n\n\n\nDates et horaires sont sujets à changement sans préavis. Avant de vous déplacer\, vérifier ces informations sur montreal.ca
URL:https://journalmetro.com/evenement/bibli-au-parc-parc-kirkland/
LOCATION:Parc Kirkland\, 123 rue Léo-Pétrin\, Montréal\, QC\, Canada
ATTACH;FMTTYPE=image/jpeg:https://journalmetro.com/wp-content/uploads/2023/06/club-de-lecture-td-viens-voir-ca-2.jpg
END:VEVENT
BEGIN:VEVENT
DTSTART;TZID=America/Toronto:20230706T093000
DTEND;TZID=America/Toronto:20230824T120000
DTSTAMP:20231016T120404
CREATED:20230629T171911Z
LAST-MODIFIED:20230629T183121Z
UID:10018513-1688635800-1692878400@journalmetro.com
SUMMARY:Bibli-au-parc : parc LaSalle
DESCRIPTION:Pour le plaisir de lire dehors!  Une activité du Club de lecture d’été TD 2023 des bibliothèques de Lachine. \n\n\n\nVotre bibliothèque de Lachine s’installe avec des livres et des activités pour les familles\, les garderies et les camps de jour.  Venez nous voir près des jeux extérieurs! \n\n\n\nNotez que l’activité est annulée en cas de pluie. \n\n\n\nSource: montreal.ca \n\n\n\nDates et horaires sont sujets à changement sans préavis. Avant de vous déplacer\, vérifier ces informations sur montreal.ca
URL:https://journalmetro.com/evenement/bibli-au-parc-parc-lasalle/
LOCATION:Parc Lasalle\, 10661\, rue Victoria\, Montréal\, QC\, H8S 1W4\, Canada
ATTACH;FMTTYPE=image/jpeg:https://journalmetro.com/wp-content/uploads/2023/06/club-de-lecture-td-viens-voir-ca-2.jpg
END:VEVENT
BEGIN:VEVENT
DTSTART;TZID=America/Toronto:20230804T180000
DTEND;TZID=America/Toronto:20230827T190000
DTSTAMP:20231016T120404
CREATED:20230629T174927Z
LAST-MODIFIED:20230629T174929Z
UID:10018520-1691172000-1693162800@journalmetro.com
SUMMARY:Amalgame - La Société d’arts visuels en direct
DESCRIPTION:L’exposition temporaire Amalgame de La Société d’arts visuels en direct sera présentée à L’Entrepôt de Lachine\, du 4 au 27 août 2023. \n\n\n\nÀ la suite de rencontres avec les membres\, le thème Amalgame a émergé comme sujet de réflexion\, soit notre façon singulière de peindre et de voir nos différents styles. \n\n\n\nLes heures d’ouverture de l’exposition sont les vendredis de 18 h à 21 h ainsi que les samedis et les dimanches\, de 12 h à 17 h. \n\n\n\nSource: montreal.ca \n\n\n\nDates et horaires sont sujets à changement sans préavis. Avant de vous déplacer\, vérifier ces informations sur montreal.ca
URL:https://journalmetro.com/evenement/amalgame-la-societe-darts-visuels-en-direct/
LOCATION:L’Entrepôt – maison de la culture de Lachine\, 2901\, boulevard Saint-Joseph\, Montréal\, QC\, H8S4B7\, Canada
ATTACH;FMTTYPE=image/jpeg:https://journalmetro.com/wp-content/uploads/2023/06/amalgame-2.jpg
END:VEVENT
BEGIN:VEVENT
DTSTART;TZID=America/Toronto:20230816T190000
DTEND;TZID=America/Toronto:20230816T203000
DTSTAMP:20231016T120404
CREATED:20230629T175849Z
LAST-MODIFIED:20230629T175851Z
UID:10018524-1692212400-1692217800@journalmetro.com
SUMMARY:Pique-niques musicaux avec Hanorah
DESCRIPTION:Dans le cadre des Pique-niques musicaux de Lachine au Parc Noël-Spinelli\, tous les mercredis de l’été! \n\n\n\nDès 17 h musique et prêt de jeux à 19 h concert de Hanorah. Fête assurée! \n\n\n\nOffert dans le cadre des Pique-niques musicaux de Lachine. Au menu : 17 h : entrée de musique et de prêt de jeux pour mettre de l’ambiance à votre pique-nique. 19 h : plat principal avec Hanorah et son spectacle Perennial. Nous vous invitons à danser : digestion assurée! \n\n\n\nInfluencée par Etta James\, Joss Stone et Amy Winehouse\, Hanorah est portée par sa voix et la vulnérabilité de son message. Chanteuse\, compositrice et artiste visuelle\, elle a sorti récemment un premier album complet\, Perennial\, rassemblant grooves R’n’B et ballades soul. \n\n\n\nDes boîtes à lunch Loco local (sandwich\, légumes\, dessert et boisson) sont préparées par Les Confiseries Marie-Ève. Vous pouvez les réserver 24 h d’avance notamment sur ce lien bit.ly/boitealunchlocolocal. Également\, il sera possible de se procurer une boîte à lunch Loco local (sandwich\, salade\, dessert et boisson) au restaurant Nonnina. \n\n\n\nLes contenants en verre sont interdits sur le site. \n\n\n\nSource: montreal.ca \n\n\n\nDates et horaires sont sujets à changement sans préavis. Avant de vous déplacer\, vérifier ces informations sur montreal.ca
URL:https://journalmetro.com/evenement/pique-niques-musicaux-avec-hanorah/
LOCATION:Parc Noël-Spinelli\, 2207 boulevard Saint-Joseph\, Montréal\, QC\, Canada
CATEGORIES:Communautaire
ATTACH;FMTTYPE=image/jpeg:https://journalmetro.com/wp-content/uploads/2023/06/hanorah-2.jpg
END:VEVENT
BEGIN:VEVENT
DTSTART;TZID=America/Toronto:20230817T203000
DTEND;TZID=America/Toronto:20230817T220000
DTSTAMP:20231016T120404
CREATED:20230629T180219Z
LAST-MODIFIED:20230629T180220Z
UID:10018525-1692304200-1692309600@journalmetro.com
SUMMARY:Top Gun Maverick
DESCRIPTION:Rendez-vous au parc Kirkland pour notre dernier cinéma en plein-air de l’été! Dès la tombée de la nuit apportez vos chaises et couvertures pour vous installer. \n\n\n\nSynopsis de Top Gun Maverick\n\n\n\nConsidéré comme l’un des meilleurs pilotes de chasse de la Marine américaine\, Pete « Maverick » Mitchell est sommé par ses supérieurs d’enseigner à des pilotes Top Gun fraîchement diplômés. Il doit leur apprendre à exécuter une série de manoeuvres périlleuses afin d’accomplir une mission en terre ennemie. Dans sa classe se trouve Rooster\, le fils de son défunt ami Goose\, décédé lors d’un tragique accident en plein vol il y a plus de 30 ans. Rooster et Maverick devront mettre leurs différends de côté pour s’acquitter adéquatement de leur dangereuse mission. \n\n\n\nSource: montreal.ca \n\n\n\nDates et horaires sont sujets à changement sans préavis. Avant de vous déplacer\, vérifier ces informations sur montreal.ca
URL:https://journalmetro.com/evenement/top-gun-maverick/
LOCATION:Parc Kirkland\, 123 rue Léo-Pétrin\, Montréal\, QC\, Canada
ATTACH;FMTTYPE=image/jpeg:https://journalmetro.com/wp-content/uploads/2023/06/top-gun-maverick-2.jpg
END:VEVENT
BEGIN:VEVENT
DTSTART;TZID=America/Toronto:20230819T140000
DTEND;TZID=America/Toronto:20230819T160000
DTSTAMP:20231016T120404
CREATED:20230717T195133Z
LAST-MODIFIED:20230717T195210Z
UID:10018894-1692453600-1692460800@journalmetro.com
SUMMARY:Une histoire à déterrer : une initiation à l’archéologie
DESCRIPTION:Tu as de 6 à 12 ans? Une initiation à l’archéologie est proposée au Musée de Lachine. C’est le moment de découvrir ce métier fascinant et l’histoire qui se trouve sous tes pieds \n\n\n\nDans le cadre du Mois de l’archéologie\, le Musée organise une simulation de fouille sur son site extérieur. Les enfants pourront apprendre comment les archéologues travaillent pour déterrer les objets du passé et pouvoir contribuer à écrire l’histoire. Avec l’aide de l’équipe du Musée\, les enfants utiliseront les techniques et les outils employés sur les sites de fouilles. Ils découvriront des fragments qui devront être identifiés et nettoyés pour ensuite reconstituer l’histoire du site. \n\n\n\nL’activité est offerte en continu et sans réservation. \n\n\n\nSource: montreal.ca \n\n\n\nDates et horaires sont sujets à changement sans préavis. Avant de vous déplacer\, vérifier ces informations sur montreal.ca
URL:https://journalmetro.com/evenement/une-histoire-a-deterrer-une-initiation-a-larcheologie-2/
LOCATION:Musée de Lachine\, 1 chemin du Musée\, Montreal\, QC\, H8S 4L9\, Canada
CATEGORIES:Communautaire
ATTACH;FMTTYPE=image/jpeg:https://journalmetro.com/wp-content/uploads/2023/07/une-histoire-a-deterrer-2.jpg
END:VEVENT
BEGIN:VEVENT
DTSTART;TZID=America/Toronto:20230819T163000
DTEND;TZID=America/Toronto:20230819T171500
DTSTAMP:20231016T120404
CREATED:20230629T163137Z
LAST-MODIFIED:20230629T163352Z
UID:10018507-1692462600-1692465300@journalmetro.com
SUMMARY:Avant de devenir un arbre - La fille du laitier
DESCRIPTION:Avant de devenir un arbre est une pièce solo de 45 minutes\, où l’on découvre le parcours fabulé d’une artiste en devenir. \n\n\n\nMondialement connue grâce à ses dessins de bonhommes allumettes à lunettes\, ADA fera la rencontre d’un pépin qui lui fera tranquillement perdre l’usage de ses précieuses mains et chamboulera ses plans de carrière. Dans un espace qui pourrait être un atelier ou encore une chambre d’hôpital\, on suivra le personnage de l’annonce de son diagnostic jusqu’à l’étape de l’acceptation. \n\n\n\nAvant de devenir un arbre célèbre la résilience de l’enfance avec humour et poésie aux travers de tableaux ludiques alliant théâtre d’images\, théâtre physique et marionnettes. \n\n\n\nCréation et interprétation : Marie-Hélène Bélanger Dumas \n\n\n\nDirection de production et assistance à la mise en scène : Laurence Régnier \n\n\n\nConseil artistique : Jérémie Desbiens \n\n\n\nConception des décors : Cédric Lord \n\n\n\nConception des marionnettes et accessoires : Elisabeth Coulon-Lafleur \n\n\n\nConception sonore : Stéfan Boucher \n\n\n\nDirection technique : Jean-Marie Gardien \n\n\n\nConception des costumes : Olga Abeleva \n\n\n\nJeune public \n\n\n\nDurée : 45 minutes \n\n\n\nLa pièce Avant de devenir un arbre de la compagnie La Fille du Laitier est présentée dans le cadre des Fêtes de Lachine!  Venez passer un moment en famille au Parc LaSalle. \n\n\n\nSource: montreal.ca \n\n\n\nDates et horaires sont sujets à changement sans préavis. Avant de vous déplacer\, vérifier ces informations sur montreal.ca
URL:https://journalmetro.com/evenement/avant-de-devenir-un-arbre-la-fille-du-laitier-5/
LOCATION:Parc Lasalle\, 10661\, rue Victoria\, Montréal\, QC\, H8S 1W4\, Canada
CATEGORIES:Communautaire
ATTACH;FMTTYPE=image/jpeg:https://journalmetro.com/wp-content/uploads/2023/06/avant-de-devenir-un-arbre-2.jpg
END:VEVENT
BEGIN:VEVENT
DTSTART;TZID=America/Toronto:20230819T173000
DTEND;TZID=America/Toronto:20230819T183000
DTSTAMP:20231016T120404
CREATED:20230629T180907Z
LAST-MODIFIED:20230705T133505Z
UID:10018526-1692466200-1692469800@journalmetro.com
SUMMARY:Orchestre Chaabi
DESCRIPTION:L’orchestre Chaabi offrira un concert dans le cadre des Fêtes de Lachine. Venez profiter entre amis et en famille d’un moment rassembleur et festif! \n\n\n\nCette incursion au sein du répertoire des chansons populaires algériennes est une occasion pour découvrir et redécouvrir un large pan de la musique chaabi. \n\n\n\nSource: montreal.ca \n\n\n\nDates et horaires sont sujets à changement sans préavis. Avant de vous déplacer\, vérifier ces informations sur montreal.ca
URL:https://journalmetro.com/evenement/orchestre-chaabi/
LOCATION:Parc Lasalle\, 10661\, rue Victoria\, Montréal\, QC\, H8S 1W4\, Canada
CATEGORIES:Communautaire
ATTACH;FMTTYPE=image/jpeg:https://journalmetro.com/wp-content/uploads/2023/06/orchestre-chaabi-2.jpg
END:VEVENT
BEGIN:VEVENT
DTSTART;TZID=America/Toronto:20230819T190000
DTEND;TZID=America/Toronto:20230819T200000
DTSTAMP:20231016T120404
CREATED:20230629T181307Z
LAST-MODIFIED:20230710T133430Z
UID:10018527-1692471600-1692475200@journalmetro.com
SUMMARY:Poupée Russe - Sarahmée
DESCRIPTION:Sarahmée nous présente un concert dans le cadre des Fêtes de Lachine. Venez profiter entre amis et en famille d’un moment rassembleur et festif! \n\n\n\nSarahmée présente Poupée russe\, qui nous transporte au cœur de son univers inspiré de l’afrobeat\, du trap et de la pop. Accompagnée de ses danseuses\, elle livre une prestation énergique et touchante qui ne laisse personne indifférent! \n\n\n\nDans le cadre des Fêtes de Lachine le 19 août au Parc LaSalle. \n\n\n\nSource: montreal.ca \n\n\n\nDates et horaires sont sujets à changement sans préavis. Avant de vous déplacer\, vérifier ces informations sur montreal.ca
URL:https://journalmetro.com/evenement/poupee-russe-sarahmee-2/
LOCATION:Parc Lasalle\, 10661\, rue Victoria\, Montréal\, QC\, H8S 1W4\, Canada
CATEGORIES:Communautaire
ATTACH;FMTTYPE=image/jpeg:https://journalmetro.com/wp-content/uploads/2023/06/sarahmee-lasalle-2.jpg
END:VEVENT
BEGIN:VEVENT
DTSTART;TZID=America/Toronto:20230819T203000
DTEND;TZID=America/Toronto:20230819T220000
DTSTAMP:20231016T120404
CREATED:20230629T181647Z
LAST-MODIFIED:20230629T181649Z
UID:10018528-1692477000-1692482400@journalmetro.com
SUMMARY:Crash - Les Louanges
DESCRIPTION:Les Louanges nous présente son dernier opus Crash dans le cadre des Fêtes de Lachine. Venez profiter entre amis et en famille d’un moment rassembleur et festif! \n\n\n\nLes Louanges\, c’est le projet de Vincent Roberge\, auteur-compositeur-interprète au talent brut et à l’audace musicale avérée. À la fois inspiré par Frank Ocean\, Robert Glasper et Richard Desjardins\, l’artiste offre un panorama moderne de R&B\, de jazz et de soul à travers un enrobage pop alternatif\, qui explore différents horizons sans jamais perdre son groove originel. Sa poésie frontale aux images surréalistes et sensibles se heurte à un phrasé délié et désinvolte. \n\n\n\nSource: montreal.ca \n\n\n\nDates et horaires sont sujets à changement sans préavis. Avant de vous déplacer\, vérifier ces informations sur montreal.ca
URL:https://journalmetro.com/evenement/crash-les-louanges/
LOCATION:Parc Lasalle\, 10661\, rue Victoria\, Montréal\, QC\, H8S 1W4\, Canada
CATEGORIES:Communautaire
ATTACH;FMTTYPE=image/jpeg:https://journalmetro.com/wp-content/uploads/2023/06/crash-les-louanges-2.jpg
END:VEVENT
END:VCALENDAR