BEGIN:VCALENDAR
VERSION:2.0
PRODID:-//Journal Métro - ECPv6.0.13//NONSGML v1.0//EN
CALSCALE:GREGORIAN
METHOD:PUBLISH
X-WR-CALNAME:Journal Métro
X-ORIGINAL-URL:https://journalmetro.com
X-WR-CALDESC:évènements pour Journal Métro
REFRESH-INTERVAL;VALUE=DURATION:PT1H
X-Robots-Tag:noindex
X-PUBLISHED-TTL:PT1H
BEGIN:VTIMEZONE
TZID:America/Toronto
BEGIN:DAYLIGHT
TZOFFSETFROM:-0500
TZOFFSETTO:-0400
TZNAME:EDT
DTSTART:20230312T070000
END:DAYLIGHT
BEGIN:STANDARD
TZOFFSETFROM:-0400
TZOFFSETTO:-0500
TZNAME:EST
DTSTART:20231105T060000
END:STANDARD
END:VTIMEZONE
BEGIN:VEVENT
DTSTART;TZID=America/Toronto:20230507T130000
DTEND;TZID=America/Toronto:20230820T150000
DTSTAMP:20231016T100551
CREATED:20230310T153639Z
LAST-MODIFIED:20230327T155839Z
UID:10016735-1683464400-1692543600@journalmetro.com
SUMMARY:STIAM : Bibliothèques à toute vapeur
DESCRIPTION:Le plaisir vous attend lors des activités STIAM (Sciences\, technologies\, Ingénierie\, Arts et Mathématiques). \n\n\n\nAmusez-vous à créer toutes sortes d’univers grâce à notre collection de LEGO et de Magformers\, certaines autres activités surprises pourront vous être proposées. Activité libre pour tous et toutes. \n\n\n\nLes dimanches\, en alternance entre la Bibliothèque de Pierrefonds et la Bibliothèque William-G.-Boll (Roxboro). \n\n\n\nSource: montreal.ca \n\n\n\nDates et horaires sont sujets à changement sans préavis. Avant de vous déplacer\, vérifier ces informations sur montreal.ca
URL:https://journalmetro.com/evenement/stiam-bibliotheques-a-toute-vapeur-6/2023-05-07/
LOCATION:Bibliothèque de Pierrefonds\, 13555\, boulevard de Pierrefonds\, Montréal\, QC\, H4Y 1A6\, Canada
ATTACH;FMTTYPE=image/jpeg:https://journalmetro.com/wp-content/uploads/2022/10/stiam-2.jpg
END:VEVENT
BEGIN:VEVENT
DTSTART;TZID=America/Toronto:20230514T130000
DTEND;TZID=America/Toronto:20230827T150000
DTSTAMP:20231016T100551
CREATED:20230310T153639Z
LAST-MODIFIED:20230327T155839Z
UID:10016736-1684069200-1693148400@journalmetro.com
SUMMARY:STIAM : Bibliothèques à toute vapeur
DESCRIPTION:Le plaisir vous attend lors des activités STIAM (Sciences\, technologies\, Ingénierie\, Arts et Mathématiques). \n\n\n\nAmusez-vous à créer toutes sortes d’univers grâce à notre collection de LEGO et de Magformers\, certaines autres activités surprises pourront vous être proposées. Activité libre pour tous et toutes. \n\n\n\nLes dimanches\, en alternance entre la Bibliothèque de Pierrefonds et la Bibliothèque William-G.-Boll (Roxboro). \n\n\n\nSource: montreal.ca \n\n\n\nDates et horaires sont sujets à changement sans préavis. Avant de vous déplacer\, vérifier ces informations sur montreal.ca
URL:https://journalmetro.com/evenement/stiam-bibliotheques-a-toute-vapeur-6/2023-05-14/
LOCATION:Bibliothèque de Pierrefonds\, 13555\, boulevard de Pierrefonds\, Montréal\, QC\, H4Y 1A6\, Canada
ATTACH;FMTTYPE=image/jpeg:https://journalmetro.com/wp-content/uploads/2022/10/stiam-2.jpg
END:VEVENT
BEGIN:VEVENT
DTSTART;TZID=America/Toronto:20230521T130000
DTEND;TZID=America/Toronto:20230903T150000
DTSTAMP:20231016T100551
CREATED:20230310T153639Z
LAST-MODIFIED:20230327T155839Z
UID:10016737-1684674000-1693753200@journalmetro.com
SUMMARY:STIAM : Bibliothèques à toute vapeur
DESCRIPTION:Le plaisir vous attend lors des activités STIAM (Sciences\, technologies\, Ingénierie\, Arts et Mathématiques). \n\n\n\nAmusez-vous à créer toutes sortes d’univers grâce à notre collection de LEGO et de Magformers\, certaines autres activités surprises pourront vous être proposées. Activité libre pour tous et toutes. \n\n\n\nLes dimanches\, en alternance entre la Bibliothèque de Pierrefonds et la Bibliothèque William-G.-Boll (Roxboro). \n\n\n\nSource: montreal.ca \n\n\n\nDates et horaires sont sujets à changement sans préavis. Avant de vous déplacer\, vérifier ces informations sur montreal.ca
URL:https://journalmetro.com/evenement/stiam-bibliotheques-a-toute-vapeur-6/2023-05-21/
LOCATION:Bibliothèque de Pierrefonds\, 13555\, boulevard de Pierrefonds\, Montréal\, QC\, H4Y 1A6\, Canada
ATTACH;FMTTYPE=image/jpeg:https://journalmetro.com/wp-content/uploads/2022/10/stiam-2.jpg
END:VEVENT
BEGIN:VEVENT
DTSTART;TZID=America/Toronto:20230528T130000
DTEND;TZID=America/Toronto:20230910T150000
DTSTAMP:20231016T100551
CREATED:20230310T153639Z
LAST-MODIFIED:20230327T155839Z
UID:10016738-1685278800-1694358000@journalmetro.com
SUMMARY:STIAM : Bibliothèques à toute vapeur
DESCRIPTION:Le plaisir vous attend lors des activités STIAM (Sciences\, technologies\, Ingénierie\, Arts et Mathématiques). \n\n\n\nAmusez-vous à créer toutes sortes d’univers grâce à notre collection de LEGO et de Magformers\, certaines autres activités surprises pourront vous être proposées. Activité libre pour tous et toutes. \n\n\n\nLes dimanches\, en alternance entre la Bibliothèque de Pierrefonds et la Bibliothèque William-G.-Boll (Roxboro). \n\n\n\nSource: montreal.ca \n\n\n\nDates et horaires sont sujets à changement sans préavis. Avant de vous déplacer\, vérifier ces informations sur montreal.ca
URL:https://journalmetro.com/evenement/stiam-bibliotheques-a-toute-vapeur-6/2023-05-28/
LOCATION:Bibliothèque de Pierrefonds\, 13555\, boulevard de Pierrefonds\, Montréal\, QC\, H4Y 1A6\, Canada
ATTACH;FMTTYPE=image/jpeg:https://journalmetro.com/wp-content/uploads/2022/10/stiam-2.jpg
END:VEVENT
BEGIN:VEVENT
DTSTART;TZID=America/Toronto:20230604T130000
DTEND;TZID=America/Toronto:20230917T150000
DTSTAMP:20231016T100551
CREATED:20230310T153639Z
LAST-MODIFIED:20230327T155839Z
UID:10016739-1685883600-1694962800@journalmetro.com
SUMMARY:STIAM : Bibliothèques à toute vapeur
DESCRIPTION:Le plaisir vous attend lors des activités STIAM (Sciences\, technologies\, Ingénierie\, Arts et Mathématiques). \n\n\n\nAmusez-vous à créer toutes sortes d’univers grâce à notre collection de LEGO et de Magformers\, certaines autres activités surprises pourront vous être proposées. Activité libre pour tous et toutes. \n\n\n\nLes dimanches\, en alternance entre la Bibliothèque de Pierrefonds et la Bibliothèque William-G.-Boll (Roxboro). \n\n\n\nSource: montreal.ca \n\n\n\nDates et horaires sont sujets à changement sans préavis. Avant de vous déplacer\, vérifier ces informations sur montreal.ca
URL:https://journalmetro.com/evenement/stiam-bibliotheques-a-toute-vapeur-6/2023-06-04/
LOCATION:Bibliothèque de Pierrefonds\, 13555\, boulevard de Pierrefonds\, Montréal\, QC\, H4Y 1A6\, Canada
ATTACH;FMTTYPE=image/jpeg:https://journalmetro.com/wp-content/uploads/2022/10/stiam-2.jpg
END:VEVENT
BEGIN:VEVENT
DTSTART;TZID=America/Toronto:20230611T130000
DTEND;TZID=America/Toronto:20230924T150000
DTSTAMP:20231016T100551
CREATED:20230310T153639Z
LAST-MODIFIED:20230327T155839Z
UID:10016740-1686488400-1695567600@journalmetro.com
SUMMARY:STIAM : Bibliothèques à toute vapeur
DESCRIPTION:Le plaisir vous attend lors des activités STIAM (Sciences\, technologies\, Ingénierie\, Arts et Mathématiques). \n\n\n\nAmusez-vous à créer toutes sortes d’univers grâce à notre collection de LEGO et de Magformers\, certaines autres activités surprises pourront vous être proposées. Activité libre pour tous et toutes. \n\n\n\nLes dimanches\, en alternance entre la Bibliothèque de Pierrefonds et la Bibliothèque William-G.-Boll (Roxboro). \n\n\n\nSource: montreal.ca \n\n\n\nDates et horaires sont sujets à changement sans préavis. Avant de vous déplacer\, vérifier ces informations sur montreal.ca
URL:https://journalmetro.com/evenement/stiam-bibliotheques-a-toute-vapeur-6/2023-06-11/
LOCATION:Bibliothèque de Pierrefonds\, 13555\, boulevard de Pierrefonds\, Montréal\, QC\, H4Y 1A6\, Canada
ATTACH;FMTTYPE=image/jpeg:https://journalmetro.com/wp-content/uploads/2022/10/stiam-2.jpg
END:VEVENT
BEGIN:VEVENT
DTSTART;TZID=America/Toronto:20230618T130000
DTEND;TZID=America/Toronto:20231001T150000
DTSTAMP:20231016T100551
CREATED:20230310T153639Z
LAST-MODIFIED:20230327T155839Z
UID:10016741-1687093200-1696172400@journalmetro.com
SUMMARY:STIAM : Bibliothèques à toute vapeur
DESCRIPTION:Le plaisir vous attend lors des activités STIAM (Sciences\, technologies\, Ingénierie\, Arts et Mathématiques). \n\n\n\nAmusez-vous à créer toutes sortes d’univers grâce à notre collection de LEGO et de Magformers\, certaines autres activités surprises pourront vous être proposées. Activité libre pour tous et toutes. \n\n\n\nLes dimanches\, en alternance entre la Bibliothèque de Pierrefonds et la Bibliothèque William-G.-Boll (Roxboro). \n\n\n\nSource: montreal.ca \n\n\n\nDates et horaires sont sujets à changement sans préavis. Avant de vous déplacer\, vérifier ces informations sur montreal.ca
URL:https://journalmetro.com/evenement/stiam-bibliotheques-a-toute-vapeur-6/2023-06-18/
LOCATION:Bibliothèque de Pierrefonds\, 13555\, boulevard de Pierrefonds\, Montréal\, QC\, H4Y 1A6\, Canada
ATTACH;FMTTYPE=image/jpeg:https://journalmetro.com/wp-content/uploads/2022/10/stiam-2.jpg
END:VEVENT
BEGIN:VEVENT
DTSTART;TZID=America/Toronto:20230706T183000
DTEND;TZID=America/Toronto:20230824T200000
DTSTAMP:20231016T100551
CREATED:20230705T150803Z
LAST-MODIFIED:20230705T150805Z
UID:10018652-1688668200-1692907200@journalmetro.com
SUMMARY:Ateliers de jeu d'échecs
DESCRIPTION:Les jeudis de 18 h 30 à 20 h \n\n\n\nDu 6 juillet au 24 août 2023 \n\n\n\nÀ la Bibliothèque de Pierrefonds. \n\n\n\nActivités diversifiées destinées aux jeunes débutants de 7 ans et plus pour pratiquer les stratégies et tactiques du jeu d’échecs. \n\n\n\nSource: montreal.ca \n\n\n\nDates et horaires sont sujets à changement sans préavis. Avant de vous déplacer\, vérifier ces informations sur montreal.ca
URL:https://journalmetro.com/evenement/ateliers-de-jeu-dechecs/
LOCATION:Bibliothèque de Pierrefonds\, 13555\, boulevard de Pierrefonds\, Montréal\, QC\, H4Y 1A6\, Canada
ATTACH;FMTTYPE=image/jpeg:https://journalmetro.com/wp-content/uploads/2023/07/echecs-pierrefonds-2.jpg
END:VEVENT
BEGIN:VEVENT
DTSTART;TZID=America/Toronto:20230716T130000
DTEND;TZID=America/Toronto:20230820T160000
DTSTAMP:20231016T100551
CREATED:20230411T185418Z
LAST-MODIFIED:20230411T185505Z
UID:10017181-1689512400-1692547200@journalmetro.com
SUMMARY:Passez GO! Ateliers de jeux de société
DESCRIPTION:À la bibliothèque de Pierrefonds et à la bibliothèque William-G.-Boll\, en alternance. \n\n\n\nEnvie de découvrir un nouveau jeu? Facilitez-vous la tâche en apprenant les règles rapidement et en vous laissant guider par les animateurs et animatrices. \n\n\n\nVenez découvrir et jouer à des jeux de société modernes avec vos amis et votre famille. Les animateurs et animatrices de BoardGamesNMore vous apprendront une variété de nouveaux jeux de société modernes. Plus besoin de lire des livres de règles\, car vous aurez des « livres de règles vivants». \n\n\n\nSource: montreal.ca \n\n\n\nDates et horaires sont sujets à changement sans préavis. Avant de vous déplacer\, vérifier ces informations sur montreal.ca
URL:https://journalmetro.com/evenement/passez-go-ateliers-de-jeux-de-societe-3/2023-07-16/
LOCATION:QC
ATTACH;FMTTYPE=image/jpeg:https://journalmetro.com/wp-content/uploads/2022/10/passez-go-2.jpg
END:VEVENT
BEGIN:VEVENT
DTSTART;TZID=America/Toronto:20230722T180000
DTEND;TZID=America/Toronto:20230902T190000
DTSTAMP:20231016T100551
CREATED:20230721T162409Z
LAST-MODIFIED:20230721T162411Z
UID:10019114-1690048800-1693681200@journalmetro.com
SUMMARY:Yoga sur planche à pagaie
DESCRIPTION:Venez vous amuser\, solliciter votre équilibre et adresse et retirer les bienfaits que vous procure la pratique de cette discipline durant cette séance d’initiation. Muscles de tout votre corps sollicités et relaxation profonde au rendez-vous! \n\n\n\nInscriptions: ouvertes deux semaines à l’avance. \n\n\n\nCoût : gratuit pour tous les participants\, stationnement payant. \n\n\n\n16 ans et plus \n\n\n\nSource: montreal.ca \n\n\n\nDates et horaires sont sujets à changement sans préavis. Avant de vous déplacer\, vérifier ces informations sur montreal.ca
URL:https://journalmetro.com/evenement/yoga-sur-planche-a-pagaie-2/
LOCATION:Plage du parc-nature du Cap-Saint-Jacques\, 21115 boulevard Gouin Ouest\, Montréal\, QC\, Canada
ATTACH;FMTTYPE=image/jpeg:https://journalmetro.com/wp-content/uploads/2023/07/yoga-planche-2.jpg
END:VEVENT
BEGIN:VEVENT
DTSTART;TZID=America/Toronto:20230723T130000
DTEND;TZID=America/Toronto:20230827T160000
DTSTAMP:20231016T100551
CREATED:20230411T185418Z
LAST-MODIFIED:20230411T185505Z
UID:10017182-1690117200-1693152000@journalmetro.com
SUMMARY:Passez GO! Ateliers de jeux de société
DESCRIPTION:À la bibliothèque de Pierrefonds et à la bibliothèque William-G.-Boll\, en alternance. \n\n\n\nEnvie de découvrir un nouveau jeu? Facilitez-vous la tâche en apprenant les règles rapidement et en vous laissant guider par les animateurs et animatrices. \n\n\n\nVenez découvrir et jouer à des jeux de société modernes avec vos amis et votre famille. Les animateurs et animatrices de BoardGamesNMore vous apprendront une variété de nouveaux jeux de société modernes. Plus besoin de lire des livres de règles\, car vous aurez des « livres de règles vivants». \n\n\n\nSource: montreal.ca \n\n\n\nDates et horaires sont sujets à changement sans préavis. Avant de vous déplacer\, vérifier ces informations sur montreal.ca
URL:https://journalmetro.com/evenement/passez-go-ateliers-de-jeux-de-societe-3/2023-07-23/
LOCATION:QC
ATTACH;FMTTYPE=image/jpeg:https://journalmetro.com/wp-content/uploads/2022/10/passez-go-2.jpg
END:VEVENT
BEGIN:VEVENT
DTSTART;TZID=America/Toronto:20230805T140000
DTEND;TZID=America/Toronto:20230819T153000
DTSTAMP:20231016T100551
CREATED:20230705T181930Z
LAST-MODIFIED:20230705T181931Z
UID:10018672-1691244000-1692459000@journalmetro.com
SUMMARY:Ateliers de céramique pincée
DESCRIPTION:Découvrez une technique de poterie accessible en fabriquant un petit bol! \n\n\n\nCet atelier est une initiation à la technique du pot pincé. La première séance sera consacrée au façonnage de votre pièce. Votre création sera prête à être peinte lors de la deuxième séance\, qui aura lieu le samedi 19 août de 14 à 15 h 30. \n\n\n\nImportant : pour compléter un projet\, la participation aux deux activités est nécessaire et obligatoire. \n\n\n\nCes ateliers sont animés par Tanha Gomes\, en français et en anglais. \n\n\n\nPour les personnes âgées de 10 ans et plus. Bienvenue aux adultes ! \n\n\n\nSource: montreal.ca \n\n\n\nDates et horaires sont sujets à changement sans préavis. Avant de vous déplacer\, vérifier ces informations sur montreal.ca
URL:https://journalmetro.com/evenement/ateliers-de-ceramique-pincee/
LOCATION:Bibliothèque de Pierrefonds\, 13555\, boulevard de Pierrefonds\, Montréal\, QC\, H4Y 1A6\, Canada
ATTACH;FMTTYPE=image/jpeg:https://journalmetro.com/wp-content/uploads/2023/07/ceramique-pincee-2.jpg
END:VEVENT
BEGIN:VEVENT
DTSTART;TZID=America/Toronto:20230815T210000
DTEND;TZID=America/Toronto:20230815T220000
DTSTAMP:20231016T100551
CREATED:20230705T192410Z
LAST-MODIFIED:20230705T192412Z
UID:10018681-1692133200-1692136800@journalmetro.com
SUMMARY:Ciné-piano: Hommage au cinéma muet
DESCRIPTION:Connaissez-vous le cinéma muet? L’excellent musicien Roman Zavada vous présente un spectacle extraordinaire\, au cours duquel il accompagne au piano des extraits de films qu’il a spécialement choisis pour vous surprendre (et vous faire rigoler!). \n\n\n\nLe pianiste Roman Zavada rend hommage aux plus grands génies du cinéma muet qui\, de nos jours\, ont sombré dans l’oubli. En faisant revivre à l’écran des extraits spécialement choisis – et souvent hilarants –\, le musicien livre une performance au piano hors du commun\, en parfaite symbiose avec l’action du film. Avec une touche musicale actuelle\, spontanée et toujours aussi surprenante\, il réussit à rendre accessible un métier d’exception! \n\n\n\nSource: montreal.ca \n\n\n\nDates et horaires sont sujets à changement sans préavis. Avant de vous déplacer\, vérifier ces informations sur montreal.ca
URL:https://journalmetro.com/evenement/cine-piano-hommage-au-cinema-muet/
LOCATION:Centre culturel de Pierrefonds\, 13850 boulevard Gouin Ouest\, Montréal\, QC\, Canada
CATEGORIES:Communautaire
ATTACH;FMTTYPE=image/jpeg:https://journalmetro.com/wp-content/uploads/2023/07/pierrefonds-cine-piano-2.jpg
END:VEVENT
BEGIN:VEVENT
DTSTART;TZID=America/Toronto:20230816T193000
DTEND;TZID=America/Toronto:20230816T203000
DTSTAMP:20231016T100551
CREATED:20230705T192856Z
LAST-MODIFIED:20230705T192858Z
UID:10018682-1692214200-1692217800@journalmetro.com
SUMMARY:Mercredis Jazzés - Hommage à Miles Davis Trio Andy King
DESCRIPTION:Pour clore la série\, une incursion dans l’univers musical du trompettiste et visionnaire Miles Davis. \n\n\n\nMonument du jazz du XXe siècle\, Miles Davis a marqué son époque et continuera à inspirer des générations de “jazzmen”. Considéré comme un génie et visionnaire\, il a révolutionné la musique plus d’une fois. « Avec sa façon unique de transcender toutes les catégories de styles\, il a révélé de nouveaux mondes musicaux et des générations de musiciens se sont engouffrés dans ses pas…»(extraits de Kind of Blue\, le making of du chef-d’œuvre de Miles Davis\, d’Ashley Kahn\, 2009). \n\n\n\nAndy King\, trompette et flugelhorn \n\n\n\nSébastien Pellerin\, contrebasse \n\n\n\nMartin Auguste\, Batterie \n\n\n\nSource: montreal.ca \n\n\n\nDates et horaires sont sujets à changement sans préavis. Avant de vous déplacer\, vérifier ces informations sur montreal.ca
URL:https://journalmetro.com/evenement/mercredis-jazzes-hommage-a-miles-davis-trio-andy-king/
LOCATION:Bibliothèque de Pierrefonds\, 13555\, boulevard de Pierrefonds\, Montréal\, QC\, H4Y 1A6\, Canada
CATEGORIES:Communautaire
ATTACH;FMTTYPE=image/jpeg:https://journalmetro.com/wp-content/uploads/2023/07/hommage-wayne-shorter-2.jpg
END:VEVENT
BEGIN:VEVENT
DTSTART;TZID=America/Toronto:20230817T140000
DTEND;TZID=America/Toronto:20230817T153000
DTSTAMP:20231016T100551
CREATED:20230705T193639Z
LAST-MODIFIED:20230705T193640Z
UID:10018683-1692280800-1692286200@journalmetro.com
SUMMARY:Personnalisation de médaillons en gravure laser
DESCRIPTION:Viens créer une pièce unique lors de cet atelier signé Fabricathèque de Pierrefonds. \n\n\n\nLors de cet atelier\, les participants et participantes auront l’occasion de personnaliser un médaillon en bois en le gravant avec la découpeuse laser de la Fabricathèque Pierrefonds.  \n\n\n\nEn français et anglais.  \n\n\n\nPour les 8 et plus. \n\n\n\nSource: montreal.ca \n\n\n\nDates et horaires sont sujets à changement sans préavis. Avant de vous déplacer\, vérifier ces informations sur montreal.ca
URL:https://journalmetro.com/evenement/personnalisation-de-medaillons-en-gravure-laser/
LOCATION:Fabricathèque Pierrefonds\, 13555 boulevard de Pierrefonds\, Montréal\, QC\, Canada
ATTACH;FMTTYPE=image/jpeg:https://journalmetro.com/wp-content/uploads/2023/07/medaillons-gravure-laser-2.jpg
END:VEVENT
BEGIN:VEVENT
DTSTART;TZID=America/Toronto:20230819T103000
DTEND;TZID=America/Toronto:20230819T112000
DTSTAMP:20231016T100551
CREATED:20230705T200958Z
LAST-MODIFIED:20230705T201000Z
UID:10018684-1692441000-1692444000@journalmetro.com
SUMMARY:Églantine et le capitaine Pompidou
DESCRIPTION:Voici Églantine et le Capitaine Pompidou : deux animateurs charismatiques qui entraîneront vos enfants de 3 à 8 ans dans leurs aventures extraordinaires parsemées de jeux et de surprises musicales. \n\n\n\nÉglantine et le Capitaine Pompidou (Roxane Filion et Jean-François Giguère)\, complices de voyages et d’aventures extraordinaires\, sont les héros attachants d’un spectacle musical pour les petits. Ce spectacle\, qui comprend de l’animation\, de la musique et des jeux\, est destiné aux enfants de 3 à 8 ans. \n\n\n\nSource: montreal.ca \n\n\n\nDates et horaires sont sujets à changement sans préavis. Avant de vous déplacer\, vérifier ces informations sur montreal.ca
URL:https://journalmetro.com/evenement/eglantine-et-le-capitaine-pompidou/
LOCATION:Centre communautaire Gerry-Robertson\, 9665 boulevard Gouin Ouest\, Montréal\, Canada
CATEGORIES:Communautaire
ATTACH;FMTTYPE=image/jpeg:https://journalmetro.com/wp-content/uploads/2023/07/eglantine-2.jpg
END:VEVENT
END:VCALENDAR