BEGIN:VCALENDAR
VERSION:2.0
PRODID:-//Journal Métro - ECPv6.0.13//NONSGML v1.0//EN
CALSCALE:GREGORIAN
METHOD:PUBLISH
X-WR-CALNAME:Journal Métro
X-ORIGINAL-URL:https://journalmetro.com
X-WR-CALDESC:évènements pour Journal Métro
REFRESH-INTERVAL;VALUE=DURATION:PT1H
X-Robots-Tag:noindex
X-PUBLISHED-TTL:PT1H
BEGIN:VTIMEZONE
TZID:America/Toronto
BEGIN:DAYLIGHT
TZOFFSETFROM:-0500
TZOFFSETTO:-0400
TZNAME:EDT
DTSTART:20230312T070000
END:DAYLIGHT
BEGIN:STANDARD
TZOFFSETFROM:-0400
TZOFFSETTO:-0500
TZNAME:EST
DTSTART:20231105T060000
END:STANDARD
END:VTIMEZONE
BEGIN:VEVENT
DTSTART;TZID=America/Toronto:20230101T000000
DTEND;TZID=America/Toronto:20231223T235959
DTSTAMP:20231016T144433
CREATED:20221219T212721Z
LAST-MODIFIED:20230809T153348Z
UID:10009215-1672531200-1703375999@journalmetro.com
SUMMARY:Coup de pouce numérique
DESCRIPTION:L’équipe des bibliothèques tentera de répondre à vos questions sur le prêt de livres numériques\, les ressources en ligne des bibliothèques\, l’utilisation d’un ordinateur ou d’une tablette\, la consultation de sites Internet ou l’échange de courriels. \n\n\n\nSource: montreal.ca \n\n\n\nDates et horaires sont sujets à changement sans préavis. Avant de vous déplacer\, vérifier ces informations sur montreal.ca
URL:https://journalmetro.com/evenement/coup-de-pouce-numerique/
LOCATION:Bibliothèque du Vieux-Saint-Laurent\, 1380 rue de l'Eglise\, Montréal\, QC\, H4L 2H2\, Canada
ATTACH;FMTTYPE=image/jpeg:https://journalmetro.com/wp-content/uploads/2022/12/coup-de-pouce-numerique-2.jpg
END:VEVENT
BEGIN:VEVENT
DTSTART;TZID=America/Toronto:20230322T110000
DTEND;TZID=America/Toronto:20230830T120000
DTSTAMP:20231016T144433
CREATED:20230323T183412Z
LAST-MODIFIED:20230328T174647Z
UID:10015012-1679482800-1693396800@journalmetro.com
SUMMARY:Heure du conte avec Annie-Claire
DESCRIPTION:Heure du conte à la bibliothèque du Boisé avec Annie-Claire Lassonde. \n\n\n\nParents et enfants sont invités à l’heure du conte en français. \n\n\n\nOn vous attend avec des histoires et des comptines. \n\n\n\nPour les enfants de 3 à 5 ans. \n\n\n\nAvec Annie-Claire Lassonde \n\n\n\nParents et enfants sont invités à l’heure du conte en français. On vous attend avec des histoires etdes comptines. Pour les 3 à 5 ans. \n\n\n\nSource: montreal.ca \n\n\n\nDates et horaires sont sujets à changement sans préavis. Avant de vous déplacer\, vérifier ces informations sur montreal.ca
URL:https://journalmetro.com/evenement/heure-du-conte-avec-annie-claire-3/
LOCATION:Bibliothèque du Boisé\, 2727 boulevard Thimens\, Montréal\, QC\, Canada
ATTACH;FMTTYPE=image/jpeg:https://journalmetro.com/wp-content/uploads/2023/03/HeureConte_iStock_Jorm-Sangsorn.jpg
END:VEVENT
BEGIN:VEVENT
DTSTART;TZID=America/Toronto:20230502T160000
DTEND;TZID=America/Toronto:20231031T200000
DTSTAMP:20231016T144433
CREATED:20230501T193812Z
LAST-MODIFIED:20230501T193814Z
UID:10017374-1683043200-1698782400@journalmetro.com
SUMMARY:De tous Côté - Exposition hommage à Étienne Côté
DESCRIPTION:L’exposition De tous Côté célèbre l’œuvre de l’artiste laurentien Étienne Côté. \n\n\n\nL’exposition De tous Côté rend hommage à l’artiste Étienne Côté qui est né et a vécu Saint-Laurent. À travers une sélection d’œuvres de son ancienne conjointe et commissaire de l’exposition\, Maryse Gagné\, les peintures d’Étienne Côté se déclinent en trois thèmes ; côté cour\, côté mer et côté jardin. Cette exposition extérieure se déployant sur le boulevard Décarie inaugure de nouveaux supports d’exposition qui démontrent la volonté de l’arrondissement de Saint-Laurent de décentraliser la culture pour une meilleure accessibilité et connaissance des richesses artistiques de notre territoire. La peinture lumineuse et universelle d’Étienne Côté saura ravir les citoyens et citoyennes lors de leurs trajets à pied comme en voiture. \n\n\n\nL’exposition se déploie sur le boulevard Décarie entre la Place Rodolphe-Rousseau et le parc Beaudet. \n\n\n\nInauguration le 4 mai à 17h\, en face de la pâtisserie Dolci Più (849 Bd Décarie) \n\n\n\nLes panneaux d’exposition seront partagés par les différents partenaires du quartier culturel du Vieux-Saint-Laurent. \n\n\n\nSource: montreal.ca \n\n\n\nDates et horaires sont sujets à changement sans préavis. Avant de vous déplacer\, vérifier ces informations sur montreal.ca
URL:https://journalmetro.com/evenement/de-tous-cote-exposition-hommage-a-etienne-cote/
LOCATION:Place Rodolphe-Rousseau\, Boulevard Edouard-Laurin\, Montréal\, QC\, H4L2A9\, Canada
ATTACH;FMTTYPE=image/jpeg:https://journalmetro.com/wp-content/uploads/2023/05/de-tous-cote-2.jpg
END:VEVENT
BEGIN:VEVENT
DTSTART;TZID=America/Toronto:20230531T080000
DTEND;TZID=America/Toronto:20230930T190000
DTSTAMP:20231016T144434
CREATED:20230602T204459Z
LAST-MODIFIED:20230602T204500Z
UID:10017880-1685520000-1696100400@journalmetro.com
SUMMARY:Réagir à la crise climatique - Exposition citoyenne
DESCRIPTION:Exposition de collages réalisés par des citoyen.ne.s de l’arrondissement de Saint-Laurent sur le thème des changements climatiques. \n\n\n\nRéagir à la crise climatique réunit des créations citoyennes réalisées dans le cadre d’ateliers de médiation qui ont eu lieu au Mixlab de la bibliothèque du Boisé et à la FabricARThèque de la bibliothèque du Vieux-Saint-Laurent. Nous avons demandé aux personnes participantes de représenter les émotions qu’elles ressentent face à la crise climatique actuelle. \n\n\n\nCe projet est inspiré de l’exposition Entendez ma colère! organisée par la Fondation David Suzuki\, qui vise à élargir les connaissances\, la recherche\, la mobilisation et l’engagement du public sur les questions climatiques\, de l’échelle municipale à l’échelle internationale. \n\n\n\nSource: montreal.ca \n\n\n\nDates et horaires sont sujets à changement sans préavis. Avant de vous déplacer\, vérifier ces informations sur montreal.ca
URL:https://journalmetro.com/evenement/reagir-a-la-crise-climatique-exposition-citoyenne/
LOCATION:Bibliothèque du Boisé\, 2727 boulevard Thimens\, Montréal\, QC\, Canada
ATTACH;FMTTYPE=image/jpeg:https://journalmetro.com/wp-content/uploads/2023/06/reagir-a-la-crise-climatique-2.jpg
END:VEVENT
BEGIN:VEVENT
DTSTART;TZID=America/Toronto:20230830T101500
DTEND;TZID=America/Toronto:20230830T101500
DTSTAMP:20231016T144434
CREATED:20230628T163549Z
LAST-MODIFIED:20230628T163550Z
UID:10018461-1693390500-1693390500@journalmetro.com
SUMMARY:Découverte du Boisé du parc Marcel-Laurin
DESCRIPTION:Venez découvrir le boisé du parc Marcel-Laurin avec VertCité! \n\n\n\nLe Boisé du parc Marcel-Laurin et un espace vert situé à Saint-Laurent où l’on retrouve plusieurs espèces animales et végétales. Renards\, lapins\, cardinaux et plusieurs espèces d’abeilles sauvages peuvent y être observés pendant la saison estivale.Lors d’une sortie dans le boisé\, les participants pourront en apprendre davantage sur les espèces présentes et les façons de les observer. \n\n\n\nSource: montreal.ca \n\n\n\nDates et horaires sont sujets à changement sans préavis. Avant de vous déplacer\, vérifier ces informations sur montreal.ca
URL:https://journalmetro.com/evenement/decouverte-du-boise-du-parc-marcel-laurin/
LOCATION:Bibliothèque du Boisé\, 2727 boulevard Thimens\, Montréal\, QC\, Canada
ATTACH;FMTTYPE=image/jpeg:https://journalmetro.com/wp-content/uploads/2023/06/decouverte-du-boise-2.jpg
END:VEVENT
BEGIN:VEVENT
DTSTART;TZID=America/Toronto:20230831T180000
DTEND;TZID=America/Toronto:20230831T190000
DTSTAMP:20231016T144434
CREATED:20230628T164021Z
LAST-MODIFIED:20230628T164039Z
UID:10018462-1693504800-1693508400@journalmetro.com
SUMMARY:#FAR2023 dans Saint-Laurent! - Festival des arts de ruelle
DESCRIPTION:Spectacle de musique déambulatoire. Départ du Cégep de Saint-Laurent. \n\n\n\nDans le cadre de la tournée de sa 7e édition\, le FAR Festival des arts de ruelle revient avec un spectacle sur le Mixbus en mouvement le 31 août prochain! Une occasion unique de voir des artistes musicaux surfer sur le toit d’un autobus \n\n\n\nSource: montreal.ca \n\n\n\nDates et horaires sont sujets à changement sans préavis. Avant de vous déplacer\, vérifier ces informations sur montreal.ca
URL:https://journalmetro.com/evenement/far2023-dans-saint-laurent-festival-des-arts-de-ruelle/
LOCATION:Cégep de Saint-Laurent\, 625 avenue Sainte-Croix\, Montréal\, Canada
CATEGORIES:Communautaire
ATTACH;FMTTYPE=image/jpeg:https://journalmetro.com/wp-content/uploads/2023/06/far2023-dans-st-laurent-2.jpg
END:VEVENT
BEGIN:VEVENT
DTSTART;TZID=America/Toronto:20230903T140000
DTEND;TZID=America/Toronto:20231022T170000
DTSTAMP:20231016T144434
CREATED:20230721T174943Z
LAST-MODIFIED:20230721T174944Z
UID:10019124-1693749600-1697994000@journalmetro.com
SUMMARY:Shinrin Yoku
DESCRIPTION:Vous désirez faire le plein d’énergie et vous réapproprier votre santé vitale d’antan? Venez vous détendre et vous connecter avec les éléments de la nature qui vous entourent. Au menu\, une marche lente de 3 kilomètres dans un parc-nature généralement en silence ponctuée de partages. \n\n\n\nCoût : activité gratuite pour tous\, stationnement payant \n\n\n\nUne tisane et une collation seront offertes à la toute fin de l’activité. \n\n\n\nInscription: à partir du 25 juillet 2023 \n\n\n\nPoint de rendez-vous: accueil des champs \n\n\n\nSource: montreal.ca \n\n\n\nDates et horaires sont sujets à changement sans préavis. Avant de vous déplacer\, vérifier ces informations sur montreal.ca
URL:https://journalmetro.com/evenement/shinrin-yoku-2/
LOCATION:Parc-nature du Bois-de-Liesse\, 9432 boulevard Gouin Ouest\, Montréal\, QC\, Canada
ATTACH;FMTTYPE=image/jpeg:https://journalmetro.com/wp-content/uploads/2023/07/shinrin-yoku-2.jpg
END:VEVENT
END:VCALENDAR