BEGIN:VCALENDAR
VERSION:2.0
PRODID:-//Journal Métro - ECPv6.0.13//NONSGML v1.0//EN
CALSCALE:GREGORIAN
METHOD:PUBLISH
X-WR-CALNAME:Journal Métro
X-ORIGINAL-URL:https://journalmetro.com
X-WR-CALDESC:évènements pour Journal Métro
REFRESH-INTERVAL;VALUE=DURATION:PT1H
X-Robots-Tag:noindex
X-PUBLISHED-TTL:PT1H
BEGIN:VTIMEZONE
TZID:America/Toronto
BEGIN:DAYLIGHT
TZOFFSETFROM:-0500
TZOFFSETTO:-0400
TZNAME:EDT
DTSTART:20230312T070000
END:DAYLIGHT
BEGIN:STANDARD
TZOFFSETFROM:-0400
TZOFFSETTO:-0500
TZNAME:EST
DTSTART:20231105T060000
END:STANDARD
END:VTIMEZONE
BEGIN:VEVENT
DTSTART;TZID=America/Toronto:20230101T000000
DTEND;TZID=America/Toronto:20231223T235959
DTSTAMP:20231016T144407
CREATED:20221219T212721Z
LAST-MODIFIED:20230809T153348Z
UID:10009215-1672531200-1703375999@journalmetro.com
SUMMARY:Coup de pouce numérique
DESCRIPTION:L’équipe des bibliothèques tentera de répondre à vos questions sur le prêt de livres numériques\, les ressources en ligne des bibliothèques\, l’utilisation d’un ordinateur ou d’une tablette\, la consultation de sites Internet ou l’échange de courriels. \n\n\n\nSource: montreal.ca \n\n\n\nDates et horaires sont sujets à changement sans préavis. Avant de vous déplacer\, vérifier ces informations sur montreal.ca
URL:https://journalmetro.com/evenement/coup-de-pouce-numerique/
LOCATION:Bibliothèque du Vieux-Saint-Laurent\, 1380 rue de l'Eglise\, Montréal\, QC\, H4L 2H2\, Canada
ATTACH;FMTTYPE=image/jpeg:https://journalmetro.com/wp-content/uploads/2022/12/coup-de-pouce-numerique-2.jpg
END:VEVENT
BEGIN:VEVENT
DTSTART;TZID=America/Toronto:20230502T160000
DTEND;TZID=America/Toronto:20231031T200000
DTSTAMP:20231016T144407
CREATED:20230501T193812Z
LAST-MODIFIED:20230501T193814Z
UID:10017374-1683043200-1698782400@journalmetro.com
SUMMARY:De tous Côté - Exposition hommage à Étienne Côté
DESCRIPTION:L’exposition De tous Côté célèbre l’œuvre de l’artiste laurentien Étienne Côté. \n\n\n\nL’exposition De tous Côté rend hommage à l’artiste Étienne Côté qui est né et a vécu Saint-Laurent. À travers une sélection d’œuvres de son ancienne conjointe et commissaire de l’exposition\, Maryse Gagné\, les peintures d’Étienne Côté se déclinent en trois thèmes ; côté cour\, côté mer et côté jardin. Cette exposition extérieure se déployant sur le boulevard Décarie inaugure de nouveaux supports d’exposition qui démontrent la volonté de l’arrondissement de Saint-Laurent de décentraliser la culture pour une meilleure accessibilité et connaissance des richesses artistiques de notre territoire. La peinture lumineuse et universelle d’Étienne Côté saura ravir les citoyens et citoyennes lors de leurs trajets à pied comme en voiture. \n\n\n\nL’exposition se déploie sur le boulevard Décarie entre la Place Rodolphe-Rousseau et le parc Beaudet. \n\n\n\nInauguration le 4 mai à 17h\, en face de la pâtisserie Dolci Più (849 Bd Décarie) \n\n\n\nLes panneaux d’exposition seront partagés par les différents partenaires du quartier culturel du Vieux-Saint-Laurent. \n\n\n\nSource: montreal.ca \n\n\n\nDates et horaires sont sujets à changement sans préavis. Avant de vous déplacer\, vérifier ces informations sur montreal.ca
URL:https://journalmetro.com/evenement/de-tous-cote-exposition-hommage-a-etienne-cote/
LOCATION:Place Rodolphe-Rousseau\, Boulevard Edouard-Laurin\, Montréal\, QC\, H4L2A9\, Canada
ATTACH;FMTTYPE=image/jpeg:https://journalmetro.com/wp-content/uploads/2023/05/de-tous-cote-2.jpg
END:VEVENT
BEGIN:VEVENT
DTSTART;TZID=America/Toronto:20230531T080000
DTEND;TZID=America/Toronto:20230930T190000
DTSTAMP:20231016T144407
CREATED:20230602T204459Z
LAST-MODIFIED:20230602T204500Z
UID:10017880-1685520000-1696100400@journalmetro.com
SUMMARY:Réagir à la crise climatique - Exposition citoyenne
DESCRIPTION:Exposition de collages réalisés par des citoyen.ne.s de l’arrondissement de Saint-Laurent sur le thème des changements climatiques. \n\n\n\nRéagir à la crise climatique réunit des créations citoyennes réalisées dans le cadre d’ateliers de médiation qui ont eu lieu au Mixlab de la bibliothèque du Boisé et à la FabricARThèque de la bibliothèque du Vieux-Saint-Laurent. Nous avons demandé aux personnes participantes de représenter les émotions qu’elles ressentent face à la crise climatique actuelle. \n\n\n\nCe projet est inspiré de l’exposition Entendez ma colère! organisée par la Fondation David Suzuki\, qui vise à élargir les connaissances\, la recherche\, la mobilisation et l’engagement du public sur les questions climatiques\, de l’échelle municipale à l’échelle internationale. \n\n\n\nSource: montreal.ca \n\n\n\nDates et horaires sont sujets à changement sans préavis. Avant de vous déplacer\, vérifier ces informations sur montreal.ca
URL:https://journalmetro.com/evenement/reagir-a-la-crise-climatique-exposition-citoyenne/
LOCATION:Bibliothèque du Boisé\, 2727 boulevard Thimens\, Montréal\, QC\, Canada
ATTACH;FMTTYPE=image/jpeg:https://journalmetro.com/wp-content/uploads/2023/06/reagir-a-la-crise-climatique-2.jpg
END:VEVENT
BEGIN:VEVENT
DTSTART;TZID=America/Toronto:20230903T140000
DTEND;TZID=America/Toronto:20231022T170000
DTSTAMP:20231016T144407
CREATED:20230721T174943Z
LAST-MODIFIED:20230721T174944Z
UID:10019124-1693749600-1697994000@journalmetro.com
SUMMARY:Shinrin Yoku
DESCRIPTION:Vous désirez faire le plein d’énergie et vous réapproprier votre santé vitale d’antan? Venez vous détendre et vous connecter avec les éléments de la nature qui vous entourent. Au menu\, une marche lente de 3 kilomètres dans un parc-nature généralement en silence ponctuée de partages. \n\n\n\nCoût : activité gratuite pour tous\, stationnement payant \n\n\n\nUne tisane et une collation seront offertes à la toute fin de l’activité. \n\n\n\nInscription: à partir du 25 juillet 2023 \n\n\n\nPoint de rendez-vous: accueil des champs \n\n\n\nSource: montreal.ca \n\n\n\nDates et horaires sont sujets à changement sans préavis. Avant de vous déplacer\, vérifier ces informations sur montreal.ca
URL:https://journalmetro.com/evenement/shinrin-yoku-2/
LOCATION:Parc-nature du Bois-de-Liesse\, 9432 boulevard Gouin Ouest\, Montréal\, QC\, Canada
ATTACH;FMTTYPE=image/jpeg:https://journalmetro.com/wp-content/uploads/2023/07/shinrin-yoku-2.jpg
END:VEVENT
BEGIN:VEVENT
DTSTART;TZID=America/Toronto:20230908T193000
DTEND;TZID=America/Toronto:20230908T193000
DTSTAMP:20231016T144407
CREATED:20230718T181450Z
LAST-MODIFIED:20230718T181452Z
UID:10018902-1694201400-1694201400@journalmetro.com
SUMMARY:Projection de courts-métrages - Festival Plein(s) Écran(s)
DESCRIPTION:Assistez à la projection de six courts métrages dans le cadre du Festival Plein(s) Écran(s). \n\n\n\nProjection spéciale de six courts métrages accompagnés d’une rencontre avec un·e cinéaste\, animée par Plein(s) Écran(s). C’est l’occasion de découvrir une programmation riche et variée aux thématiques urbaines\, qui aborde des sujets importants et qui promet d’alimenter la discussion avec les créateurs·trices. \n\n\n\nSource: montreal.ca \n\n\n\nDates et horaires sont sujets à changement sans préavis. Avant de vous déplacer\, vérifier ces informations sur montreal.ca
URL:https://journalmetro.com/evenement/projection-de-courts-metrages-festival-pleins-ecrans/
LOCATION:Parc Beaudet\, 650 boulevard Décarie\, Montréal\, QC\, Canada
CATEGORIES:Communautaire
ATTACH;FMTTYPE=image/jpeg:https://journalmetro.com/wp-content/uploads/2023/07/festival-plein-ecran-2.jpg
END:VEVENT
BEGIN:VEVENT
DTSTART;TZID=America/Toronto:20230910T123000
DTEND;TZID=America/Toronto:20230910T133000
DTSTAMP:20231016T144407
CREATED:20230718T160655Z
LAST-MODIFIED:20230718T160657Z
UID:10018898-1694349000-1694352600@journalmetro.com
SUMMARY:10e anniversaire de la bibliothèque du Boisé : Amuseur public : Alice au Pays des Merveilles
DESCRIPTION:Activité gratuite dans le cadre du 10e anniversaire de la bibliothèque du Boisé \n\n\n\nAlice et le Chapelier Fou ont été catapultés hors du Pays des Merveilles. Ils découvrent\, pour la toute première fois\, le monde d’aujourd’hui. À travers leurs rencontres\, ils espèrent retrouver la trace du Lapin Blanc afin de retourner aux Pays des Merveilles. Qui sait s’ils n’entraineront pas petits et grands avec eux vers le Monde Imaginaire… de l’autre côté du Miroir… \n\n\n\nEntrée libre. \n\n\n\nSource: montreal.ca \n\n\n\nDates et horaires sont sujets à changement sans préavis. Avant de vous déplacer\, vérifier ces informations sur montreal.ca
URL:https://journalmetro.com/evenement/10e-anniversaire-de-la-bibliotheque-du-boise-amuseur-public-alice-au-pays-des-merveilles/
LOCATION:Bibliothèque du Boisé\, 2727 boulevard Thimens\, Montréal\, QC\, Canada
CATEGORIES:Communautaire
ATTACH;FMTTYPE=image/jpeg:https://journalmetro.com/wp-content/uploads/2023/07/alice-au-pays-des-merveilles-2.jpg
END:VEVENT
BEGIN:VEVENT
DTSTART;TZID=America/Toronto:20230910T123000
DTEND;TZID=America/Toronto:20230910T133000
DTSTAMP:20231016T144407
CREATED:20230718T161158Z
LAST-MODIFIED:20230718T161200Z
UID:10018899-1694349000-1694352600@journalmetro.com
SUMMARY:10e anniversaire de la bibliothèque du Boisé: Pause musicale : Skarazula Trio
DESCRIPTION:Activité gratuite dans le cadre du 10e anniversaire de la bibliothèque du Boisé. \n\n\n\nLes trois musiciens de Skarazula vous feront découvrir le Moyen Âge\, cette époque riche en histoire\, en vous présentant des pièces instrumentales\, des chansons enjouées et une authentique danse médiévale. Pour tous et toutes. \n\n\n\nSource: montreal.ca \n\n\n\nDates et horaires sont sujets à changement sans préavis. Avant de vous déplacer\, vérifier ces informations sur montreal.ca
URL:https://journalmetro.com/evenement/10e-anniversaire-de-la-bibliotheque-du-boise-pause-musicale-skarazula-trio/
LOCATION:Bibliothèque du Boisé\, 2727 boulevard Thimens\, Montréal\, QC\, Canada
CATEGORIES:Communautaire
ATTACH;FMTTYPE=image/jpeg:https://journalmetro.com/wp-content/uploads/2023/07/skarazula-2.jpg
END:VEVENT
BEGIN:VEVENT
DTSTART;TZID=America/Toronto:20230910T140000
DTEND;TZID=America/Toronto:20230910T140000
DTSTAMP:20231016T144407
CREATED:20230718T181006Z
LAST-MODIFIED:20230718T181008Z
UID:10018901-1694354400-1694354400@journalmetro.com
SUMMARY:10e anniversaire de la bibliothèque du Boisé : Rencontre littéraire avec l'écrivain Dany Laferrière
DESCRIPTION:«Un plongeon dans l’encrier»: dans le cadre du 10e anniversaire de la bibliothèque du Boisé\, rencontre avec l’écrivain Dany Laferrière. Gratuit\, inscription requise. \n\n\n\nDepuis la publication de son premier ouvrage\, Comment faire l’amour avec un nègre sans se fatiguer (1985)\, Dany Laferrière parcourt le monde avec les vingt-six lettres de l’alphabet\, devenant du pays de son lecteur. Il a publié 36 livres\, parmi lesquels Je suis un écrivain japonais\, L’énigme du retour (Prix Médicis)\, des albums pour enfants\, ainsi qu’une œuvre dessinée colossale. \n\n\n\nCette «Autobiographie américaine» lui a valu de nombreuses distinctions\, dont son élection en 2013 au fauteuil 2 de l’Académie française\, celui de Montesquieu et de Dumas fils et dont le dernier occupant fut Hector Bianciotti qu’il rejoint dans l’admiration de Borges. \n\n\n\nLors de cette rencontre\, Laferrière nous invite à parcourir ce long fleuve d’encre\, en mots et en images\, depuis son enfance à Petit-Goâve jusqu’à Paris\, où il siège chaque jeudi à la Commission du dictionnaire\, en passant par Montréal\, sa ville\, où il est devenu écrivain\, et qui aurait le plus bel été le plus beau du monde car c’est un été qui a connu l’hiver. \n\n\n\nSource: montreal.ca \n\n\n\nDates et horaires sont sujets à changement sans préavis. Avant de vous déplacer\, vérifier ces informations sur montreal.ca
URL:https://journalmetro.com/evenement/10e-anniversaire-de-la-bibliotheque-du-boise-rencontre-litteraire-avec-lecrivain-dany-laferriere/
LOCATION:Bibliothèque du Boisé\, 2727 boulevard Thimens\, Montréal\, QC\, Canada
CATEGORIES:Communautaire
ATTACH;FMTTYPE=image/jpeg:https://journalmetro.com/wp-content/uploads/2023/07/dany-2.jpg
END:VEVENT
BEGIN:VEVENT
DTSTART;TZID=America/Toronto:20230910T140000
DTEND;TZID=America/Toronto:20230910T154500
DTSTAMP:20231016T144407
CREATED:20230718T180537Z
LAST-MODIFIED:20230718T180539Z
UID:10018900-1694354400-1694360700@journalmetro.com
SUMMARY:10e anniversaire de la bibliothèque du Boisé: Yogistoires - Bibliothèque du Boisé
DESCRIPTION:Activité gratuite dans le cadre du 10e anniversaire de la bibliothèque du Boisé \n\n\n\nUne activité de détente et de qualité à découvrir avec vos enfants : histoires\, musique\, et postures de yoga simples adaptées aux parents et aux enfants. Pour les 0 à 5 ans et leurs parents. \n\n\n\nSource: montreal.ca \n\n\n\nDates et horaires sont sujets à changement sans préavis. Avant de vous déplacer\, vérifier ces informations sur montreal.ca
URL:https://journalmetro.com/evenement/10e-anniversaire-de-la-bibliotheque-du-boise-yogistoires-bibliotheque-du-boise/
LOCATION:Bibliothèque du Boisé\, 2727 boulevard Thimens\, Montréal\, QC\, Canada
ATTACH;FMTTYPE=image/jpeg:https://journalmetro.com/wp-content/uploads/2022/12/yogistoires_1200x600.jpg
END:VEVENT
BEGIN:VEVENT
DTSTART;TZID=America/Toronto:20230910T140000
DTEND;TZID=America/Toronto:20230910T154500
DTSTAMP:20231016T144407
CREATED:20230718T182214Z
LAST-MODIFIED:20230718T182216Z
UID:10018904-1694354400-1694360700@journalmetro.com
SUMMARY:10e anniversaire de la bibliothèque du Boisé: Lis avec Capitaine
DESCRIPTION:Activité gratuite dans le cadre du 10e anniversaire de la bibliothèque du Boisé \n\n\n\nLors de cette activité\, l’enfant aura l’occasion de rencontrer et de pratiquer sa lecture en compagnie de notre cher chien de thérapie Capitaine qui est avec nous depuis 10 ans! Pour les 7 à 12 ans. \n\n\n\nSource: montreal.ca \n\n\n\nDates et horaires sont sujets à changement sans préavis. Avant de vous déplacer\, vérifier ces informations sur montreal.ca
URL:https://journalmetro.com/evenement/10e-anniversaire-de-la-bibliotheque-du-boise-lis-avec-capitaine/
LOCATION:Bibliothèque du Boisé\, 2727 boulevard Thimens\, Montréal\, QC\, Canada
ATTACH;FMTTYPE=image/jpeg:https://journalmetro.com/wp-content/uploads/2023/07/capitaine-2.jpg
END:VEVENT
BEGIN:VEVENT
DTSTART;TZID=America/Toronto:20230910T140000
DTEND;TZID=America/Toronto:20230910T160000
DTSTAMP:20231016T144407
CREATED:20230718T181836Z
LAST-MODIFIED:20230718T181837Z
UID:10018903-1694354400-1694361600@journalmetro.com
SUMMARY:10e anniversaire de la bibliothèque du Boisé : Découverte numérique
DESCRIPTION:Activité gratuite pour tous et toutes dans le cadre du 10e anniversaire de la bibliothèque du Boisé \n\n\n\nAvec l’équipe du Mixlab \n\n\n\nDécouverte et expérimentation dans les deux espaces de création numérique et multimédia du Mixlab : Le Studio et L’Atelier. \n\n\n\nSource: montreal.ca \n\n\n\nDates et horaires sont sujets à changement sans préavis. Avant de vous déplacer\, vérifier ces informations sur montreal.ca
URL:https://journalmetro.com/evenement/10e-anniversaire-de-la-bibliotheque-du-boise-decouverte-numerique/
LOCATION:Bibliothèque du Boisé\, 2727 boulevard Thimens\, Montréal\, QC\, Canada
ATTACH;FMTTYPE=image/jpeg:https://journalmetro.com/wp-content/uploads/2023/07/decouverte-numerique-2.jpg
END:VEVENT
BEGIN:VEVENT
DTSTART;TZID=America/Toronto:20230910T141500
DTEND;TZID=America/Toronto:20230910T154500
DTSTAMP:20231016T144407
CREATED:20230718T182633Z
LAST-MODIFIED:20230718T182635Z
UID:10018905-1694355300-1694360700@journalmetro.com
SUMMARY:10e anniversaire de la bibliothèque du Boisé : Dessins en direct avec l'artiste Yayo
DESCRIPTION:Activité gratuite pour enfants dans le cadre du 10e anniversaire de la bibliothèque du Boisé \n\n\n\nYayo dessinera en direct devant les enfants en s’inspirant de leurs idées. Un dessin surprise à colorier sera remis aux participants. Pour les 6 à 12 ans. \n\n\n\nSource: montreal.ca \n\n\n\nDates et horaires sont sujets à changement sans préavis. Avant de vous déplacer\, vérifier ces informations sur montreal.ca
URL:https://journalmetro.com/evenement/10e-anniversaire-de-la-bibliotheque-du-boise-dessins-en-direct-avec-lartiste-yayo/
LOCATION:Bibliothèque du Boisé\, 2727 boulevard Thimens\, Montréal\, QC\, Canada
ATTACH;FMTTYPE=image/jpeg:https://journalmetro.com/wp-content/uploads/2023/07/yayo-2.jpg
END:VEVENT
BEGIN:VEVENT
DTSTART;TZID=America/Toronto:20230910T141500
DTEND;TZID=America/Toronto:20230910T154500
DTSTAMP:20231016T144407
CREATED:20230718T183032Z
LAST-MODIFIED:20230718T183034Z
UID:10018906-1694355300-1694360700@journalmetro.com
SUMMARY:10e anniversaire de la bibliothèque du Boisé : Création de Fanzine numérique
DESCRIPTION:Activité gratuite dans le cadre du 10e anniversaire de la bibliothèque du Boisé \n\n\n\nVous aurez l’occasion d’expérimenter la création d’un Fanzine numérique à partir d’un modèle en utilisant un ordinateur et une tablette graphique. Pour tous et toutes. \n\n\n\nSource: montreal.ca \n\n\n\nDates et horaires sont sujets à changement sans préavis. Avant de vous déplacer\, vérifier ces informations sur montreal.ca
URL:https://journalmetro.com/evenement/10e-anniversaire-de-la-bibliotheque-du-boise-creation-de-fanzine-numerique/
LOCATION:Bibliothèque du Boisé\, 2727 boulevard Thimens\, Montréal\, QC\, Canada
ATTACH;FMTTYPE=image/jpeg:https://journalmetro.com/wp-content/uploads/2023/07/fanzine-numerique-2.jpg
END:VEVENT
BEGIN:VEVENT
DTSTART;TZID=America/Toronto:20230910T170000
DTEND;TZID=America/Toronto:20230910T180000
DTSTAMP:20231016T144407
CREATED:20230724T200144Z
LAST-MODIFIED:20230724T200145Z
UID:10019154-1694365200-1694368800@journalmetro.com
SUMMARY:Conseils gratuits d’experts en comportement canin
DESCRIPTION:Vous avez un chien? Venez profiter de l’expertise d’éducateurs canins\, qui vous partageront leurs meilleurs conseils pour mieux vivre avec votre animal de compagnie. Cet atelier théorique et pratique se déroule dans une trentaine de parcs à chiens de la Ville. \n\n\n\nParmi les sujets qui seront abordés : la gestion de la dynamique dans un parc à chiens\, l’intégration du chiot\, le langage canin\, la prévention des morsures\, l’agression entre chiens et le jeu. \n\n\n\nSource: montreal.ca \n\n\n\nDates et horaires sont sujets à changement sans préavis. Avant de vous déplacer\, vérifier ces informations sur montreal.ca
URL:https://journalmetro.com/evenement/conseils-gratuits-dexperts-en-comportement-canin-28/
LOCATION:Parc à chiens Montpellier\, Boulevard Montpellier\, Montréal\, QC\, Canada
ATTACH;FMTTYPE=image/jpeg:https://journalmetro.com/wp-content/uploads/2023/07/expert-canin-2.jpg
END:VEVENT
END:VCALENDAR