BEGIN:VCALENDAR
VERSION:2.0
PRODID:-//Journal Métro - ECPv6.0.13//NONSGML v1.0//EN
CALSCALE:GREGORIAN
METHOD:PUBLISH
X-WR-CALNAME:Journal Métro
X-ORIGINAL-URL:https://journalmetro.com
X-WR-CALDESC:évènements pour Journal Métro
REFRESH-INTERVAL;VALUE=DURATION:PT1H
X-Robots-Tag:noindex
X-PUBLISHED-TTL:PT1H
BEGIN:VTIMEZONE
TZID:America/Toronto
BEGIN:DAYLIGHT
TZOFFSETFROM:-0500
TZOFFSETTO:-0400
TZNAME:EDT
DTSTART:20230312T070000
END:DAYLIGHT
BEGIN:STANDARD
TZOFFSETFROM:-0400
TZOFFSETTO:-0500
TZNAME:EST
DTSTART:20231105T060000
END:STANDARD
END:VTIMEZONE
BEGIN:VEVENT
DTSTART;TZID=America/Toronto:20230402T210000
DTEND;TZID=America/Toronto:20231204T210000
DTSTAMP:20231016T130527
CREATED:20230331T165410Z
LAST-MODIFIED:20230407T155539Z
UID:10017118-1680469200-1701723600@journalmetro.com
SUMMARY:Atelier de danse Prima danse
DESCRIPTION:Heures: les lundis à 13h\, les mardis à 10h30. \n\n\n\nVenez participer aux ateliers de Prima danse pour explorer l’art de la danse et se sentir bien dans son corps et dans sa tête! \n\n\n\nSous forme de cours de danse\, de mise en forme et d’exercices psychomoteurs\, la série de 5 ateliers offre une expérience artistique accessible et rythmée. Les participants et participantes y exploreront les compétences liées à la créativité\, la coopération\, la mémorisation\, la coordination\, l’équilibre et la communication des émotions. \n\n\n\nL’objectif est d’apprendre à bouger selon ses capacités\, développer une conscience corporelle et accepter ses limites personnelles. \n\n\n\nLes activités de danse de Prima Danse sont également adaptées aux personnes à mobilité réduite. \n\n\n\nInscription obligatoire. \n\n\n\nCette activité est présentée dans le cadre de l’Entente sur le développement culturel 2021-2024\, conclue entre la Ville et le gouvernement du Québec. \n\n\n\n \n\n\n\nSource: montreal.ca \n\n\n\nDates et horaires sont sujets à changement sans préavis. Avant de vous déplacer\, vérifier ces informations sur montreal.ca
URL:https://journalmetro.com/evenement/atelier-de-danse-prima-danse-2/2023-04-02/
LOCATION:Bibliothèque Mordecai-Richler\, 5434 avenue du Parc\, Montréal\, QC\, Canada
ATTACH;FMTTYPE=image/jpeg:https://journalmetro.com/wp-content/uploads/2023/01/atelier-de-danse-rpp-2023-2.jpg
END:VEVENT
BEGIN:VEVENT
DTSTART;TZID=America/Toronto:20230411T133000
DTEND;TZID=America/Toronto:20230922T143000
DTSTAMP:20231016T130527
CREATED:20230309T212947Z
LAST-MODIFIED:20230412T135824Z
UID:10015858-1681219800-1695393000@journalmetro.com
SUMMARY:Club de lecture de la bibliothèque du Plateau-Mont-Royal
DESCRIPTION:Les membres du club de lecture se rencontrent mensuellement pour discuter de littérature avec le bibliothécaire. \n\n\n\nInscription obligatoire. \n\n\n\nSource: montreal.ca \n\n\n\nDates et horaires sont sujets à changement sans préavis. Avant de vous déplacer\, vérifier ces informations sur montreal.ca
URL:https://journalmetro.com/evenement/club-de-lecture-de-la-bibliotheque-du-plateau-mont-royal-6/
LOCATION:Bibliothèque du Plateau-Mont-Royal\, 465 avenue du Mont-Royal Est\, Montréal\, QC\, Canada
ATTACH;FMTTYPE=image/jpeg:https://journalmetro.com/wp-content/uploads/2022/11/club-lecture-pmr-2.jpg
END:VEVENT
BEGIN:VEVENT
DTSTART;TZID=America/Toronto:20230519T150000
DTEND;TZID=America/Toronto:20231120T190000
DTSTAMP:20231016T130527
CREATED:20230502T151034Z
LAST-MODIFIED:20230518T190116Z
UID:10017392-1684508400-1700506800@journalmetro.com
SUMMARY:Marché fermier Laurier
DESCRIPTION:Chaque année\, Le Plateau vous propose des marchés publics de quartier pour vous procurer des aliments frais et locaux. L’un d’entre eux\, le Marché fermier Laurier\, se trouve à la sortie nord du métro Laurier\, à l’angle des rues Laurier et Rivard. \n\n\n\nCette année\, des marchés se déploieront dans chacun des trois districts de l’arrondissement durant de nombreuses semaines. \n\n\n\nAllez-y pour faire le plein de fruits\, de  légumes\, de fleurs et autres gourmandises locales et pour rencontrer les producteurs et maraîchers. \n\n\n\nLe tout\, à quelques pas de chez vous! \n\n\n\nMarché fermier LaurierPlace du Coteau-Saint-Louis (sortie nord du métro Laurier) \n\n\n\nDu 19 mai au 20 novembreLe jeudi de 15 h à 19 hLe dimanche de 12 h à 16 h \n\n\n\nSource: montreal.ca \n\n\n\nDates et horaires sont sujets à changement sans préavis. Avant de vous déplacer\, vérifier ces informations sur montreal.ca
URL:https://journalmetro.com/evenement/marche-fermier-laurier-2/
LOCATION:Place du Côteau-Saint-Louis\, Sorie nord du métro Laurier\, Montréal\, QC\, Canada
ATTACH;FMTTYPE=image/jpeg:https://journalmetro.com/wp-content/uploads/2023/05/marche-fermier-laurier-2.jpg
END:VEVENT
BEGIN:VEVENT
DTSTART;TZID=America/Toronto:20230613T150000
DTEND;TZID=America/Toronto:20231024T190000
DTSTAMP:20231016T130527
CREATED:20230505T151416Z
LAST-MODIFIED:20230505T151417Z
UID:10017434-1686668400-1698174000@journalmetro.com
SUMMARY:Marché fermier Saint-Louis
DESCRIPTION:Chaque année\, Le Plateau\, vous propose des marchés publics de quartier pour vous procurer des aliments frais et locaux. L’un d’entre eux\, le Marché Saint-Louis\, se trouve dans le square Saint-Louis\, près de la rue Saint-Denis. \n\n\n\nCette année\, des marchés se déploieront dans chacun des trois districts de l’arrondissement durant de nombreuses semaines. \n\n\n\nAllez-y pour faire le plein de fruits\, de  légumes\, de fleurs et autres gourmandises locales et pour rencontrer les producteurs et maraîchers. \n\n\n\nLe tout\, à quelques pas de chez vous! \n\n\n\nMarché fermier Saint-LouisÀ l’angle de la rue du Square-Saint-Louis et de la rue Saint-Denis \n\n\n\nDu 14 juin au 25 octobreLe mardi de 15 h à 19 h \n\n\n\nSource: montreal.ca \n\n\n\nDates et horaires sont sujets à changement sans préavis. Avant de vous déplacer\, vérifier ces informations sur montreal.ca
URL:https://journalmetro.com/evenement/marche-fermier-saint-louis-2/
LOCATION:Square Saint-Louis\, Rue du Square Saint-Louis\, Montréal\, Canada
ATTACH;FMTTYPE=image/jpeg:https://journalmetro.com/wp-content/uploads/2023/05/marche-fermier-st-louis-2.jpg
END:VEVENT
BEGIN:VEVENT
DTSTART;TZID=America/Toronto:20230615T120000
DTEND;TZID=America/Toronto:20231026T120000
DTSTAMP:20231016T130527
CREATED:20230505T151921Z
LAST-MODIFIED:20230518T190911Z
UID:10017435-1686830400-1698321600@journalmetro.com
SUMMARY:Marché fermier Baldwin
DESCRIPTION:Chaque année\, Le Plateau vous propose des marchés publics de quartier pour vous procurer des aliments frais et locaux. L’un d’entre eux\, le Marché fermier Baldwin\, se trouve entre les rues Fullum et Chapleau\, au nord de la rue Rachel. \n\n\n\nCette année\, des marchés se déploieront dans chacun des trois districts de l’arrondissement durant de nombreuses semaines. \n\n\n\nAllez-y pour faire le plein de fruits\, de légumes\, de fleurs et autres gourmandises locales et pour rencontrer les producteurs et maraîchers. \n\n\n\nLe tout\, à quelques pas de chez vous! \n\n\n\nTerrasse Mercure\, entre les rues Fullum et Chapleau \n\n\n\nDu 15 juin au 26 octobreLe mercredi de midi à 16 h \n\n\n\nSource: montreal.ca \n\n\n\nDates et horaires sont sujets à changement sans préavis. Avant de vous déplacer\, vérifier ces informations sur montreal.ca
URL:https://journalmetro.com/evenement/marche-fermier-baldwin-2/
LOCATION:Terrasse Mercure\, Près du parc Baldwin\, entre Fullum et Chapleau\, Montréal\, QC\, Canada
ATTACH;FMTTYPE=image/jpeg:https://journalmetro.com/wp-content/uploads/2023/05/marche-fermier-baldwin-2.jpg
END:VEVENT
BEGIN:VEVENT
DTSTART;TZID=America/Toronto:20230913T200000
DTEND;TZID=America/Toronto:20230913T211500
DTSTAMP:20231016T130527
CREATED:20230629T182640Z
LAST-MODIFIED:20230811T155750Z
UID:10019597-1694635200-1694639700@journalmetro.com
SUMMARY:TRE - Rodrigo Simões\, guitariste de jazz brésilien
DESCRIPTION:Dans ce spectacle et dans l’album TRE\, on retrouve l’ADN du son de Rodrigo Simões : la guitare latine\, les grooves afrobrésiliens et le jazz fusion. \n\n\n\nDe la samba au baião en passant par la conga\, Rodrigo Simões s’amuse à faire des compositions ternaires avec les styles de la musique populaire brésilienne\, ce qui donne des nouveaux grooves inspirés. Avec son trio et ses invités\, le musicien livre une musique vibrante et joyeuse. \n\n\n\nGuitare : Rodrigo SimõesSaxophone : Jean-Pierre ZanellaVoix : Bianca RochaBatterie : Mark NelsonBasse : Carl MayottePercussions: Elli Miller-Maboungou \n\n\n\nRègles à suivre\n\n\n\nLes bouteilles de verre\, vélos et animaux sont interdits dans le Théâtre\, à l’exception des chiens accompagnateurs pour les personnes avec des limitations fonctionnelles. \n\n\n\nSource: montreal.ca \n\n\n\nDates et horaires sont sujets à changement sans préavis. Avant de vous déplacer\, vérifier ces informations sur montreal.ca
URL:https://journalmetro.com/evenement/tre-rodrigo-simoes-guitariste-de-jazz-bresilien-2/2023-09-13/
LOCATION:Théâtre de Verdure\, 3939 avenue du Parc-La Fontaine\, Montréal\, QC\, Canada
CATEGORIES:Communautaire
ATTACH;FMTTYPE=image/jpeg:https://journalmetro.com/wp-content/uploads/2023/06/e8mb8gqxwju6p145y02x.jpeg
END:VEVENT
END:VCALENDAR