BEGIN:VCALENDAR
VERSION:2.0
PRODID:-//Journal Métro - ECPv6.0.13//NONSGML v1.0//EN
CALSCALE:GREGORIAN
METHOD:PUBLISH
X-WR-CALNAME:Journal Métro
X-ORIGINAL-URL:https://journalmetro.com
X-WR-CALDESC:évènements pour Journal Métro
REFRESH-INTERVAL;VALUE=DURATION:PT1H
X-Robots-Tag:noindex
X-PUBLISHED-TTL:PT1H
BEGIN:VTIMEZONE
TZID:America/Toronto
BEGIN:DAYLIGHT
TZOFFSETFROM:-0500
TZOFFSETTO:-0400
TZNAME:EDT
DTSTART:20230312T070000
END:DAYLIGHT
BEGIN:STANDARD
TZOFFSETFROM:-0400
TZOFFSETTO:-0500
TZNAME:EST
DTSTART:20231105T060000
END:STANDARD
BEGIN:DAYLIGHT
TZOFFSETFROM:-0500
TZOFFSETTO:-0400
TZNAME:EDT
DTSTART:20240310T070000
END:DAYLIGHT
BEGIN:STANDARD
TZOFFSETFROM:-0400
TZOFFSETTO:-0500
TZNAME:EST
DTSTART:20241103T060000
END:STANDARD
END:VTIMEZONE
BEGIN:VEVENT
DTSTART;TZID=America/Toronto:20230513T110000
DTEND;TZID=America/Toronto:20231008T170000
DTSTAMP:20231016T111500
CREATED:20230511T164118Z
LAST-MODIFIED:20230511T164120Z
UID:10017519-1683975600-1696784400@journalmetro.com
SUMMARY:Exposition permanente - Maison Nivard-De Saint-Dizier
DESCRIPTION:À travers un parcours multimédia\, découvrez la riche histoire de la Maison Nivard-De Saint-Dizier et du site. \n\n\n\nL’exposition «Maison Nivard-De Saint-Dizier» vous dévoile les secrets historiques\, architecturaux et archéologiques d’une des plus anciennes maisons rurales et du plus grand site archéologique préhistorique de l’île de Montréal dont l’occupation autochtone remonte à 5 500 ans! \n\n\n\n\nAudioguide disponible en français et en anglais.\n\n\n\nRallye pour les familles.\n\n\n\nVisite guidée sur réservation (6$/personne).\n\n\n\n\nL’exposition est accessible du mercredi au vendredi\, de 11 h à 17 h  ainsi que samedi et dimanche\, de 10 h à 17 h. \n\n\n\nSource: montreal.ca \n\n\n\nDates et horaires sont sujets à changement sans préavis. Avant de vous déplacer\, vérifier ces informations sur montreal.ca
URL:https://journalmetro.com/evenement/exposition-permanente-maison-nivard-de-saint-dizier/
LOCATION:Maison Nivard-De Saint-Dizier\, musée et site archéologique\, 7244\, boulevard LaSalle\, Montréal\, QC\, H4H 1R4\, Canada
ATTACH;FMTTYPE=image/jpeg:https://journalmetro.com/wp-content/uploads/2023/05/maison-nivard-2.jpg
END:VEVENT
BEGIN:VEVENT
DTSTART;TZID=America/Toronto:20230522T180000
DTEND;TZID=America/Toronto:20231009T220000
DTSTAMP:20231016T111500
CREATED:20230519T204455Z
LAST-MODIFIED:20230519T204457Z
UID:10017658-1684778400-1696888800@journalmetro.com
SUMMARY:Isla salsa
DESCRIPTION:Profitez d’une belle soirée latine avec un cours de salsa de 18h à 19h suivi de la danse libre jusqu’à 22h. \n\n\n\nDu 22 mai au 9 octobre. \n\n\n\nL’activité gratuite est offerte dans le cadre de notre programmation Verdun actif. \n\n\n\nL’activité peut être annulée en cas de pluie. \n\n\n\nEn collaboration avec DJ Will. \n\n\n\nSource: montreal.ca \n\n\n\nDates et horaires sont sujets à changement sans préavis. Avant de vous déplacer\, vérifier ces informations sur montreal.ca
URL:https://journalmetro.com/evenement/isla-salsa/
LOCATION:Piste de danse de l’ilot John-Gallagher\, 7000\, boulevard LaSalle\, Montréal\, QC\, H4H 1R4\, Canada
ATTACH;FMTTYPE=image/jpeg:https://journalmetro.com/wp-content/uploads/2023/05/isla-salsa-2.jpg
END:VEVENT
BEGIN:VEVENT
DTSTART;TZID=America/Toronto:20230530T000000
DTEND;TZID=America/Toronto:20240526T000000
DTSTAMP:20231016T111500
CREATED:20230602T184945Z
LAST-MODIFIED:20230615T213134Z
UID:10017878-1685404800-1716681600@journalmetro.com
SUMMARY:Meky Ottawa - Kokopcic<3 (Papillon)
DESCRIPTION:Meky Ottawa est une artiste multidisciplinaire basée à Montréal. Par la vidéo\, l’illustration et l’installation\, l’artiste crée des œuvres engagées et politiques. Pour ce faire\, elle s’inspire de ses origines atikamekw\, de sa perspective féministe et de la vie urbaine dans son travail. \n\n\n\nKokopcic<3 est une sélection d’illustrations que l’artiste a faites entre 2018-2023. Ce sont des illustrations avec des couleurs\, textures et sujets différents avec des représentations de symboles traditionnels et contemporains. \n\n\n\nEn 2017\, l’artiste se fait connaître dans le cadre du projet ELLES Autochtones du Musée des Beaux-Arts de Montréal avec son installation immersive Kushapetshekan / Kosapitcikan – Épier l’autre monde. Depuis\, les illustrations\, les installations et les courts métrages de Meky Ottawa ont été diffusés dans plusieurs pays\, dont les États-Unis\, la France et dans l’ensemble de l’Amérique du Sud. \n\n\n\nSource: montreal.ca \n\n\n\nDates et horaires sont sujets à changement sans préavis. Avant de vous déplacer\, vérifier ces informations sur montreal.ca
URL:https://journalmetro.com/evenement/meky-ottawa-kokopcic3-papillon/
LOCATION:Quai 5160 – Maison de la culture de Verdun\, 5160\, boulevard LaSalle\, Montréal\, QC\, H4H 1N8\, Canada
CATEGORIES:Communautaire
ATTACH;FMTTYPE=image/jpeg:https://journalmetro.com/wp-content/uploads/2023/06/meky-ottawa-2.jpg
END:VEVENT
BEGIN:VEVENT
DTSTART;TZID=America/Toronto:20230530T110000
DTEND;TZID=America/Toronto:20231230T180000
DTSTAMP:20231016T111500
CREATED:20230531T162515Z
LAST-MODIFIED:20230531T162516Z
UID:10017826-1685444400-1703959200@journalmetro.com
SUMMARY:Casse-tête collectif
DESCRIPTION:La bibliothèque Jacqueline-De Repentigny vous invite à compléter un des ses casse-têtes. \n\n\n\nEnvie de vous mettre dans votre bulle tout en étant à la bibliothèque? Envie de passer un moment seul.e à simplement trouver les morceaux pour compléter le casse-tête ou à plusieurs à papoter ? Passez faire un tour dans la section adulte de la bibliothèque! \n\n\n\nSource: montreal.ca \n\n\n\nDates et horaires sont sujets à changement sans préavis. Avant de vous déplacer\, vérifier ces informations sur montreal.ca
URL:https://journalmetro.com/evenement/casse-tete-collectif/
LOCATION:Bibliothèque Jacqueline-De Repentigny\, 5955\, avenue Bannantyne\, Montréal\, QC\, H4H 1H6\, Canada
ATTACH;FMTTYPE=image/jpeg:https://journalmetro.com/wp-content/uploads/2023/05/casse-tete-collectif-2.jpg
END:VEVENT
BEGIN:VEVENT
DTSTART;TZID=America/Toronto:20230607T150000
DTEND;TZID=America/Toronto:20231101T190000
DTSTAMP:20231016T111500
CREATED:20230615T160334Z
LAST-MODIFIED:20230615T160510Z
UID:10018097-1686150000-1698865200@journalmetro.com
SUMMARY:Les marchés fermiers de Verdun
DESCRIPTION:Faites le plein de légumes frais et de produits locaux lors des marchés saisonniers de Verdun. \n\n\n\nLes mercredis du 7 juin au 1er novembre\, entre 15 h et 19 h. \n\n\n\nDescription\n\n\n\nVous avez envie de profiter de produits frais\, de saison\, sans trop vous éloigner de chez vous? Profitez des marchés saisonniers de Verdun!
URL:https://journalmetro.com/evenement/les-marches-fermiers-de-verdun/
LOCATION:Bibliothèque Jacqueline-De Repentigny\, 5955\, avenue Bannantyne\, Montréal\, QC\, H4H 1H6\, Canada
ATTACH;FMTTYPE=image/jpeg:https://journalmetro.com/wp-content/uploads/2023/06/epcjfifdodidmn1y2mrd-Cropped.jpg
END:VEVENT
BEGIN:VEVENT
DTSTART;TZID=America/Toronto:20230625T100000
DTEND;TZID=America/Toronto:20231015T140000
DTSTAMP:20231016T111500
CREATED:20230607T182506Z
LAST-MODIFIED:20230607T182508Z
UID:10017994-1687687200-1697378400@journalmetro.com
SUMMARY:Le marché bio-local de L’Île-des-Soeurs
DESCRIPTION:Vous avez envie de profiter de produits frais\, de saison\, sans trop vous éloigner de chez vous? Profitez des marchés saisonniers de Verdun! \n\n\n\nFaites le plein de légumes frais et de produits locaux au marché bio-local de L’Île-des-Soeurs. \n\n\n\nSource: montreal.ca \n\n\n\nDates et horaires sont sujets à changement sans préavis. Avant de vous déplacer\, vérifier ces informations sur montreal.ca
URL:https://journalmetro.com/evenement/le-marche-bio-local-de-lile-des-soeurs-2/
LOCATION:Place de la Grande-Marguerite\, 40 Pl. du Commerce\, Verdun\, QC\, H3E 1J6\, Canada
ATTACH;FMTTYPE=image/jpeg:https://journalmetro.com/wp-content/uploads/2023/05/marche-bio-local-ids-2.jpg
END:VEVENT
BEGIN:VEVENT
DTSTART;TZID=America/Toronto:20230925T200000
DTEND;TZID=America/Toronto:20231002T200000
DTSTAMP:20231016T111500
CREATED:20230324T212559Z
LAST-MODIFIED:20230324T212602Z
UID:10009674-1695672000-1696276800@journalmetro.com
SUMMARY:Les Funny Lundis au Benelux
DESCRIPTION:C’est le retour hivernal des Funny Lundis au Benelux ! LA soirée d’humour à Verdun qui se déroule chaque Lundi\, dans la tendre ambiance du Benelux\, en plein DOWNTOWN verdun. \n\n\n\nPour seulement 10$\, vous verrez des humoristes qui viendront vous faire rire. C’est vraiment moins cher et plus près que d’aller à Québec voir un Gala. \n\n\n\nLe tout animé par notre nouvel animateur William Bernaquez ! Rafaële Bolduc et Guillaume Pelletier en alternance chaque semaine à la chronique ! \n\n\n\nOn a vraiment hâte de vous voir la face et de tripper avec vous ! \n\n\n\nLa porte à 19h – Spectacle 20h  \n\n\n\nBilletterie \n\n\n\nBillets aussi disponibles à la porte (paiement en argent comptant ou par carte débit)
URL:https://journalmetro.com/evenement/les-funny-lundis-au-benelux-2/2023-09-25/
LOCATION:Benelux\, 4026 rue Wellington\, Montréal\, QC\, Canada
ATTACH;FMTTYPE=image/jpeg:https://journalmetro.com/wp-content/uploads/2023/01/les-funny-lundis-2.jpg
END:VEVENT
BEGIN:VEVENT
DTSTART;TZID=America/Toronto:20230927T200000
DTEND;TZID=America/Toronto:20231004T200000
DTSTAMP:20231016T111500
CREATED:20230324T213121Z
LAST-MODIFIED:20230324T213125Z
UID:10009909-1695844800-1696449600@journalmetro.com
SUMMARY:Pet pis répète s'en vont au Palco (soirée d'humour)
DESCRIPTION:Le Palco est très fier pour la nouvelle année de lancer sa toute première soirée d’humour! \n\n\n\nÀ partir du mercredi 11 janvier\, tous les mercredis\, dès 20h avec @greluche_samson à l’animation et @shradeglavoie à la chronique !
URL:https://journalmetro.com/evenement/pet-pis-repete-sen-vont-au-palco-soiree-dhumour-2/2023-09-27/
LOCATION:Bar Palco\, 4019 rue Wellington\, Montréal\, Canada
ATTACH;FMTTYPE=image/jpeg:https://journalmetro.com/wp-content/uploads/2023/01/pet-pis-repete.jpg
END:VEVENT
BEGIN:VEVENT
DTSTART;TZID=America/Toronto:20231001T080000
DTEND;TZID=America/Toronto:20231008T170000
DTSTAMP:20231016T111500
CREATED:20230324T213307Z
LAST-MODIFIED:20230324T213416Z
UID:10009570-1696147200-1696784400@journalmetro.com
SUMMARY:Le brunch aux folles
DESCRIPTION:Venez nous rejoindre tous les premiers dimanches du mois* pour un brunch à ne pas manquer !! Misty Waterfalls sera rejoint par deux invités spéciaux à chaque spectacle pour vous faire rire\, pleurer\, mais surtout\, fêter!! \n\n\n\nLe brunch est trop tôt pour vous ? ! Nous avons tout ce qu’il vous faut ! Venez à l’After Party du spectacle tardif pour passer un moment tout aussi fou\, dès 17h. \n\n\n\n$10 à la porte \n\n\n\n*L’horaire est susceptible d’être modifié
URL:https://journalmetro.com/evenement/le-brunch-aux-folles-2/2023-10-01/
LOCATION:Bar Social Verdun\, 3819 rue Wellington\, Montréal\, QC\, Canada
ATTACH;FMTTYPE=image/jpeg:https://journalmetro.com/wp-content/uploads/2023/01/le-brunch-aux-folles-2.jpg
END:VEVENT
BEGIN:VEVENT
DTSTART;TZID=America/Toronto:20231002T200000
DTEND;TZID=America/Toronto:20231009T200000
DTSTAMP:20231016T111500
CREATED:20230324T212559Z
LAST-MODIFIED:20230324T212602Z
UID:10009675-1696276800-1696881600@journalmetro.com
SUMMARY:Les Funny Lundis au Benelux
DESCRIPTION:C’est le retour hivernal des Funny Lundis au Benelux ! LA soirée d’humour à Verdun qui se déroule chaque Lundi\, dans la tendre ambiance du Benelux\, en plein DOWNTOWN verdun. \n\n\n\nPour seulement 10$\, vous verrez des humoristes qui viendront vous faire rire. C’est vraiment moins cher et plus près que d’aller à Québec voir un Gala. \n\n\n\nLe tout animé par notre nouvel animateur William Bernaquez ! Rafaële Bolduc et Guillaume Pelletier en alternance chaque semaine à la chronique ! \n\n\n\nOn a vraiment hâte de vous voir la face et de tripper avec vous ! \n\n\n\nLa porte à 19h – Spectacle 20h  \n\n\n\nBilletterie \n\n\n\nBillets aussi disponibles à la porte (paiement en argent comptant ou par carte débit)
URL:https://journalmetro.com/evenement/les-funny-lundis-au-benelux-2/2023-10-02/
LOCATION:Benelux\, 4026 rue Wellington\, Montréal\, QC\, Canada
ATTACH;FMTTYPE=image/jpeg:https://journalmetro.com/wp-content/uploads/2023/01/les-funny-lundis-2.jpg
END:VEVENT
BEGIN:VEVENT
DTSTART;TZID=America/Toronto:20231003T200000
DTEND;TZID=America/Toronto:20231003T200000
DTSTAMP:20231016T111500
CREATED:20230324T213155Z
LAST-MODIFIED:20230324T213158Z
UID:10009805-1696363200-1696363200@journalmetro.com
SUMMARY:Les p'tits Galas de l'humour
DESCRIPTION:Les P’tits galas de l’humour ont lieu tous les mardis au Trèfle de Verdun avec Frédérick Côté à l’animation et Martin Lauzon et Ben Essiambre en alternance à la chronique. Au menu\, 5 humoristes et une bouteille de Carlsberg! \n\n\n\nLes P’tits Galas de l’humour sont de retour pour la saison Hivernale  \n\n\n\n14 $ + frais\, et le billet inclut une bouteille de Carlsberg  \n\n\n\nOn a hâte de vous revoir au Le Trèfle – Verdun !  \n\n\n\nDépêchez-vous\, c’est toujours SOLDOUT\, au moins une semaine à l’avance ! \n\n\n\nBillets en ligne seulement\, aucun billet à la porte \n\n\n\nBilletterie
URL:https://journalmetro.com/evenement/les-ptits-galas-de-lhumour-3/2023-10-03/
LOCATION:Le Trèfle – Taverne Irlandaise\, 4718 rue Wellington\, Montréal\, QC\, Canada
ATTACH;FMTTYPE=image/jpeg:https://journalmetro.com/wp-content/uploads/2023/01/les-ptits-galas-de-lhumour-2.jpg
END:VEVENT
BEGIN:VEVENT
DTSTART;TZID=America/Toronto:20231004T200000
DTEND;TZID=America/Toronto:20231011T200000
DTSTAMP:20231016T111500
CREATED:20230324T213121Z
LAST-MODIFIED:20230324T213125Z
UID:10009910-1696449600-1697054400@journalmetro.com
SUMMARY:Pet pis répète s'en vont au Palco (soirée d'humour)
DESCRIPTION:Le Palco est très fier pour la nouvelle année de lancer sa toute première soirée d’humour! \n\n\n\nÀ partir du mercredi 11 janvier\, tous les mercredis\, dès 20h avec @greluche_samson à l’animation et @shradeglavoie à la chronique !
URL:https://journalmetro.com/evenement/pet-pis-repete-sen-vont-au-palco-soiree-dhumour-2/2023-10-04/
LOCATION:Bar Palco\, 4019 rue Wellington\, Montréal\, Canada
ATTACH;FMTTYPE=image/jpeg:https://journalmetro.com/wp-content/uploads/2023/01/pet-pis-repete.jpg
END:VEVENT
BEGIN:VEVENT
DTSTART;TZID=America/Toronto:20231008T080000
DTEND;TZID=America/Toronto:20231015T170000
DTSTAMP:20231016T111500
CREATED:20230324T213307Z
LAST-MODIFIED:20230324T213416Z
UID:10009571-1696752000-1697389200@journalmetro.com
SUMMARY:Le brunch aux folles
DESCRIPTION:Venez nous rejoindre tous les premiers dimanches du mois* pour un brunch à ne pas manquer !! Misty Waterfalls sera rejoint par deux invités spéciaux à chaque spectacle pour vous faire rire\, pleurer\, mais surtout\, fêter!! \n\n\n\nLe brunch est trop tôt pour vous ? ! Nous avons tout ce qu’il vous faut ! Venez à l’After Party du spectacle tardif pour passer un moment tout aussi fou\, dès 17h. \n\n\n\n$10 à la porte \n\n\n\n*L’horaire est susceptible d’être modifié
URL:https://journalmetro.com/evenement/le-brunch-aux-folles-2/2023-10-08/
LOCATION:Bar Social Verdun\, 3819 rue Wellington\, Montréal\, QC\, Canada
ATTACH;FMTTYPE=image/jpeg:https://journalmetro.com/wp-content/uploads/2023/01/le-brunch-aux-folles-2.jpg
END:VEVENT
END:VCALENDAR