BEGIN:VCALENDAR
VERSION:2.0
PRODID:-//Journal Métro - ECPv6.0.13//NONSGML v1.0//EN
CALSCALE:GREGORIAN
METHOD:PUBLISH
X-WR-CALNAME:Journal Métro
X-ORIGINAL-URL:https://journalmetro.com
X-WR-CALDESC:évènements pour Journal Métro
REFRESH-INTERVAL;VALUE=DURATION:PT1H
X-Robots-Tag:noindex
X-PUBLISHED-TTL:PT1H
BEGIN:VTIMEZONE
TZID:America/Toronto
BEGIN:DAYLIGHT
TZOFFSETFROM:-0500
TZOFFSETTO:-0400
TZNAME:EDT
DTSTART:20230312T070000
END:DAYLIGHT
BEGIN:STANDARD
TZOFFSETFROM:-0400
TZOFFSETTO:-0500
TZNAME:EST
DTSTART:20231105T060000
END:STANDARD
END:VTIMEZONE
BEGIN:VEVENT
DTSTART;TZID=America/Toronto:20230513T080000
DTEND;TZID=America/Toronto:20230513T180000
DTSTAMP:20231016T170833
CREATED:20230502T205854Z
LAST-MODIFIED:20230502T205856Z
UID:10017404-1683964800-1684000800@journalmetro.com
SUMMARY:Événement communautaire dans le cadre de la semaine d'urgence - Armée du salut
DESCRIPTION:Vous êtes invité(e) à assister à un événement communautaire organisé par la division d’urgence et d’aide aux sinistrés de l’Armée du Salut et centre communautaire Nouveaux Départs dans le cadre de la Semaine d’urgence à Montréal. L’événement aura lieu le 13 mai 2023\, de 8h à 18h à 6735 Pie-IX Blvd\, Montréal\, QC H1X 2C7\, Canada. \n\n\n\nL’objectif de l’événement est d’aider les communautés à risque de Montréal en distribuant des produits d’hygiène\, en fournissant de la nourriture et en rassemblant la communauté pour aider ceux dans le besoin. L’événement servira également à promouvoir les missions du centre communautaire Nouveaux Départs et des Services d’aide en cas de catastrophe (EDS) de l’Armée du Salut. \n\n\n\nPendant l’événement\, l’équipe présentera ses capacités grâce au déploiement d’un camion de service d’urgence. Ils installeront également l’équipement nécessaire pour nourrir 100 à 150 clients\, notamment un barbecue extérieur\, des chaussettes et des distributions d’articles d’hygiène. \n\n\n\nL’événement est ouvert au public et des invitations seront étendues aux résidents\, aux membres d’église\, aux fonctionnaires de la ville et aux représentants du gouvernement du Québec. Des flyers seront distribués pour sensibiliser à l’événement et un code QR sera disponible pour les parties intéressées pour s’inscrire au programme de bénévole pour l’urgence. \n\n\n\nCe sera l’occasion de mettre en valeur le travail vital de l’Armée du Salut et l’équipe de la gestion des urgences et des catastrophes\, ainsi que de renforcer les relations avec la communauté locale.
URL:https://journalmetro.com/evenement/evenement-communautaire-dans-le-cadre-de-la-semaine-durgence-armee-du-salut/
LOCATION:6735 boulevard Pie-IX\, 6735 boulevard Pie-IX\, Montréal\, QC\, Canada
CATEGORIES:Communautaire
ATTACH;FMTTYPE=image/jpeg:https://journalmetro.com/wp-content/uploads/2023/05/armee-du-salut-2.jpg
END:VEVENT
END:VCALENDAR