BEGIN:VCALENDAR
VERSION:2.0
PRODID:-//Journal Métro - ECPv6.0.13//NONSGML v1.0//EN
CALSCALE:GREGORIAN
METHOD:PUBLISH
X-WR-CALNAME:Journal Métro
X-ORIGINAL-URL:https://journalmetro.com
X-WR-CALDESC:évènements pour Journal Métro
REFRESH-INTERVAL;VALUE=DURATION:PT1H
X-Robots-Tag:noindex
X-PUBLISHED-TTL:PT1H
BEGIN:VTIMEZONE
TZID:America/Toronto
BEGIN:DAYLIGHT
TZOFFSETFROM:-0500
TZOFFSETTO:-0400
TZNAME:EDT
DTSTART:20230312T070000
END:DAYLIGHT
BEGIN:STANDARD
TZOFFSETFROM:-0400
TZOFFSETTO:-0500
TZNAME:EST
DTSTART:20231105T060000
END:STANDARD
END:VTIMEZONE
BEGIN:VEVENT
DTSTART;TZID=America/Toronto:20230228T133000
DTEND;TZID=America/Toronto:20230228T142500
DTSTAMP:20231012T221124
CREATED:20230119T161044Z
LAST-MODIFIED:20230328T151224Z
UID:10010478-1677591000-1677594300@journalmetro.com
SUMMARY:Duo Hoops!
DESCRIPTION:Un énorme hula hoop\, deux personnages excentriques et… du rire assuré ! \n\n\n\nLe Duo Hoops\, formé par David et Becky\, est un duo énergique et entourloupant. Ensemble\, ils se déhanchent avec diverses tailles de hula hoops\, dansent et jonglent tout en entraînant le public dans des cascades de rires. Ils surprennent autant avec leurs performances et leurs tours impressionnants\, qu’avec leur humour singulier\, loufoque et absurde. David et Becky se donnent pour mission de créer des numéros étonnants\, drôles et hautement divertissants qui conviennent à un public de tous âges. \n\n\n\nDistribution des laissez-passer : \n\n\n\n(Pré-vente) Résidents d’Anjou – dès le 13 février\, 12 h \n\n\n\n(Admission générale) Pour tous – dès le 27 février\, 12 h \n\n\n\nComptoirs: \n\n\n\nCentre communautaire d’Anjou (7800 boul. Métropolitain E) \n\n\n\nBibliothèque du Haut-Anjou (7070 rue Jarry E) \n\n\n\nlepointdevente.com/maisondelacultureanjou \n\n\n\nSource: montreal.ca \n\n\n\nDates et horaires sont sujets à changement sans préavis. Avant de vous déplacer\, vérifier ces informations sur montreal.ca
URL:https://journalmetro.com/evenement/duo-hoops/
LOCATION:Agora de l’école secondaire d’Anjou\, 8205 rue Fronteneau\, Montréal\, QC\, Canada
CATEGORIES:Communautaire
ATTACH;FMTTYPE=image/jpeg:https://journalmetro.com/wp-content/uploads/2023/01/duo-hoops-2.jpg
END:VEVENT
BEGIN:VEVENT
DTSTART;TZID=America/Toronto:20230414T200000
DTEND;TZID=America/Toronto:20230414T213000
DTSTAMP:20231012T221124
CREATED:20230308T190324Z
LAST-MODIFIED:20230328T150558Z
UID:10015924-1681502400-1681507800@journalmetro.com
SUMMARY:Finale MC challenge 12 - 17
DESCRIPTION:Rap francophone \n\n\n\nVous avez adoré La fin des faibles\, compétition de rap francophone diffusée à Télé-Québec? Cette compétition se transporte dans les Maisons de la culture sous le nom de MC Challenge et s’adresse\, sous ce format\, aux jeunes de douze à dix-sept ans! Venez découvrir la relève en rap de votre arrondissement dans une finale enlevante qui mettra de l’avant l’attrait de l’écriture de texte et l’improvisation grâce aux prouesses de ces jeunes artistes qui prendront part à la compétition. \n\n\n\nVenez découvrir la relève en rap de votre arrondissement dans une finale enlevante qui mettra de l’avant l’attrait de l’écriture de texte et l’improvisation. \n\n\n\nDistribution des laissez-passer : \n\n\n\n(Pré-vente) Résidents d’Anjou – dès le 27 mars\, 12h \n\n\n\n(Admission générale) Pour tous – dès le 11 avril\, 12h \n\n\n\nLieux de distribution: \n\n\n\nCentre communautaire d’Anjou (7800 boul. Métropolitain E) \n\n\n\nBibliothèque du Haut-Anjou (7070 rue Jarry E) \n\n\n\nLepointdevente.com \n\n\n\nSource: montreal.ca \n\n\n\nDates et horaires sont sujets à changement sans préavis. Avant de vous déplacer\, vérifier ces informations sur montreal.ca
URL:https://journalmetro.com/evenement/finale-mc-challenge-12-17-7/
LOCATION:Agora de l’école secondaire d’Anjou\, 8205 rue Fronteneau\, Montréal\, QC\, Canada
CATEGORIES:Communautaire
ATTACH;FMTTYPE=image/jpeg:https://journalmetro.com/wp-content/uploads/2022/12/finale-mc-challenge-2.jpg
END:VEVENT
END:VCALENDAR