BEGIN:VCALENDAR
VERSION:2.0
PRODID:-//Journal Métro - ECPv6.0.13//NONSGML v1.0//EN
CALSCALE:GREGORIAN
METHOD:PUBLISH
X-WR-CALNAME:Journal Métro
X-ORIGINAL-URL:https://journalmetro.com
X-WR-CALDESC:évènements pour Journal Métro
REFRESH-INTERVAL;VALUE=DURATION:PT1H
X-Robots-Tag:noindex
X-PUBLISHED-TTL:PT1H
BEGIN:VTIMEZONE
TZID:America/Toronto
BEGIN:DAYLIGHT
TZOFFSETFROM:-0500
TZOFFSETTO:-0400
TZNAME:EDT
DTSTART:20230312T070000
END:DAYLIGHT
BEGIN:STANDARD
TZOFFSETFROM:-0400
TZOFFSETTO:-0500
TZNAME:EST
DTSTART:20231105T060000
END:STANDARD
END:VTIMEZONE
BEGIN:VEVENT
DTSTART;TZID=America/Toronto:20230612T070000
DTEND;TZID=America/Toronto:20230612T220000
DTSTAMP:20231016T111410
CREATED:20230612T203332Z
LAST-MODIFIED:20230612T203333Z
UID:10018036-1686553200-1686607200@journalmetro.com
SUMMARY:Bioblitz : ancien hippodrome Blue Bonnet
DESCRIPTION:Bioblitz \n\n\n\nVenez découvrir la flore et la faune de l’ancien hippodrome Blue Bonnet. \n\n\n\nSource: montreal.ca \n\n\n\nDates et horaires sont sujets à changement sans préavis. Avant de vous déplacer\, vérifier ces informations sur montreal.ca
URL:https://journalmetro.com/evenement/bioblitz-ancien-hippodrome-blue-bonnet/
LOCATION:Ancien hippodrome Blue Bonnet\, Avenue Clanranald\, Montréal\, QC\, Canada
ATTACH;FMTTYPE=image/jpeg:https://journalmetro.com/wp-content/uploads/2023/06/bioblitz-2.jpg
END:VEVENT
END:VCALENDAR