BEGIN:VCALENDAR
VERSION:2.0
PRODID:-//Journal Métro - ECPv6.0.13//NONSGML v1.0//EN
CALSCALE:GREGORIAN
METHOD:PUBLISH
X-WR-CALNAME:Journal Métro
X-ORIGINAL-URL:https://journalmetro.com
X-WR-CALDESC:évènements pour Journal Métro
REFRESH-INTERVAL;VALUE=DURATION:PT1H
X-Robots-Tag:noindex
X-PUBLISHED-TTL:PT1H
BEGIN:VTIMEZONE
TZID:America/Toronto
BEGIN:DAYLIGHT
TZOFFSETFROM:-0500
TZOFFSETTO:-0400
TZNAME:EDT
DTSTART:20230312T070000
END:DAYLIGHT
BEGIN:STANDARD
TZOFFSETFROM:-0400
TZOFFSETTO:-0500
TZNAME:EST
DTSTART:20231105T060000
END:STANDARD
END:VTIMEZONE
BEGIN:VEVENT
DTSTART;TZID=America/Toronto:20230420T080000
DTEND;TZID=America/Toronto:20230828T170000
DTSTAMP:20231016T172633
CREATED:20230419T161058Z
LAST-MODIFIED:20230419T161823Z
UID:10017306-1681977600-1693242000@journalmetro.com
SUMMARY:Québec spectaculaire!
DESCRIPTION:La Cité de Dorval\, en collaboration avec Yves Tremblay de Photo Hélico et de l’Assemblée des Premières Nations\, présente l’exposition en plein air « Québec spectaculaire! » du 20 avril au 28 août 2023\, dans l’Arboretum du parc de le Paix. \n\n\n\nNatif de Baie-Comeau sur la Côte-Nord\, le photographe aérien d’origine innue\, Yves Tremblay\, parcourt le ciel du Québec depuis 30 ans. À travers ses images aériennes\, il nous raconte l’immensité et la beauté de notre territoire. Yves Tremblay s’est mérité de nombreux prix internationaux pour la qualité de son travail\, dont trois fois le prix de la « plus belle photographie aérienne au monde » (2004\, 2007 et 2020)\, décerné par la Professional Aerial Photographers Association. En 2011\, il est élu « Personnalité La Presse/Radio-Canada » et\, en 2012\, il reçoit la Médaille du jubilé de diamant de la reine Elizabeth II. \n\n\n\n« Québec spectaculaire! Le territoire vu du haut des airs » présente les beautés qui nous entourent et montre notre patrimoine naturel d’une perspective unique\, tout en permettant de renforcir la reconnaissance\, la coopération et le partenariat entre les nations. Un héritage pour les générations à venir! \n\n\n\nRencontre avec l’artiste \n\n\n\nLe jeudi 4 mai\, de 10 h 30 à midi\, venez rencontrer le photographe Yves Tremblay à la salle d’activité de la bibliothèque de Dorval (1401\, chemin du Bord-du-Lac—Lakeshore). En plus de pouvoir visiter l’exposition\, vous aurez l’occasion de discuter de son travail\, de découvrir les rouages et les défis derrière la photographie aérienne\, en plus de découvrir quelques images inédites de son travail du haut des airs! \n\n\n\nPour tous les détails\, visitez le www.ville.dorval.qc.ca.
URL:https://journalmetro.com/evenement/quebec-spectaculaire/
LOCATION:Arboretum du parc de la Paix\, 1335 chemin du Bord-du-Lac-Lakeshore\, Dorval\, QC\, Canada
ATTACH;FMTTYPE=image/jpeg:https://journalmetro.com/wp-content/uploads/2023/04/multitude-st-roch-des-aulnaies-2.jpg
END:VEVENT
END:VCALENDAR