BEGIN:VCALENDAR
VERSION:2.0
PRODID:-//Journal Métro - ECPv6.0.13//NONSGML v1.0//EN
CALSCALE:GREGORIAN
METHOD:PUBLISH
X-WR-CALNAME:Journal Métro
X-ORIGINAL-URL:https://journalmetro.com
X-WR-CALDESC:évènements pour Journal Métro
REFRESH-INTERVAL;VALUE=DURATION:PT1H
X-Robots-Tag:noindex
X-PUBLISHED-TTL:PT1H
BEGIN:VTIMEZONE
TZID:America/Toronto
BEGIN:DAYLIGHT
TZOFFSETFROM:-0500
TZOFFSETTO:-0400
TZNAME:EDT
DTSTART:20230312T070000
END:DAYLIGHT
BEGIN:STANDARD
TZOFFSETFROM:-0400
TZOFFSETTO:-0500
TZNAME:EST
DTSTART:20231105T060000
END:STANDARD
END:VTIMEZONE
BEGIN:VEVENT
DTSTART;TZID=America/Toronto:20230506T090000
DTEND;TZID=America/Toronto:20230506T120000
DTSTAMP:20231016T170830
CREATED:20230418T150436Z
LAST-MODIFIED:20230418T150438Z
UID:10017269-1683363600-1683374400@journalmetro.com
SUMMARY:Distribution de plantes\, fleurs\, compost et paillis à Montréal-Nord (Aréna Garon)
DESCRIPTION:La distribution de végétaux\, de compost et de paillis sera de retour à Montréal-Nord afin de favoriser la biodiversité en milieu urbain et de contribuer à l’embellissement de Montréal-Nord. \n\n\n\nNouveauté cette année\, vous devrez vous inscrire avant de venir chercher des végétaux. Cette procédure vous évitera les longues heures d’attente inutiles et vous assurera d’avoir des plantes. L’inscription se fera du 11 au 30 avril ou jusqu’à épuisement du nombre places. Une seule inscription par adresse. Les inscriptions multiples seront annulées. \n\n\n\nPlantes distribuées \n\n\n\nLes plantes pollinisatrices sont à l’honneur cette année. Les citoyens et citoyennes pourront choisir l’un des deux combos proposés. 6 plants par espèces\, pour un total de 24 plants. Les quantités et les variétés peuvent changer sans préavis. Aucune adaptation de combo ne sera effectuée.  Pensez à prendre un sac de transport pour rapporter vos végétaux. \n\n\n\nDistribution de compost et paillis \n\n\n\nDu compost et du paillis seront également offerts. Pensez à apporter votre pelle et votre contenant de taille moyenne. Un maximum de 100 litres par personne.  \n\n\n\nInformations importantes \n\n\n\nSeuls les résidents et résidentes de Montréal-Nord sont admissibles \n\n\n\nUne preuve de résidence avec adresse (compte de services publics\, permis de conduire\, etc) et une preuve d’identité avec photo sera exigée pour récupérer les végétaux\, le compost et le paillis. \n\n\n\nSource: montreal.ca \n\n\n\nDates et horaires sont sujets à changement sans préavis. Avant de vous déplacer\, vérifier ces informations sur montreal.ca \n\n\n\n\n\n\n\nEn partenariat avec Coop de solidarité Éconord
URL:https://journalmetro.com/evenement/distribution-de-plantes-fleurs-compost-et-paillis-a-montreal-nord-arena-garon/
LOCATION:Aréna Garon\, 11212 avenue Garon\, Montréal\, QC\, Canada
ATTACH;FMTTYPE=image/jpeg:https://journalmetro.com/wp-content/uploads/2023/04/distribution-fleurs-plantes-2.jpg
END:VEVENT
BEGIN:VEVENT
DTSTART;TZID=America/Toronto:20230513T090000
DTEND;TZID=America/Toronto:20230513T170000
DTSTAMP:20231016T170830
CREATED:20230329T153151Z
LAST-MODIFIED:20230329T153152Z
UID:10016820-1683968400-1683997200@journalmetro.com
SUMMARY:Collecte des résidus domestiques dangereux
DESCRIPTION:Besoin de vous départir de vieux pots de peinture\, d’ampoules ou encore d’huiles usagées? Participez à cette collecte pour vous débarrasser en toute sécurité de vos résidus domestiques dangereux (RDD). \n\n\n\nCes collectes sont des points de dépôt mis en place temporairement pour récupérer vos piles\, bonbonnes de propane\, batteries d’automobile\, certains produits nettoyants\, du chlore de piscine\, etc. \n\n\n\nConsultez les consignes à respecter ainsi que la liste des produits acceptés. S’informer \n\n\n\nSource: montreal.ca \n\n\n\nDates et horaires sont sujets à changement sans préavis. Avant de vous déplacer\, vérifier ces informations sur montreal.ca
URL:https://journalmetro.com/evenement/collecte-des-residus-domestiques-dangereux-5/
LOCATION:Aréna Garon\, 11212 avenue Garon\, Montréal\, QC\, Canada
ATTACH;FMTTYPE=image/jpeg:https://journalmetro.com/wp-content/uploads/2023/03/collecte-residus-dangereux-westmount-2.jpg
END:VEVENT
END:VCALENDAR