BEGIN:VCALENDAR
VERSION:2.0
PRODID:-//Journal Métro - ECPv6.0.13//NONSGML v1.0//EN
CALSCALE:GREGORIAN
METHOD:PUBLISH
X-WR-CALNAME:Journal Métro
X-ORIGINAL-URL:https://journalmetro.com
X-WR-CALDESC:évènements pour Journal Métro
REFRESH-INTERVAL;VALUE=DURATION:PT1H
X-Robots-Tag:noindex
X-PUBLISHED-TTL:PT1H
BEGIN:VTIMEZONE
TZID:America/Toronto
BEGIN:DAYLIGHT
TZOFFSETFROM:-0500
TZOFFSETTO:-0400
TZNAME:EDT
DTSTART:20220313T070000
END:DAYLIGHT
BEGIN:STANDARD
TZOFFSETFROM:-0400
TZOFFSETTO:-0500
TZNAME:EST
DTSTART:20221106T060000
END:STANDARD
END:VTIMEZONE
BEGIN:VEVENT
DTSTART;TZID=America/Toronto:20221202T000000
DTEND;TZID=America/Toronto:20221218T000000
DTSTAMP:20231017T124404
CREATED:20221121T212915Z
LAST-MODIFIED:20230208T173819Z
UID:10008369-1669939200-1671321600@journalmetro.com
SUMMARY:Marché des Fêtes de Dorval
DESCRIPTION:Venez découvrir les commerces locaux\, assister à l’animation ambulante\, faire vos emplettes de Noël et vivre l’expérience inoubliable du Marché des Fêtes de Dorval! \n\n\n\nInspiré des marchés européens\, ce site extérieur présentera des artisans régionaux\, des produits locaux et des découvertes gastronomiques dans une atmosphère enchanteresse agrémentée de lumières\, de musique d’ambiance et de petites maisonnettes servant de kiosques aux marchands. \n\n\n\nLe Marché des Fêtes de Dorval\, aménagé dans le stationnement situé à l’intersection des avenues Tulip et Dawson\, sera ouvert durant les trois premiers week-ends de décembre. Chaque semaine\, une thématique différente permettra aux visiteurs de s’immerger dans un univers magique et de vivre une expérience unique à chaque occasion. \n\n\n\nHeures d’ouverture \n\n\n\n\nVendredi : 16 h à 21 h\n\n\n\nSamedi : Midi à 21 h\n\n\n\nDimanche : Midi à 16 h\n\n\n\n\n* Le troisième week-end mettra en vedette de jeunes entrepreneurs locaux. Veuillez noter que la plupart de leurs produits pourront être achetés en argent comptant seulement \n\n\n\nNous encourageons tous les visiteurs à apporter leurs sacs réutilisables pour effectuer leur magasinage. Une partie des profits de l’événement seront versés à l’organisme Partage-Action de l’Ouest-de-l’Île. \n\n\n\n► Dans l’esprit de cette période où il fait bon donner\, une aire de dépôt pour recueillir des dons alimentaires sera installée au Marché des Fêtes. Les articles déposés seront donnés à l’Assistance communautaire de la Cité\, qui distribuera ceux-ci aux Dorvalois et Dorvaloises dans le besoin. Merci pour votre générosité! \n\n\n\n\n\n\n\nHoraire d’animationUne musique d’ambiance sera diffusée tout au long de l’événement\, afin d’offrir aux visiteurs une atmosphère des plus festives. Une programmation de spectacles\, d’animation ambulante et d’activités variées est aussi au menu durant les trois week-ends : \n\n\n\n♦ Vendredi 2 décembre\, de 18h à 20 h–    Illumination du sapin (Détails sur l’événement ici)–    Visite du père Noël–    Animation \n\n\n\n♦ Samedi 3 décembre–    Entre 13 h et 17 h : Animation déambulatoire → Les Soupis–    Entre 18 h et 21 h : Animation déambulatoire → Duo lumineux \n\n\n\n♦ Dimanche 4 décembre\, entre 13 h et 17 h–    Visite du père Noël\, du lutin et de Jet\, la mascotte de Dorval \n\n\n\n♦ Samedi 10 décembre–    Entre 13 h et 17 h : Animation déambulatoire → M. et Mme BonBon–    Entre 18 h et 21 h : Animation déambulatoire → L’oiseau et Mamselle Ruiz \n\n\n\n♦ Dimanche 11 décembre\, entre 13 h et 17 h–    Visite du père Noël\, du lutin et de Jet\, la mascotte de Dorval \n\n\n\n♦ Samedi 17 décembre–    Entre 13 h et 17 h : Animation déambulatoire → Les Cabaneux–    Entre 18 h et 21 h : Quatuor vocal SCATx4 – Chanteurs du temps des Fêtes (Kerry-Anne Kutz\, Vincent Morel\, Michel Duval et Catherine Léveillé) \n\n\n\n♦ Dimanche 18 décembre\, entre 13 h et 17 h–    Visite du père Noël\, du lutin et de Jet\, la mascotte de Dorval \n\n\n\nSTATIONNEMENT \n\n\n\nVeuillez noter que pour l’occasion\, le stationnement situé à l’intersection des avenues Tulip et Dawson sera fermé au cours des prochains jours\, selon l’horaire suivant : \n\n\n\n\nMoitié nord du stationnement : Du 21 novembre au 22 décembre\n\n\n\nMoitié sud du stationnement : Du 28 novembre au 22 décembre\n\n\n\n\nPendant cette période de fermeture\, les résidents qui ont l’habitude de stationner leur véhicule à cet endroit et les gens qui souhaiteraient accéder au Marché des Fêtes (ou aux autres commerces environnants) en voiture\, sont invités à garer leur véhicule : \n\n\n\n\ndans les trois stationnements municipaux situés sur l’avenue Martin (au sud du chemin du bord-du-Lac–Lakeshore).\n\nLe stationnement situé derrière l’hôtel de ville est disponible seulement durant les heures d’ouverture du Marché des Fêtes.\n\n\n\n\n\nle long de l’avenue Dawson\, entre les avenues Dahlia et George-V\, durant les heures d’ouverture du Marché des Fêtes.\n\n\n\ndans les rues avoisinantes\, si la signalisation le permet.\n\n\n\n\nEn plus des places spécialement identifiées dans les trois stationnements municipaux\, quelques places de stationnement pour personnes handicapées seront installées sur l’avenue Tulip. \n\n\n\n▶ Carte des terrains de stationnements disponibles 
URL:https://journalmetro.com/evenement/marche-des-fetes-de-dorval/
LOCATION:Au Coeur du Village Dorval\, Intersection des avenues Tulip et Dawson\, Dorval\, QC\, Canada
CATEGORIES:Communautaire
ATTACH;FMTTYPE=image/jpeg:https://journalmetro.com/wp-content/uploads/2022/11/marche-des-fetes-dorval-2.jpg
END:VEVENT
END:VCALENDAR