BEGIN:VCALENDAR
VERSION:2.0
PRODID:-//Journal Métro - ECPv6.0.13//NONSGML v1.0//EN
CALSCALE:GREGORIAN
METHOD:PUBLISH
X-WR-CALNAME:Journal Métro
X-ORIGINAL-URL:https://journalmetro.com
X-WR-CALDESC:évènements pour Journal Métro
REFRESH-INTERVAL;VALUE=DURATION:PT1H
X-Robots-Tag:noindex
X-PUBLISHED-TTL:PT1H
BEGIN:VTIMEZONE
TZID:America/Toronto
BEGIN:DAYLIGHT
TZOFFSETFROM:-0500
TZOFFSETTO:-0400
TZNAME:EDT
DTSTART:20220313T070000
END:DAYLIGHT
BEGIN:STANDARD
TZOFFSETFROM:-0400
TZOFFSETTO:-0500
TZNAME:EST
DTSTART:20221106T060000
END:STANDARD
BEGIN:DAYLIGHT
TZOFFSETFROM:-0500
TZOFFSETTO:-0400
TZNAME:EDT
DTSTART:20230312T070000
END:DAYLIGHT
BEGIN:STANDARD
TZOFFSETFROM:-0400
TZOFFSETTO:-0500
TZNAME:EST
DTSTART:20231105T060000
END:STANDARD
END:VTIMEZONE
BEGIN:VEVENT
DTSTART;TZID=America/Toronto:20220722T193000
DTEND;TZID=America/Toronto:20220722T193000
DTSTAMP:20231016T113338
CREATED:20220711T210318Z
LAST-MODIFIED:20220721T194515Z
UID:10006800-1658518200-1658518200@journalmetro.com
SUMMARY:Alliance Montréal VS Growlers de Terre-Neuve
DESCRIPTION:L’Alliance de Montréal disputera plusieurs matchs à domicile\, à l’Auditorium de Verdun durant tout l’été ! La nouvelle équipe profesionnelle de basketball à Montréal attire déjà les foules! \n\n\n\nNe manquez pas l’occasion de voir l’équipe de basketball professionnelle affronter d’autres équipes canadiennes telles que les Blackjacks de Ottawa ou encore les River Lions de Niagara. \n\n\n\nVos billets vous attendent sur Billets.ca !
URL:https://journalmetro.com/evenement/alliance-montreal-vs-growlers-de-terre-neuve/
LOCATION:Auditorium de Verdun\, 4110 Bd LaSalle\, Montréal\, Montreal\, QC\, H4G 2A5\, Canada
CATEGORIES:Communautaire
ATTACH;FMTTYPE=image/png:https://journalmetro.com/wp-content/uploads/2022/07/MicrosoftTeams-image-2.png
END:VEVENT
BEGIN:VEVENT
DTSTART;TZID=America/Toronto:20220724T160000
DTEND;TZID=America/Toronto:20220724T160000
DTSTAMP:20231016T113338
CREATED:20220712T174152Z
LAST-MODIFIED:20220721T194556Z
UID:10006801-1658678400-1658678400@journalmetro.com
SUMMARY:Alliance Montréal VS Growlers de Terre-Neuve
DESCRIPTION:L’Alliance de Montréal disputera plusieurs matchs à domicile\, à l’Auditorium de Verdun durant tout l’été ! La nouvelle équipe profesionnelle de basketball à Montréal attire déjà les foules! \n\n\n\nNe manquez pas l’occasion de voir l’équipe de basketball professionnelle affronter d’autres équipes canadiennes telles que les Blackjacks de Ottawa ou encore les River Lions de Niagara. \n\n\n\nVos billets vous attendent sur Billets.ca !
URL:https://journalmetro.com/evenement/alliance-montreal-vs-growlers-de-terre-neuve-2/
LOCATION:Auditorium de Verdun\, 4110 Bd LaSalle\, Montréal\, Montreal\, QC\, H4G 2A5\, Canada
ATTACH;FMTTYPE=image/png:https://journalmetro.com/wp-content/uploads/2022/07/MicrosoftTeams-image-2-1.png
END:VEVENT
BEGIN:VEVENT
DTSTART;TZID=America/Toronto:20220729T193000
DTEND;TZID=America/Toronto:20220729T193000
DTSTAMP:20231016T113338
CREATED:20220712T175143Z
LAST-MODIFIED:20220721T200758Z
UID:10006802-1659123000-1659123000@journalmetro.com
SUMMARY:Alliance Montréal VS Rattlers de Saskatchewan
DESCRIPTION:L’Alliance de Montréal disputera son dernier match de la saison à domicile\, à l’Auditorium de Verdun! L’équipe montréalaise reçoit\, pour l’occasion\, les Rattlers de la Saskatchewan.  \n\n\n\nVos billets vous attendent sur Billets.ca!
URL:https://journalmetro.com/evenement/alliance-montreal-vs-rattlers-de-saskatchewan/
LOCATION:Auditorium de Verdun\, 4110 Bd LaSalle\, Montréal\, Montreal\, QC\, H4G 2A5\, Canada
ATTACH;FMTTYPE=image/png:https://journalmetro.com/wp-content/uploads/2022/07/MicrosoftTeams-image-2-1.png
END:VEVENT
BEGIN:VEVENT
DTSTART;TZID=America/Toronto:20221217T080000
DTEND;TZID=America/Toronto:20221218T170000
DTSTAMP:20231016T113338
CREATED:20221124T150525Z
LAST-MODIFIED:20221124T150529Z
UID:10008859-1671264000-1671382800@journalmetro.com
SUMMARY:Marché des Fêtes
DESCRIPTION:Le Collectif Créatif MTL organise un marché des fêtes intérieur les 17 et 18 décembre à l’auditorium de Verdun. \n\n\n\nQui est Le Collectif Créatif MTL? \n\n\n\nLe Collectif Créatif MTL est un regroupement d’artisans\, créateurs et designers de Montréal et environs crée par Mel Serangelo et Michelle Beausejour. Notre mission est de faire rayonner le talent d’ici et le commerce local à travers nos Marchés Créatifs. Nous organisons des marchés artisanales sous le nom Etsy Montreal depuis 2014.  \n\n\n\nLe bonheur est fait à la main! \n\n\n\nListe des exposants
URL:https://journalmetro.com/evenement/marche-des-fetes/
LOCATION:Auditorium de Verdun\, 4110 Bd LaSalle\, Montréal\, Montreal\, QC\, H4G 2A5\, Canada
ATTACH;FMTTYPE=image/jpeg:https://journalmetro.com/wp-content/uploads/2022/11/marcheverdunphotobymelserangelo-2.jpg
END:VEVENT
BEGIN:VEVENT
DTSTART;TZID=America/Toronto:20230517T170000
DTEND;TZID=America/Toronto:20230517T190000
DTSTAMP:20231016T113338
CREATED:20230515T144102Z
LAST-MODIFIED:20230515T144107Z
UID:10017559-1684342800-1684350000@journalmetro.com
SUMMARY:Mini salon de lecture et de jeux
DESCRIPTION:Venez lire\, jouer\, vous détendre lors d’un 5 à 7 organisé par les bibliothèques de Verdun à l’Auditorium de Verdun! \n\n\n\nLes bibliothèques de Verdun vous invitent à l’Auditorium pour passer une soirée lecture et jeux avec vos enfants. \n\n\n\nDes jeux en bois\, des livres\, des casse-têtes\, etc. pour tous les âges sont mis à votre disposition. \n\n\n\nInstallez-vous confortablement dans les poufs\, sur les tapis ou dans la tente et appréciez ce moment de détente en famille tout en profitant d’une vue imprenable sur la plage et le fleuve. \n\n\n\nPour toute la famille.  \n\n\n\nActivité libre sans inscription. \n\n\n\nSource: montreal.ca \n\n\n\nDates et horaires sont sujets à changement sans préavis. Avant de vous déplacer\, vérifier ces informations sur montreal.ca
URL:https://journalmetro.com/evenement/mini-salon-de-lecture-et-de-jeux/
LOCATION:Auditorium de Verdun\, 4110 Bd LaSalle\, Montréal\, Montreal\, QC\, H4G 2A5\, Canada
ATTACH;FMTTYPE=image/jpeg:https://journalmetro.com/wp-content/uploads/2023/05/mini-salon-2.jpg
END:VEVENT
END:VCALENDAR