BEGIN:VCALENDAR
VERSION:2.0
PRODID:-//Journal Métro - ECPv6.0.13//NONSGML v1.0//EN
CALSCALE:GREGORIAN
METHOD:PUBLISH
X-WR-CALNAME:Journal Métro
X-ORIGINAL-URL:https://journalmetro.com
X-WR-CALDESC:évènements pour Journal Métro
REFRESH-INTERVAL;VALUE=DURATION:PT1H
X-Robots-Tag:noindex
X-PUBLISHED-TTL:PT1H
BEGIN:VTIMEZONE
TZID:America/Toronto
BEGIN:DAYLIGHT
TZOFFSETFROM:-0500
TZOFFSETTO:-0400
TZNAME:EDT
DTSTART:20230312T070000
END:DAYLIGHT
BEGIN:STANDARD
TZOFFSETFROM:-0400
TZOFFSETTO:-0500
TZNAME:EST
DTSTART:20231105T060000
END:STANDARD
END:VTIMEZONE
BEGIN:VEVENT
DTSTART;TZID=America/Toronto:20230423T110000
DTEND;TZID=America/Toronto:20230423T180000
DTSTAMP:20231016T093711
CREATED:20230406T172453Z
LAST-MODIFIED:20230406T172455Z
UID:10017089-1682247600-1682272800@journalmetro.com
SUMMARY:Friperie géante
DESCRIPTION:Friperie géante au Bain Mathieu\, de 11h à 18h\, avec DJ Bazzart/Yumè \n\n\n\nPrésenté par @KaparaVintage et invité.es
URL:https://journalmetro.com/evenement/friperie-geante/
LOCATION:Bain Mathieu\, 2915 rue Ontario Est\, Montréal\, QC\, Canada
ATTACH;FMTTYPE=image/jpeg:https://journalmetro.com/wp-content/uploads/2023/04/Friperie_1200x600.jpg
END:VEVENT
BEGIN:VEVENT
DTSTART;TZID=America/Toronto:20230617T110000
DTEND;TZID=America/Toronto:20230618T110000
DTSTAMP:20231016T093711
CREATED:20230519T160300Z
LAST-MODIFIED:20230519T173812Z
UID:10017651-1686999600-1687086000@journalmetro.com
SUMMARY:Festival Jouissif Montréal
DESCRIPTION:Le Festival Jouissif de Montréal est un nouvel événement inclusif qui aura lieu du 17 au 18 juin 2023\, au Bain Mathieu. Cet événement coloré offre un espace et une visibilité aux artistes et artisan.nes d’art érotique sous toutes ses formes\, avec la présence d’artistes tels que Sasha Baga et DJ Sam de Queen and Queer ! \n\n\n\nLa petite histoire \n\n\n\nÀ la suite de l’annulation d’un événement montréalais et du peu d’espace dédié à l’art érotique\, deux amis\, dont un artiste et une personne d’événementiel\, ont décidé d’unir leurs forces pour créer un tout nouveau festival d’art érotique inclusif à Montréal. « Nous voulions un lieu inclusif et ouvert à Montréal ! Nous avions envie de mettre la main à la pâte et de nous mobiliser pour faire rayonner et surtout festoyer ensemble l’art érotique.» \n\n\n\nLes deux amis sont profondément convaincus de l’importance d’un espace respectueux\, consensuel\, ouvert\, libre et inclusif pour promouvoir l’art érotique sous toutes ses formes. Ils considèrent qu’une véritable appropriation de notre sexualité passe par la briser les tabous\, l’ouverture des dialogues et la communication. Pour eux\, le médium de l’art est une voie à privilégier collectivement pour mettre au cœur des discussions intimes une sexualité saine\, consensuelle et épanouie. \n\n\n\nLa programmation\, une formule en deux temps ! \n\n\n\nDe 11h à 17h\, le samedi et dimanche\, nous vous présentons plus de 40 artistes et artisan.nes sous la forme d’une exposition et d’un marché. Vous pouvez assister gratuitement à des ateliers sur différentes thématiques\, rencontrer les artistes et des groupes communautaires\, prendre un verre et vous prendre en photo dans un espace coloré ! L’entrée est gratuite ! \n\n\n\nSamedi soir\, c’est la soirée festive la plus amusante et sexy en ville ! Au programme : des performances de burlesque\, de drag queen et king\, une DJ pour danser et plein d’autres surprises. L’entrée est payante afin de financer les activités du festival. \n\n\n\nOsons aborder les sujets importants autour de la sexualité. Brisons les tabous par l’art pour plus de tolérance. \n\n\n\nVisitez notre site internet pour voir les artistes présent.es et achetez vos billets pour la soirée ! \n\n\n\nL’événement est réservé aux personnes de 18 ans et plus et destiné à un public averti qui souhaite encourager l’art érotique sous toutes ses formes dans l’ouverture\, le consentement\, le respect et l’inclusivité. \n\n\n\nLe 17 et 18 juin au Bain Mathieu\, 2915 rue Ontario E\, Montréal\, c’est un rendez-vous ! \n\n\n\nBilletterie
URL:https://journalmetro.com/evenement/festival-jouissif-montreal/
LOCATION:Bain Mathieu\, 2915 rue Ontario Est\, Montréal\, QC\, Canada
CATEGORIES:Communautaire
ATTACH;FMTTYPE=image/jpeg:https://journalmetro.com/wp-content/uploads/2023/05/FJM_1200x600.jpg
END:VEVENT
END:VCALENDAR