BEGIN:VCALENDAR
VERSION:2.0
PRODID:-//Journal Métro - ECPv6.0.13//NONSGML v1.0//EN
CALSCALE:GREGORIAN
METHOD:PUBLISH
X-WR-CALNAME:Journal Métro
X-ORIGINAL-URL:https://journalmetro.com
X-WR-CALDESC:évènements pour Journal Métro
REFRESH-INTERVAL;VALUE=DURATION:PT1H
X-Robots-Tag:noindex
X-PUBLISHED-TTL:PT1H
BEGIN:VTIMEZONE
TZID:America/Toronto
BEGIN:DAYLIGHT
TZOFFSETFROM:-0500
TZOFFSETTO:-0400
TZNAME:EDT
DTSTART:20230312T070000
END:DAYLIGHT
BEGIN:STANDARD
TZOFFSETFROM:-0400
TZOFFSETTO:-0500
TZNAME:EST
DTSTART:20231105T060000
END:STANDARD
END:VTIMEZONE
BEGIN:VEVENT
DTSTART;TZID=America/Toronto:20230612T103000
DTEND;TZID=America/Toronto:20230612T120000
DTSTAMP:20231018T181219
CREATED:20230612T210307Z
LAST-MODIFIED:20230612T210309Z
UID:10018038-1686565800-1686571200@journalmetro.com
SUMMARY:Spectacle de marionnettes La Panne et inscriptions pour le Club de lecture d’été
DESCRIPTION:Un spectacle de marionnettes et début des inscriptions au Club de lecture d’été pour les jeunes qui commencent à lire ou lisent avec l’aide d’un adulte. \n\n\n\nUn spectacle de marionnettes présenté par Tortue Berlue. Une structure mobile nous fera vivre une expérience théâtrale originale. Alors qu’elle s’apprête à chanter\, la tortue Berlue doit faire appel à une mécanicienne et plonger au cœur de sa carapace afin de découvrir l’origine d’une panne. Après le spectacle\, les parents sont invités à inscrire leurs enfants au Club de lecture d’été et à récupérer leur carnet de lecture. Spectacle en français\, pour les jeunes de 3 à 8 ans. \n\n\n\nSource: montreal.ca \n\n\n\nDates et horaires sont sujets à changement sans préavis. Avant de vous déplacer\, vérifier ces informations sur montreal.ca
URL:https://journalmetro.com/evenement/spectacle-de-marionnettes-la-panne-et-inscriptions-pour-le-club-de-lecture-dete/
LOCATION:Bibliothèque Benny\, 6400 avenue de Monkland\, Montréal\, QC\, Canada
ATTACH;FMTTYPE=image/jpeg:https://journalmetro.com/wp-content/uploads/2023/06/spectacle-marionnettes-la-panne-2.jpg
END:VEVENT
BEGIN:VEVENT
DTSTART;TZID=America/Toronto:20230612T133000
DTEND;TZID=America/Toronto:20230612T153000
DTSTAMP:20231018T181219
CREATED:20230412T135139Z
LAST-MODIFIED:20230412T135141Z
UID:10017189-1686576600-1686583800@journalmetro.com
SUMMARY:Cinéma d'après-midi
DESCRIPTION:Venez écouterDual en anglais avec sous-titres français. \n\n\n\nDual a été gagné 1 prix et a eu 3 nominations. \n\n\n\nSynopsis: Apprenant qu’il ne lui reste que quelques semaines à vivre\, Sarah décide d’être clonée afin d’éviter à ses proches la douleur de sa perte. Mais deux ans après\, la voici en rémission\, avec une réplique qui lui a volé sa vie et ne compte pas la lui rendre. La loi n’autorisant pas la coexistence de l’originale et de la copie\, Sarah commence à s’entraîner pour le jour du duel mortel\, bien décidée à remporter la victoire… (Allociné) \n\n\n\nSource: montreal.ca \n\n\n\nDates et horaires sont sujets à changement sans préavis. Avant de vous déplacer\, vérifier ces informations sur montreal.ca
URL:https://journalmetro.com/evenement/cinema-dapres-midi-7/
LOCATION:Bibliothèque Benny\, 6400 avenue de Monkland\, Montréal\, QC\, Canada
ATTACH;FMTTYPE=image/jpeg:https://journalmetro.com/wp-content/uploads/2023/04/dual-2.jpg
END:VEVENT
BEGIN:VEVENT
DTSTART;TZID=America/Toronto:20230618T130000
DTEND;TZID=America/Toronto:20230625T163000
DTSTAMP:20231018T181219
CREATED:20230227T151927Z
LAST-MODIFIED:20230227T151930Z
UID:10012115-1687093200-1687710600@journalmetro.com
SUMMARY:Club de tricot
DESCRIPTION:Ouvert à tous les tricoteurs ! \n\n\n\nEnfin le retour tant attendu du Club des tricoteurs et tricoteuses ! Jaser tout en tricotant\, échanger ses trucs et astuces\, découvrir de nouveaux modèles… \n\n\n\nVenez partager avec les autres votre plaisir et vos œuvres tricotées. Novice ou expert\, tout le monde est bienvenu ! \n\n\n\nLe 3e dimanche du mois\, de 13 h à 16 h 30. \n\n\n\nAccès libre et gratuit. \n\n\n\nSource: montreal.ca \n\n\n\nDates et horaires sont sujets à changement sans préavis. Avant de vous déplacer\, vérifier ces informations sur montreal.ca
URL:https://journalmetro.com/evenement/club-de-tricot-3/2023-06-18/
LOCATION:Bibliothèque Benny\, 6400 avenue de Monkland\, Montréal\, QC\, Canada
ATTACH;FMTTYPE=image/jpeg:https://journalmetro.com/wp-content/uploads/2022/12/club-de-tricot-cdn-2.jpg
END:VEVENT
BEGIN:VEVENT
DTSTART;TZID=America/Toronto:20230621T183000
DTEND;TZID=America/Toronto:20230628T200000
DTSTAMP:20231018T181219
CREATED:20230326T113403Z
LAST-MODIFIED:20230326T113406Z
UID:10012396-1687372200-1687982400@journalmetro.com
SUMMARY:Club de lecture du Mercredi - en anglais
DESCRIPTION:Un nouveau club de lecture en anglais ! \n\n\n\nRéunions mensuelles\, avec discussions autour d’un titre commun lu auparavant. Titres variés mais toujours de qualité! \n\n\n\nLe 3e mercredi du mois\, de 18 h 30 à 20 h \n\n\n\n\nThe Cat’s Table  –  Michael Ondaatje : 18 janvier\n\n\n\nGravel Heart – Abdulrazak Gurnah : 15 février\n\n\n\nWhite Teeth – Zadie Smith : 15 mars\n\n\n\nRu – Thuy Kim : 19 avril\n\n\n\nThe House of Broken Angels – Luis Alberto Urrea : 24 mai\n\n\n\nThe Refugees – Viet Thanh Nguyen : 21 juin\n\n\n\n\nSource: montreal.ca \n\n\n\nDates et horaires sont sujets à changement sans préavis. Avant de vous déplacer\, vérifier ces informations sur montreal.ca
URL:https://journalmetro.com/evenement/club-de-lecture-du-mercredi-en-anglais-8/2023-06-21/
LOCATION:Bibliothèque Benny\, 6400 avenue de Monkland\, Montréal\, QC\, Canada
ATTACH;FMTTYPE=image/jpeg:https://journalmetro.com/wp-content/uploads/2022/12/club-de-lecture-du-mercredi-en-anglais-2.jpg
END:VEVENT
BEGIN:VEVENT
DTSTART;TZID=America/Toronto:20230625T130000
DTEND;TZID=America/Toronto:20230702T163000
DTSTAMP:20231018T181219
CREATED:20230223T182848Z
LAST-MODIFIED:20230223T182851Z
UID:10011240-1687698000-1688315400@journalmetro.com
SUMMARY:Jouons ensemble ! – Club de jeux de société
DESCRIPTION:Jouons ensemble ! – un club de jeux de société pour les grands (Adultes et enfants dès 10 ans). \n\n\n\nFan de jeux de société ? Marre de jouer aux «Petits Chevaux» ou à «Croque-Carotte» avec vos enfants ? Envie de découvrir de nouveaux jeux\, plus adaptés aux grands ? Alors\, venez agrandir notre communauté de joueurs ! \n\n\n\nNous accueillons les dimanches après-midi\, de 13 h à 16 h 30\, des adultes et des grands (10 ans et plus) pour partager le plaisir de jouer ensemble. \n\n\n\nComme il n’est pas toujours facile de jouer en famille ou de trouver des partenaires de jeux\, nous vous offrons l’opportunité de développer une communauté de jeux à retrouver régulièrement dans nos murs. \n\n\n\nLa collection compte actuellement une trentaine de jeux différents et se développera avec le temps. Revenez souvent pour en découvrir de nouveaux ! \n\n\n\nAccès libre et gratuit. \n\n\n\nPossibilité de vous organiser des rencontres ludiques via la page Facebook \n\n\n\nSource: montreal.ca \n\n\n\nDates et horaires sont sujets à changement sans préavis. Avant de vous déplacer\, vérifier ces informations sur montreal.ca
URL:https://journalmetro.com/evenement/jouons-ensemble-club-de-jeux-de-societe-2/2023-06-25/
LOCATION:Bibliothèque Benny\, 6400 avenue de Monkland\, Montréal\, QC\, Canada
ATTACH;FMTTYPE=image/jpeg:https://journalmetro.com/wp-content/uploads/2022/11/jouons-enemble-2.jpg
END:VEVENT
BEGIN:VEVENT
DTSTART;TZID=America/Toronto:20230802T163000
DTEND;TZID=America/Toronto:20230816T180000
DTSTAMP:20231018T181219
CREATED:20230720T140609Z
LAST-MODIFIED:20230720T140652Z
UID:10018991-1690993800-1692208800@journalmetro.com
SUMMARY:Jeux vidéos
DESCRIPTION:Aussi le 16 août \n\n\n\nTu aimes les jeux vidéo? Viens jouer avec d’autres adeptes et teste tes aptitudes sur différentes consoles! \n\n\n\nPour changer un peu du parc et de la piscine\, sortir le nez des livres et te délier les doigts\, viens donc jouer aux jeux vidéos à la bibliothèque! Tu pourras jouer en équipe avec des copains ou essayer d’être le plus fort\, le plus rapide ou le plus habile. Prêt à relever le défi? \n\n\n\nNous avons différentes consoles\, et plein de jeux différents à essayer! \n\n\n\nL’activité a lieu les mercredis après-midi. \n\n\n\nPour les 7 à 13 ans. \n\n\n\nAccès libre. \n\n\n\nLes jeux vidés en accès libre. \n\n\n\nSource: montreal.ca \n\n\n\nDates et horaires sont sujets à changement sans préavis. Avant de vous déplacer\, vérifier ces informations sur montreal.ca
URL:https://journalmetro.com/evenement/jeux-videos-2/
LOCATION:Bibliothèque Benny\, 6400 avenue de Monkland\, Montréal\, QC\, Canada
ATTACH;FMTTYPE=image/jpeg:https://journalmetro.com/wp-content/uploads/2023/07/cdn-jeux-videos-2.jpg
END:VEVENT
BEGIN:VEVENT
DTSTART;TZID=America/Toronto:20230804T150000
DTEND;TZID=America/Toronto:20230811T163000
DTSTAMP:20231018T181219
CREATED:20230801T140938Z
LAST-MODIFIED:20230804T180914Z
UID:10019284-1691161200-1691771400@journalmetro.com
SUMMARY:Ciné-popcorn
DESCRIPTION:Un film avec du popcorn à la bibliothèque? C’est pour moi! \n\n\n\nLe vendredi après-midi\, vous êtes invité à regarder un film à la bibliothèque avec votre famille. Les films sont destinés à un public de tout âges (5 ans et plus) et seront diffusés en français avec sous-titrage en anglais ou en anglais avec sous-titrage en français. \n\n\n\nProjections en français avec sous-titrage en anglais\n\n\n\n\n7 juillet : Le chat potté : le dernier voeu \n\n\n\n21 juillet : DC Krypto Super-Chien\n\n\n\n4 août : Sens dessus dessous = Inside Out\n\n\n\n\nProjections en anglais avec sous-titrage en français\n\n\n\n\n14 juillet : Raya et le dernier dragon = Raya and the Last Dragon \n\n\n\n28 juillet : Lyle\, le crocodile = Lyle\, Lyle\, Crocodile\n\n\n\n11 août : Clifford le gros chien rouge = Clifford the Big Red Dog\n\n\n\n\nUn film avec du popcorn à la bibliothèque ? C’est pour moi ! \n\n\n\nSource: montreal.ca \n\n\n\nDates et horaires sont sujets à changement sans préavis. Avant de vous déplacer\, vérifier ces informations sur montreal.ca
URL:https://journalmetro.com/evenement/cine-popcorn/
LOCATION:Bibliothèque Benny\, 6400 avenue de Monkland\, Montréal\, QC\, Canada
ATTACH;FMTTYPE=image/jpeg:https://journalmetro.com/wp-content/uploads/2023/03/cinema-en-famille-2.jpg
END:VEVENT
BEGIN:VEVENT
DTSTART;TZID=America/Toronto:20230813T140000
DTEND;TZID=America/Toronto:20230813T150000
DTSTAMP:20231018T181219
CREATED:20230807T180607Z
LAST-MODIFIED:20230807T180609Z
UID:10019479-1691935200-1691938800@journalmetro.com
SUMMARY:Conférence : Composter pour les nutriments
DESCRIPTION:Conférence-atelier offerte par Le Dépôt sur les bienfaits du compost dans son jardin. \n\n\n\nVous savez peut-être que les plantes se nourrissent des nutriments du sol dans lequel elles poussent. Alors comment enrichir la terre pour des plantes en croissance ? Le Dépôt répondra à toutes vos questions sur le sujet lors de cette conférence-atelier. \n\n\n\nSource: montreal.ca \n\n\n\nDates et horaires sont sujets à changement sans préavis. Avant de vous déplacer\, vérifier ces informations sur montreal.ca
URL:https://journalmetro.com/evenement/conference-composter-pour-les-nutriments/
LOCATION:Bibliothèque Benny\, 6400 avenue de Monkland\, Montréal\, QC\, Canada
ATTACH;FMTTYPE=image/jpeg:https://journalmetro.com/wp-content/uploads/2023/08/composter-pour-nutriments-2.jpg
END:VEVENT
BEGIN:VEVENT
DTSTART;TZID=America/Toronto:20230813T140000
DTEND;TZID=America/Toronto:20230827T160000
DTSTAMP:20231018T181219
CREATED:20230807T181029Z
LAST-MODIFIED:20230807T181031Z
UID:10019480-1691935200-1693152000@journalmetro.com
SUMMARY:Échecs en anglais avec Steven
DESCRIPTION:13 et 27 août. \n\n\n\nAtelier d’échecs en anglais\, dès 5 ans. \n\n\n\nSteven Rosenstein vous apprendra avec plaisir et beaucoup de pédagogie comment jouer aux échecs. Pour ceux qui savent déjà jouer\, venez pour le plaisir de partager une partie! \n\n\n\n<<…ce jeu royal\, le seul d’entre tous les jeux inventés par les hommes\, qui échappe souverainement à la tyrannie du hasard\, le seul où l’on ne doive sa victoire qu’à son intelligence ou plutôt à une certaine forme d’intelligence. > \n\n\n\n-Le joueur d’échecs de Stéphane Zweig \n\n\n\nSource: montreal.ca \n\n\n\nDates et horaires sont sujets à changement sans préavis. Avant de vous déplacer\, vérifier ces informations sur montreal.ca
URL:https://journalmetro.com/evenement/echecs-en-anglais-avec-steven/
LOCATION:Bibliothèque Benny\, 6400 avenue de Monkland\, Montréal\, QC\, Canada
ATTACH;FMTTYPE=image/jpeg:https://journalmetro.com/wp-content/uploads/2023/01/jouons-aux-echecs-2.jpg
END:VEVENT
END:VCALENDAR