BEGIN:VCALENDAR
VERSION:2.0
PRODID:-//Journal Métro - ECPv6.0.13//NONSGML v1.0//EN
CALSCALE:GREGORIAN
METHOD:PUBLISH
X-WR-CALNAME:Journal Métro
X-ORIGINAL-URL:https://journalmetro.com
X-WR-CALDESC:évènements pour Journal Métro
REFRESH-INTERVAL;VALUE=DURATION:PT1H
X-Robots-Tag:noindex
X-PUBLISHED-TTL:PT1H
BEGIN:VTIMEZONE
TZID:America/Toronto
BEGIN:DAYLIGHT
TZOFFSETFROM:-0500
TZOFFSETTO:-0400
TZNAME:EDT
DTSTART:20230312T070000
END:DAYLIGHT
BEGIN:STANDARD
TZOFFSETFROM:-0400
TZOFFSETTO:-0500
TZNAME:EST
DTSTART:20231105T060000
END:STANDARD
END:VTIMEZONE
BEGIN:VEVENT
DTSTART;TZID=America/Toronto:20230126T140000
DTEND;TZID=America/Toronto:20230126T160000
DTSTAMP:20231012T214028
CREATED:20230123T174334Z
LAST-MODIFIED:20230223T182615Z
UID:10012682-1674741600-1674748800@journalmetro.com
SUMMARY:Club de Scrabble
DESCRIPTION:Venez découvrir le jeu de société Scrabble. \n\n\n\nVenez échanger et partager avec les autres usager.ère.s votre passion pour les mots\, avec le jeu de société Scrabble. \n\n\n\nEn plus d’enrichir le vocabulaire\, le Scrabble permet de cultiver la mémoire et d’augmenter les capacités de concentration. \n\n\n\nPour les adultes \n\n\n\nSource: montreal.ca \n\n\n\nDates et horaires sont sujets à changement sans préavis. Avant de vous déplacer\, vérifier ces informations sur montreal.ca
URL:https://journalmetro.com/evenement/club-de-scrabble/
LOCATION:Bibliothèque de Côte-des-Neiges\, 5290 chemin de la Côte-des-Neiges\, Montréal\, QC\, Canada
ATTACH;FMTTYPE=image/jpeg:https://journalmetro.com/wp-content/uploads/2023/01/club-de-scrabble-cdn-2.jpg
END:VEVENT
BEGIN:VEVENT
DTSTART;TZID=America/Toronto:20230128T133000
DTEND;TZID=America/Toronto:20230128T150000
DTSTAMP:20231012T214028
CREATED:20230123T183306Z
LAST-MODIFIED:20230223T182537Z
UID:10012708-1674912600-1674918000@journalmetro.com
SUMMARY:Les changements climatiques (9-12 ans) - GUEPE
DESCRIPTION:La bibliothèque vous invite à une animation dynamique avec l’organisme GUEPE. \n\n\n\nDans cette animation interactive\, vous en apprendrez davantage sur les différents climats de la Terre\, d’hier à aujourd’hui. Vous découvrirez les techniques de mesure des climats passés\, comme les carottes de glace et la dendrochronologie. Vous pourrez également observer et manipuler des rondelles de bois afin d’apprendre la lecture des cernes de vie d’un arbre. Vous échangerez ensemble sur les solutions possibles pour ralentir le changement climatique actuel. \n\n\n\nPour les enfants de 9 à 12 ans \n\n\n\nSource: montreal.ca \n\n\n\nDates et horaires sont sujets à changement sans préavis. Avant de vous déplacer\, vérifier ces informations sur montreal.ca
URL:https://journalmetro.com/evenement/les-changements-climatiques-9-12-ans-guepe/
LOCATION:Bibliothèque de Côte-des-Neiges\, 5290 chemin de la Côte-des-Neiges\, Montréal\, QC\, Canada
ATTACH;FMTTYPE=image/jpeg:https://journalmetro.com/wp-content/uploads/2023/01/les-changements-climatiques-2.jpg
END:VEVENT
BEGIN:VEVENT
DTSTART;TZID=America/Toronto:20230204T153000
DTEND;TZID=America/Toronto:20230204T163000
DTSTAMP:20231012T214028
CREATED:20230124T160007Z
LAST-MODIFIED:20230227T150324Z
UID:10012800-1675524600-1675528200@journalmetro.com
SUMMARY:Atelier NASA : Les phénomènes de l’espace (6-10 ans) - Sciences en Folie Montréal
DESCRIPTION:La bibliothèque invite les enfants de 6 à 10 ans à participer à ce super atelier scientifique sur l’espace ! \n\n\n\nQuelle est cette lumière que vous observez dans le ciel? Une étoile? Une planète? Un satellite? Dans cette animation phénoménale\, nous percerons les mystères de l’espace et nous observerons une comète se former sous nos yeux. \n\n\n\nPour les enfants de 6 à 10 ans \n\n\n\nSource: montreal.ca \n\n\n\nDates et horaires sont sujets à changement sans préavis. Avant de vous déplacer\, vérifier ces informations sur montreal.ca
URL:https://journalmetro.com/evenement/atelier-nasa-les-phenomenes-de-lespace-6-10-ans-sciences-en-folie-montreal/
LOCATION:Bibliothèque de Côte-des-Neiges\, 5290 chemin de la Côte-des-Neiges\, Montréal\, QC\, Canada
ATTACH;FMTTYPE=image/jpeg:https://journalmetro.com/wp-content/uploads/2023/01/atelier-nasa-2.jpg
END:VEVENT
BEGIN:VEVENT
DTSTART;TZID=America/Toronto:20230211T133000
DTEND;TZID=America/Toronto:20230211T143000
DTSTAMP:20231012T214028
CREATED:20230125T163449Z
LAST-MODIFIED:20230223T182343Z
UID:10012997-1676122200-1676125800@journalmetro.com
SUMMARY:Bienvenue à MiniatureVille ! (activité intergénérationnelle)
DESCRIPTION:Venez créer un monde miniature en famille ! \n\n\n\nAteliers d’exploration et de création artistique intergénérationnels et inclusifs\, qui allient les arts plastiques et numériques. \n\n\n\nSource: montreal.ca \n\n\n\nDates et horaires sont sujets à changement sans préavis. Avant de vous déplacer\, vérifier ces informations sur montreal.ca
URL:https://journalmetro.com/evenement/bienvenue-a-miniatureville-activite-intergenerationnelle/
LOCATION:Bibliothèque de Côte-des-Neiges\, 5290 chemin de la Côte-des-Neiges\, Montréal\, QC\, Canada
ATTACH;FMTTYPE=image/jpeg:https://journalmetro.com/wp-content/uploads/2023/01/bienvenue-a-miniatureville-2.jpg
END:VEVENT
BEGIN:VEVENT
DTSTART;TZID=America/Toronto:20230218T130000
DTEND;TZID=America/Toronto:20230218T150000
DTSTAMP:20231012T214028
CREATED:20230213T133117Z
LAST-MODIFIED:20230227T151704Z
UID:10014665-1676725200-1676732400@journalmetro.com
SUMMARY:Fabrication de baumes à lèvres
DESCRIPTION:Fabrication de produits naturels maison à la bibliothèque \n\n\n\nVenez confectionner des baumes à lèvres maison écologiques et naturels\, avec Jeanne-Marie. \n\n\n\nSource: montreal.ca \n\n\n\nDates et horaires sont sujets à changement sans préavis. Avant de vous déplacer\, vérifier ces informations sur montreal.ca
URL:https://journalmetro.com/evenement/fabrication-de-baumes-a-levres-2/
LOCATION:Bibliothèque de Côte-des-Neiges\, 5290 chemin de la Côte-des-Neiges\, Montréal\, QC\, Canada
ATTACH;FMTTYPE=image/jpeg:https://journalmetro.com/wp-content/uploads/2023/01/fabrication-baume-a-levres-2.jpg
END:VEVENT
BEGIN:VEVENT
DTSTART;TZID=America/Toronto:20230221T173000
DTEND;TZID=America/Toronto:20230221T190000
DTSTAMP:20231012T214028
CREATED:20230130T213436Z
LAST-MODIFIED:20230227T151628Z
UID:10013344-1677000600-1677006000@journalmetro.com
SUMMARY:Prendre soin de nos histoires - Musée McCord Stewart
DESCRIPTION:La bibliothèque\, en partenariat avec le Musée McCord Stewart\, vous invite à découvrir l’histoire des différentes communautés ethnoculturelles de Montréal. \n\n\n\nDans cet atelier de co-construction citoyenne\, conçu en collaboration avec l’organisme « Je suis Montréal »\, vous découvrirez des histoires des communautés chinoises\, afrodescendantes et autochtones souvent trop peu racontées. À partir de vues de Montréal du 19e et du 20e siècle\, issues de la collection « Photographie » du Musée McCord Stewart\, vous serez invités à réfléchir sur la présence ou l’absence d’objets et de personnages contribuant à leur bien-être à Montréal. \n\n\n\nCe projet a été financé par le ministère de l’Immigration\, de la Francisation et de l’Intégration et la Ville de Montréal (Programme Montréal Interculturel). \n\n\n\nSource: montreal.ca \n\n\n\nDates et horaires sont sujets à changement sans préavis. Avant de vous déplacer\, vérifier ces informations sur montreal.ca
URL:https://journalmetro.com/evenement/prendre-soin-de-nos-histoires-musee-mccord-stewart/
LOCATION:Bibliothèque de Côte-des-Neiges\, 5290 chemin de la Côte-des-Neiges\, Montréal\, QC\, Canada
ATTACH;FMTTYPE=image/jpeg:https://journalmetro.com/wp-content/uploads/2023/01/prendre-soin-de-nos-histoires-2-1.jpg
END:VEVENT
BEGIN:VEVENT
DTSTART;TZID=America/Toronto:20230226T103000
DTEND;TZID=America/Toronto:20230226T113000
DTSTAMP:20231012T214028
CREATED:20230202T183026Z
LAST-MODIFIED:20230227T151521Z
UID:10013559-1677407400-1677411000@journalmetro.com
SUMMARY:Heure du conte et bricolage (3-6 ans)
DESCRIPTION:C’est l’heure de l’histoire ! \n\n\n\nVenez écouter de belles histoires et confectionner un bricolage avec vos tout-petits. \n\n\n\nPour les enfants de 3 à 6 ans \n\n\n\nSource: montreal.ca \n\n\n\nDates et horaires sont sujets à changement sans préavis. Avant de vous déplacer\, vérifier ces informations sur montreal.ca
URL:https://journalmetro.com/evenement/heure-du-conte-et-bricolage-3-6-ans/
LOCATION:Bibliothèque de Côte-des-Neiges\, 5290 chemin de la Côte-des-Neiges\, Montréal\, QC\, Canada
ATTACH;FMTTYPE=image/jpeg:https://journalmetro.com/wp-content/uploads/2023/02/heure-du-conte-et-bricolage-2.jpg
END:VEVENT
BEGIN:VEVENT
DTSTART;TZID=America/Toronto:20230304T130000
DTEND;TZID=America/Toronto:20230304T150000
DTSTAMP:20231012T214028
CREATED:20230210T163053Z
LAST-MODIFIED:20230223T181941Z
UID:10014648-1677934800-1677942000@journalmetro.com
SUMMARY:Fabrication de barres hydratantes
DESCRIPTION:Fabrication de produits naturels maison à la bibliothèque \n\n\n\nVenez confectionner des barres hydratantes maison écologiques et naturelles\, avec Jeanne-Marie. \n\n\n\nSource: montreal.ca \n\n\n\nDates et horaires sont sujets à changement sans préavis. Avant de vous déplacer\, vérifier ces informations sur montreal.ca
URL:https://journalmetro.com/evenement/fabrication-de-barres-hydratantes/
LOCATION:Bibliothèque de Côte-des-Neiges\, 5290 chemin de la Côte-des-Neiges\, Montréal\, QC\, Canada
ATTACH;FMTTYPE=image/jpeg:https://journalmetro.com/wp-content/uploads/2023/02/fabrication-barres-hydratantes-2.jpg
END:VEVENT
BEGIN:VEVENT
DTSTART;TZID=America/Toronto:20230304T153000
DTEND;TZID=America/Toronto:20230304T164500
DTSTAMP:20231012T214028
CREATED:20230210T185411Z
LAST-MODIFIED:20230223T181927Z
UID:10014666-1677943800-1677948300@journalmetro.com
SUMMARY:Fabrication de baumes à lèvres - Atelier parent-enfant
DESCRIPTION:La bibliothèque vous invite à participer à cet atelier parent-enfant amusant et écologique ! \n\n\n\nVenez confectionner des baumes à lèvres maison avec vos enfants ou vos petits-enfants. \n\n\n\nSource: montreal.ca \n\n\n\nDates et horaires sont sujets à changement sans préavis. Avant de vous déplacer\, vérifier ces informations sur montreal.ca
URL:https://journalmetro.com/evenement/fabrication-de-baumes-a-levres-atelier-parent-enfant/
LOCATION:Bibliothèque de Côte-des-Neiges\, 5290 chemin de la Côte-des-Neiges\, Montréal\, QC\, Canada
ATTACH;FMTTYPE=image/jpeg:https://journalmetro.com/wp-content/uploads/2023/02/baume-a-levres-parent-enfant-2.jpg
END:VEVENT
BEGIN:VEVENT
DTSTART;TZID=America/Toronto:20230305T143000
DTEND;TZID=America/Toronto:20230305T154500
DTSTAMP:20231012T214028
CREATED:20230210T193750Z
LAST-MODIFIED:20230227T145130Z
UID:10014681-1678026600-1678031100@journalmetro.com
SUMMARY:Le village médiéval Minecraft (6-13 ans) - KOKOBRIK
DESCRIPTION:La bibliothèque t’invite à venir construire de super Lego Minecraft avec KOKOBRIK ! \n\n\n\nPlongez au cœur du monde de la construction brique LEGO® MINECRAFT ! Pour accomplir votre mission\, vous apprendrez à construire des châteaux\, des maisons et des villages personnalisés Minecraft. \n\n\n\nCet atelier s’adresse à des débutants comme à des constructeurs de talent et est idéal pour stimuler votre imagination et votre créativité ! \n\n\n\nOffert dans le cadre de « Montréal Joue » \n\n\n\nPour les enfants de 6 à 13 ans \n\n\n\nSource: montreal.ca \n\n\n\nDates et horaires sont sujets à changement sans préavis. Avant de vous déplacer\, vérifier ces informations sur montreal.ca
URL:https://journalmetro.com/evenement/le-village-medieval-minecraft-6-13-ans-kokobrik/
LOCATION:Bibliothèque de Côte-des-Neiges\, 5290 chemin de la Côte-des-Neiges\, Montréal\, QC\, Canada
ATTACH;FMTTYPE=image/jpeg:https://journalmetro.com/wp-content/uploads/2023/02/village-medieval-minecraft-2.jpg
END:VEVENT
BEGIN:VEVENT
DTSTART;TZID=America/Toronto:20230309T140000
DTEND;TZID=America/Toronto:20230309T160000
DTSTAMP:20231012T214028
CREATED:20230215T202209Z
LAST-MODIFIED:20230227T145114Z
UID:10014818-1678370400-1678377600@journalmetro.com
SUMMARY:Club de Scrabble
DESCRIPTION:Venez découvrir le jeu de société Scrabble. \n\n\n\nVenez échanger et partager avec les autres usager.ère.s votre passion pour les mots\, avec le jeu de société Scrabble. \n\n\n\nEn plus d’enrichir le vocabulaire\, le Scrabble permet de cultiver la mémoire et d’augmenter les capacités de concentration. \n\n\n\nPour les adultes \n\n\n\nSource: montreal.ca \n\n\n\nDates et horaires sont sujets à changement sans préavis. Avant de vous déplacer\, vérifier ces informations sur montreal.ca
URL:https://journalmetro.com/evenement/club-de-scrabble-2/
LOCATION:Bibliothèque de Côte-des-Neiges\, 5290 chemin de la Côte-des-Neiges\, Montréal\, QC\, Canada
ATTACH;FMTTYPE=image/jpeg:https://journalmetro.com/wp-content/uploads/2023/01/club-de-scrabble-cdn-2.jpg
END:VEVENT
BEGIN:VEVENT
DTSTART;TZID=America/Toronto:20230311T133000
DTEND;TZID=America/Toronto:20230311T143000
DTSTAMP:20231012T214028
CREATED:20230216T155303Z
LAST-MODIFIED:20230227T145045Z
UID:10014842-1678541400-1678545000@journalmetro.com
SUMMARY:Bienvenue à MiniatureVille ! (activité intergénérationnelle)
DESCRIPTION:Venez créer un monde miniature en famille ! \n\n\n\nAteliers d’exploration et de création artistique intergénérationnels et inclusifs\, qui allient les arts plastiques et numériques. \n\n\n\nSource: montreal.ca \n\n\n\nDates et horaires sont sujets à changement sans préavis. Avant de vous déplacer\, vérifier ces informations sur montreal.ca
URL:https://journalmetro.com/evenement/bienvenue-a-miniatureville-activite-intergenerationnelle-2/
LOCATION:Bibliothèque de Côte-des-Neiges\, 5290 chemin de la Côte-des-Neiges\, Montréal\, QC\, Canada
ATTACH;FMTTYPE=image/jpeg:https://journalmetro.com/wp-content/uploads/2023/01/bienvenue-a-miniatureville-2.jpg
END:VEVENT
BEGIN:VEVENT
DTSTART;TZID=America/Toronto:20230321T173000
DTEND;TZID=America/Toronto:20230321T183000
DTSTAMP:20231012T214029
CREATED:20230219T171604Z
LAST-MODIFIED:20230223T181834Z
UID:10015214-1679419800-1679423400@journalmetro.com
SUMMARY:Les enfants inconnus ou non accompagnés ENA - Perpétue Muramutse
DESCRIPTION:Dans son rôle au sein de l’UNICEF\, Perpétue Muramutse a œuvré auprès des enfants dans des camps de réfugiés au Congo en 1994 et en 1995. La voix de ces enfants l’habite toujours et l’a amenée à se transformer en messagère de la paix. \n\n\n\nLors de cette conférence\, Mme Muramutse relatera le quotidien des enfants témoins des horreurs de la guerre\, aux prises avec les séquelles physiques et psychologiques du conflit. Elle vous partagera leurs expériences\, puis vous lira son poème « Lettre de l’enfant inconnu »\, véritable plaidoyer la paix. \n\n\n\nSource: montreal.ca \n\n\n\nDates et horaires sont sujets à changement sans préavis. Avant de vous déplacer\, vérifier ces informations sur montreal.ca
URL:https://journalmetro.com/evenement/les-enfants-inconnus-ou-non-accompagnes-ena-perpetue-muramutse/
LOCATION:Bibliothèque de Côte-des-Neiges\, 5290 chemin de la Côte-des-Neiges\, Montréal\, QC\, Canada
ATTACH;FMTTYPE=image/jpeg:https://journalmetro.com/wp-content/uploads/2023/02/les-enfanrs-inconnus-2.jpg
END:VEVENT
BEGIN:VEVENT
DTSTART;TZID=America/Toronto:20230325T130000
DTEND;TZID=America/Toronto:20230325T150000
DTSTAMP:20231012T214029
CREATED:20230220T191009Z
LAST-MODIFIED:20230223T181745Z
UID:10015286-1679749200-1679756400@journalmetro.com
SUMMARY:Fabrication de cake vaisselle
DESCRIPTION:Fabrication de produits naturels maison à la bibliothèque \n\n\n\nVenez confectionner des cake vaisselle écologiques et naturels\, avec Jeanne-Marie. \n\n\n\nSource: montreal.ca \n\n\n\nDates et horaires sont sujets à changement sans préavis. Avant de vous déplacer\, vérifier ces informations sur montreal.ca
URL:https://journalmetro.com/evenement/fabrication-de-cake-vaisselle/
LOCATION:Bibliothèque de Côte-des-Neiges\, 5290 chemin de la Côte-des-Neiges\, Montréal\, QC\, Canada
ATTACH;FMTTYPE=image/jpeg:https://journalmetro.com/wp-content/uploads/2023/02/fabrication-de-cake-vaisselle-2.jpg
END:VEVENT
BEGIN:VEVENT
DTSTART;TZID=America/Toronto:20230330T140000
DTEND;TZID=America/Toronto:20230330T160000
DTSTAMP:20231012T214029
CREATED:20230228T182035Z
LAST-MODIFIED:20230228T182038Z
UID:10015530-1680184800-1680192000@journalmetro.com
SUMMARY:Club de Scrabble
DESCRIPTION:Venez découvrir le jeu de société Scrabble. \n\n\n\nVenez échanger et partager avec les autres usager.ère.s votre passion pour les mots\, avec le jeu de société Scrabble. \n\n\n\nEn plus d’enrichir le vocabulaire\, le Scrabble permet de cultiver la mémoire et d’augmenter les capacités de concentration. \n\n\n\nPour les adultes \n\n\n\nSource: montreal.ca \n\n\n\nDates et horaires sont sujets à changement sans préavis. Avant de vous déplacer\, vérifier ces informations sur montreal.ca
URL:https://journalmetro.com/evenement/club-de-scrabble-3/
LOCATION:Bibliothèque de Côte-des-Neiges\, 5290 chemin de la Côte-des-Neiges\, Montréal\, QC\, Canada
ATTACH;FMTTYPE=image/jpeg:https://journalmetro.com/wp-content/uploads/2023/01/club-de-scrabble-cdn-2.jpg
END:VEVENT
BEGIN:VEVENT
DTSTART;TZID=America/Toronto:20230401T133000
DTEND;TZID=America/Toronto:20230401T143000
DTSTAMP:20231012T214029
CREATED:20230303T152655Z
LAST-MODIFIED:20230303T152657Z
UID:10015699-1680355800-1680359400@journalmetro.com
SUMMARY:Éducazoo fête Pâques ! (3 ans et plus)
DESCRIPTION:La bibliothèque t’invite à une super animation pour Pâques ! \n\n\n\nViens rencontrer les poussins\, canetons et lapins d’Éducazoo et découvrir leurs milieux de vie et leurs habitudes alimentaires. Le célèbre cacatoès Coco sera également présent\, pour le plus grand plaisir des enfants comme des plus grands ! \n\n\n\nPour les enfants de 3 ans et plus \n\n\n\nSource: montreal.ca \n\n\n\nDates et horaires sont sujets à changement sans préavis. Avant de vous déplacer\, vérifier ces informations sur montreal.ca
URL:https://journalmetro.com/evenement/educazoo-fete-paques-3-ans-et-plus-2/
LOCATION:Bibliothèque de Côte-des-Neiges\, 5290 chemin de la Côte-des-Neiges\, Montréal\, QC\, Canada
ATTACH;FMTTYPE=image/jpeg:https://journalmetro.com/wp-content/uploads/2023/03/educazoo-fete-paques-2-1.jpg
END:VEVENT
BEGIN:VEVENT
DTSTART;TZID=America/Toronto:20230405T180000
DTEND;TZID=America/Toronto:20230405T190000
DTSTAMP:20231012T214029
CREATED:20230306T224822Z
LAST-MODIFIED:20230306T224824Z
UID:10015774-1680717600-1680721200@journalmetro.com
SUMMARY:Tendre vers le zéro déchet - Mélissa de La Fontaine
DESCRIPTION:La bibliothèque vous invite à une conférence sur le Zéro déchet\, avec l’autrice Mélissa de La Fontaine. \n\n\n\nEn 2013\, pour la première fois de sa vie\, Mélissa adoptait une résolution du jour de l’an\, celle de tendre vers un mode de vie zéro déchet. Lors de sa conférence\, elle racontera les hauts et les bas des dernières années de cette belle aventure : ses succès et ses échecs\, ses bons et ses mauvais coups. Sans prétendre détenir la recette ultime du zéro déchet\, elle partagera ses trucs et astuces ainsi que ses réflexions sur notre façon de (sur)consommer. \n\n\n\nSource: montreal.ca \n\n\n\nDates et horaires sont sujets à changement sans préavis. Avant de vous déplacer\, vérifier ces informations sur montreal.ca
URL:https://journalmetro.com/evenement/tendre-vers-le-zero-dechet-melissa-de-la-fontaine/
LOCATION:Bibliothèque de Côte-des-Neiges\, 5290 chemin de la Côte-des-Neiges\, Montréal\, QC\, Canada
ATTACH;FMTTYPE=image/jpeg:https://journalmetro.com/wp-content/uploads/2023/03/tendre-vers-zero-dechet-2.jpg
END:VEVENT
BEGIN:VEVENT
DTSTART;TZID=America/Toronto:20230412T173000
DTEND;TZID=America/Toronto:20230412T190000
DTSTAMP:20231012T214029
CREATED:20230307T220630Z
LAST-MODIFIED:20230307T220633Z
UID:10015873-1681320600-1681326000@journalmetro.com
SUMMARY:Les musées au Québec et au Canada - Vincent Arseneau
DESCRIPTION:La bibliothèque vous invite à venir découvrir les musées du Québec et du Canada\, avec le conférencier et historien de l’art Vincent Arseneau. \n\n\n\nCette conférence propose un tour d’horizon des grands musées d’art du Québec et du Canada. Vous serez d’abord initiés aux concepts généraux qui définissent et structurent le domaine muséal. Par la suite\, vous ferez un tour d’horizon des musées remarquables de Québec\, de Montréal\, d’Ottawa\, de Toronto et de Vancouver. Un détour vous sera proposé aussi afin de découvrir certains musées régionaux\, des perles méconnues. \n\n\n\nSource: montreal.ca \n\n\n\nDates et horaires sont sujets à changement sans préavis. Avant de vous déplacer\, vérifier ces informations sur montreal.ca
URL:https://journalmetro.com/evenement/les-musees-au-quebec-et-au-canada-vincent-arseneau/
LOCATION:Bibliothèque de Côte-des-Neiges\, 5290 chemin de la Côte-des-Neiges\, Montréal\, QC\, Canada
ATTACH;FMTTYPE=image/jpeg:https://journalmetro.com/wp-content/uploads/2023/03/musees-au-qc-et-au-canada-2.jpg
END:VEVENT
BEGIN:VEVENT
DTSTART;TZID=America/Toronto:20230420T140000
DTEND;TZID=America/Toronto:20230420T160000
DTSTAMP:20231012T214029
CREATED:20230313T203411Z
LAST-MODIFIED:20230313T203416Z
UID:10016113-1681999200-1682006400@journalmetro.com
SUMMARY:Club de Scrabble
DESCRIPTION:Venez découvrir le jeu de société Scrabble. \n\n\n\nVenez échanger et partager avec les autres usager.ère.s votre passion pour les mots\, avec le jeu de société Scrabble. \n\n\n\nEn plus d’enrichir le vocabulaire\, le Scrabble permet de cultiver la mémoire et d’augmenter les capacités de concentration. \n\n\n\nPour les adultes \n\n\n\nSource: montreal.ca \n\n\n\nDates et horaires sont sujets à changement sans préavis. Avant de vous déplacer\, vérifier ces informations sur montreal.ca
URL:https://journalmetro.com/evenement/club-de-scrabble-4/
LOCATION:Bibliothèque de Côte-des-Neiges\, 5290 chemin de la Côte-des-Neiges\, Montréal\, QC\, Canada
ATTACH;FMTTYPE=image/jpeg:https://journalmetro.com/wp-content/uploads/2023/01/club-de-scrabble-cdn-2.jpg
END:VEVENT
BEGIN:VEVENT
DTSTART;TZID=America/Toronto:20230422T133000
DTEND;TZID=America/Toronto:20230422T141500
DTSTAMP:20231012T214029
CREATED:20230315T153144Z
LAST-MODIFIED:20230315T174945Z
UID:10016212-1682170200-1682172900@journalmetro.com
SUMMARY:Lis avec Poilu ! (7-10 ans) - A+ peluche\, Zoothérapie
DESCRIPTION:Aussi de 14h15 à 15h. \n\n\n\nLa bibliothèque t’invite à venir rencontrer le chien Capitaine et à découvrir le plaisir de la lecture avec lui  \n\n\n\nLe chien Capitaine adore les histoires ! Venez pratiquer la lecture avec lui ! Les enfants seront invités à lire à haute voix\, à tour de rôle ou en petit groupe\, des livres québécois en compagnie de Capitaine\, qui saura les motiver ! \n\n\n\nOffert dans le cadre de la campagne « Je lis québécois » \n\n\n\nPour les enfants de 7 à 10 ans \n\n\n\nSource: montreal.ca \n\n\n\nDates et horaires sont sujets à changement sans préavis. Avant de vous déplacer\, vérifier ces informations sur montreal.ca
URL:https://journalmetro.com/evenement/lis-avec-poilu-7-10-ans-a-peluche-zootherapie/
LOCATION:Bibliothèque de Côte-des-Neiges\, 5290 chemin de la Côte-des-Neiges\, Montréal\, QC\, Canada
ATTACH;FMTTYPE=image/jpeg:https://journalmetro.com/wp-content/uploads/2023/03/lis-avec-poilu-cdn-2.jpg
END:VEVENT
BEGIN:VEVENT
DTSTART;TZID=America/Toronto:20230506T133000
DTEND;TZID=America/Toronto:20230506T143000
DTSTAMP:20231012T214029
CREATED:20230327T184505Z
LAST-MODIFIED:20230327T184508Z
UID:10016698-1683379800-1683383400@journalmetro.com
SUMMARY:La science de Jules Verne : 20 000 lieues sous les mers (7-12 ans) - Club des Génies
DESCRIPTION:La bibliothèque t’invite à bord du Nautilus\, le temps d’une activité scientifique hors du commun. \n\n\n\nDans cet atelier exceptionnel mêlant technologie et animaux\, tes amis et toi devrez analyser des éléments du monde marin (vertèbre de baleine\, mâchoire de requin\, rostre de poisson-scie…)\, en plus de manipuler des dynamos afin de percer le secret du sous-marin du Capitaine Némo : le NAUTILUS ! La finale? Une détonation percutante simulant un coup de canon du sous-marin ! \n\n\n\nOffert dans le cadre des » 24h de science » \n\n\n\nPour les enfants de 7 à 12 ans \n\n\n\nSource: montreal.ca \n\n\n\nDates et horaires sont sujets à changement sans préavis. Avant de vous déplacer\, vérifier ces informations sur montreal.ca
URL:https://journalmetro.com/evenement/la-science-de-jules-verne-20-000-lieues-sous-les-mers-7-12-ans-club-des-genies/
LOCATION:Bibliothèque de Côte-des-Neiges\, 5290 chemin de la Côte-des-Neiges\, Montréal\, QC\, Canada
ATTACH;FMTTYPE=image/jpeg:https://journalmetro.com/wp-content/uploads/2023/03/JulesVerne.jpg
END:VEVENT
BEGIN:VEVENT
DTSTART;TZID=America/Toronto:20230511T140000
DTEND;TZID=America/Toronto:20230511T160000
DTSTAMP:20231012T214029
CREATED:20230328T185406Z
LAST-MODIFIED:20230328T185408Z
UID:10016797-1683813600-1683820800@journalmetro.com
SUMMARY:Club de Scrabble
DESCRIPTION:Venez découvrir le jeu de société Scrabble. \n\n\n\nVenez échanger et partager avec les autres usager.ère.s votre passion pour les mots\, avec le jeu de société Scrabble. \n\n\n\nEn plus d’enrichir le vocabulaire\, le Scrabble permet de cultiver la mémoire et d’augmenter les capacités de concentration. \n\n\n\nPour les adultes \n\n\n\nSource: montreal.ca \n\n\n\nDates et horaires sont sujets à changement sans préavis. Avant de vous déplacer\, vérifier ces informations sur montreal.ca
URL:https://journalmetro.com/evenement/club-de-scrabble-5/
LOCATION:Bibliothèque de Côte-des-Neiges\, 5290 chemin de la Côte-des-Neiges\, Montréal\, QC\, Canada
ATTACH;FMTTYPE=image/jpeg:https://journalmetro.com/wp-content/uploads/2023/01/club-de-scrabble-cdn-2.jpg
END:VEVENT
BEGIN:VEVENT
DTSTART;TZID=America/Toronto:20230513T133000
DTEND;TZID=America/Toronto:20230520T143000
DTSTAMP:20231012T214029
CREATED:20230307T191121Z
LAST-MODIFIED:20230407T192404Z
UID:10016831-1683984600-1684593000@journalmetro.com
SUMMARY:Bienvenue à MiniatureVille ! (activité intergénérationnelle)
DESCRIPTION:Venez créer un monde miniature en famille ! \n\n\n\nAteliers d’exploration et de création artistique intergénérationnels et inclusifs\, qui allient les arts plastiques et numériques. \n\n\n\nSource: montreal.ca \n\n\n\nDates et horaires sont sujets à changement sans préavis. Avant de vous déplacer\, vérifier ces informations sur montreal.ca
URL:https://journalmetro.com/evenement/bienvenue-a-miniatureville-activite-intergenerationnelle-3/2023-05-13/
LOCATION:Bibliothèque de Côte-des-Neiges\, 5290 chemin de la Côte-des-Neiges\, Montréal\, QC\, Canada
ATTACH;FMTTYPE=image/jpeg:https://journalmetro.com/wp-content/uploads/2023/01/bienvenue-a-miniatureville-2.jpg
END:VEVENT
END:VCALENDAR