BEGIN:VCALENDAR
VERSION:2.0
PRODID:-//Journal Métro - ECPv6.0.13//NONSGML v1.0//EN
CALSCALE:GREGORIAN
METHOD:PUBLISH
X-WR-CALNAME:Journal Métro
X-ORIGINAL-URL:https://journalmetro.com
X-WR-CALDESC:évènements pour Journal Métro
REFRESH-INTERVAL;VALUE=DURATION:PT1H
X-Robots-Tag:noindex
X-PUBLISHED-TTL:PT1H
BEGIN:VTIMEZONE
TZID:America/Toronto
BEGIN:DAYLIGHT
TZOFFSETFROM:-0500
TZOFFSETTO:-0400
TZNAME:EDT
DTSTART:20230312T070000
END:DAYLIGHT
BEGIN:STANDARD
TZOFFSETFROM:-0400
TZOFFSETTO:-0500
TZNAME:EST
DTSTART:20231105T060000
END:STANDARD
END:VTIMEZONE
BEGIN:VEVENT
DTSTART;TZID=America/Toronto:20230427T180000
DTEND;TZID=America/Toronto:20230427T190000
DTSTAMP:20231016T173724
CREATED:20230320T181442Z
LAST-MODIFIED:20230421T144812Z
UID:10016318-1682618400-1682622000@journalmetro.com
SUMMARY:Questions et réponses sur les instruments avec le biblio musicien
DESCRIPTION:Envie d’en apprendre davantage sur les instruments de musique ? \n\n\n\nPosez vos questions au sujet de nos collections spécialisées\, sur l’apprentissage ou l’entretien d’un instrument à David Saveliovsky\, animateur de la collection d’instruments de musique des bibliothèques de Montréal. \n\n\n\nSource: montreal.ca \n\n\n\nDates et horaires sont sujets à changement sans préavis. Avant de vous déplacer\, vérifier ces informations sur montreal.ca
URL:https://journalmetro.com/evenement/questions-et-reponses-sur-les-instruments-avec-le-biblio-musicien-3/
LOCATION:Bibliothèque du Plateau-Mont-Royal\, 465 avenue du Mont-Royal Est\, Montréal\, QC\, Canada
ATTACH;FMTTYPE=image/jpeg:https://journalmetro.com/wp-content/uploads/2023/02/biblio-musicien-2.jpg
END:VEVENT
BEGIN:VEVENT
DTSTART;TZID=America/Toronto:20230503T183000
DTEND;TZID=America/Toronto:20230503T194500
DTSTAMP:20231016T173724
CREATED:20230323T191203Z
LAST-MODIFIED:20230323T191206Z
UID:10016453-1683138600-1683143100@journalmetro.com
SUMMARY:Jardinothèque : Le calendrier du jardin\, quand semer\, où planter\, et quoi ?
DESCRIPTION:Avec l’aide de l’animatrice horticole du Plateau-Mont-Royal\, obtenez toutes les informations nécessaires pour débuter votre jardin du bon pied. \n\n\n\nApprenez quand et où plantez les semences disponibles à notre jardinothèque pour obtenir les meilleurs résultats possibles\, ainsi que les conditions idéales pour vos légumes\, plantes\, fleurs\, fines herbes et autres. Une conférence à ne pas manquer pour tout aspirant  jardinier ou jardinière. \n\n\n\nInscription obligatoire.
URL:https://journalmetro.com/evenement/jardinotheque-le-calendrier-du-jardin-quand-semer-ou-planter-et-quoi/
LOCATION:Bibliothèque du Plateau-Mont-Royal\, 465 avenue du Mont-Royal Est\, Montréal\, QC\, Canada
ATTACH;FMTTYPE=image/jpeg:https://journalmetro.com/wp-content/uploads/2023/03/jardinotheque-2.jpg
END:VEVENT
BEGIN:VEVENT
DTSTART;TZID=America/Toronto:20230504T140000
DTEND;TZID=America/Toronto:20230504T160000
DTSTAMP:20231016T173724
CREATED:20230324T152407Z
LAST-MODIFIED:20230324T152605Z
UID:10016500-1683208800-1683216000@journalmetro.com
SUMMARY:Sœur Marie Gérin-Lajoie\, quel toupet sous son voile!
DESCRIPTION:Une conférence d’Anne-Marie Sicotte\, autrice et historienne\, en collaboration avec la Société d’histoire du Plateau-Mont-Royal. \n\n\n\nEntreprenante\, audacieuse\, engagée : Marie Gérin-Lajoie\, pionnière de l’action sociale\, fait partie de ce petit groupe de Québécoises qui\, au début du 20e siècle\, ont défié la misogynie ambiante. Et ce\, même si elle avait pris le voile! Fille de Marie Lacoste\, féministe activiste\, et nièce de Justine Lacoste\, fondatrice de l’hôpital Sainte-Justine\, elle a fait honneur à ses devancières. \n\n\n\nEntrée libre. \n\n\n\nSource: montreal.ca \n\n\n\nDates et horaires sont sujets à changement sans préavis. Avant de vous déplacer\, vérifier ces informations sur montreal.ca
URL:https://journalmetro.com/evenement/soeur-marie-gerin-lajoie-quel-toupet-sous-son-voile/
LOCATION:Bibliothèque du Plateau-Mont-Royal\, 465 avenue du Mont-Royal Est\, Montréal\, QC\, Canada
CATEGORIES:Communautaire
ATTACH;FMTTYPE=image/jpeg:https://journalmetro.com/wp-content/uploads/2023/03/PLATEAU_Soeur_Marie_Guerin.jpg
END:VEVENT
BEGIN:VEVENT
DTSTART;TZID=America/Toronto:20230511T180000
DTEND;TZID=America/Toronto:20230511T194500
DTSTAMP:20231016T173724
CREATED:20230328T200317Z
LAST-MODIFIED:20230328T200320Z
UID:10016801-1683828000-1683834300@journalmetro.com
SUMMARY:Stratégies\, outils et ressources pour augmenter ses chances de trouver un logement
DESCRIPTION:L’accessibilité au logement étant un défi important pour plusieurs\, ne manquez pas cette conférence dont vous sortirez plus outillé que jamais pour trouver un logement correspondant à vos besoins\, en plus de connaître les ressources et les outils pour vous aider dans votre recherche. \n\n\n\nPar le Comité Logement Plateau Mont-Royal et la Maison D’Aurore.  \n\n\n\nInscription suggérée. \n\n\n\nSource: montreal.ca \n\n\n\nDates et horaires sont sujets à changement sans préavis. Avant de vous déplacer\, vérifier ces informations sur montreal.ca
URL:https://journalmetro.com/evenement/strategies-outils-et-ressources-pour-augmenter-ses-chances-de-trouver-un-logement/
LOCATION:Bibliothèque du Plateau-Mont-Royal\, 465 avenue du Mont-Royal Est\, Montréal\, QC\, Canada
CATEGORIES:Communautaire
ATTACH;FMTTYPE=image/jpeg:https://journalmetro.com/wp-content/uploads/2023/03/augmenter-chances-trouver-logement-2.jpg
END:VEVENT
BEGIN:VEVENT
DTSTART;TZID=America/Toronto:20230513T103000
DTEND;TZID=America/Toronto:20230513T113000
DTSTAMP:20231016T173724
CREATED:20230418T181327Z
LAST-MODIFIED:20230418T181329Z
UID:10017293-1683973800-1683977400@journalmetro.com
SUMMARY:Concert jeunesse : Un grillon dans mon violon ( 3 à 7 ans)
DESCRIPTION:Une exploration des sons et des mots de l’univers littéraire de Jean de la Fontaine et des compositeurs de son époque\, au plus grand plaisir des petits et grands\, dans le cadre du Festival Montréal Baroque ! \n\n\n\nUne exploration des sons et des mots accompagnée d’un corbeau vaniteux et d’un renard rusé\, d’une mouche désinvolte et d’une fourmi calculatrice\, d’un lièvre paresseux et d’une tortue persévérante. L’univers littéraire de Jean de la Fontaine et des compositeurs de son époque\, au plus grand plaisir des petits et grands ! \n\n\n\nSpectacle adapté pour les enfants de 3 à 7 ans (et leurs parents et grands-parents !) \n\n\n\nSource: montreal.ca \n\n\n\nDates et horaires sont sujets à changement sans préavis. Avant de vous déplacer\, vérifier ces informations sur montreal.ca
URL:https://journalmetro.com/evenement/concert-jeunesse-un-grillon-dans-mon-violon-3-a-7-ans/
LOCATION:Bibliothèque du Plateau-Mont-Royal\, 465 avenue du Mont-Royal Est\, Montréal\, QC\, Canada
ATTACH;FMTTYPE=image/jpeg:https://journalmetro.com/wp-content/uploads/2023/04/grillon-dans-mon-violon-2.jpg
END:VEVENT
BEGIN:VEVENT
DTSTART;TZID=America/Toronto:20230517T183000
DTEND;TZID=America/Toronto:20230524T193000
DTSTAMP:20231016T173724
CREATED:20230217T180101Z
LAST-MODIFIED:20230224T164433Z
UID:10015034-1684348200-1684956600@journalmetro.com
SUMMARY:Zéro déchet : Ateliers d’initiation
DESCRIPTION:Une approche innovante pour vous aider à devenir zéro déchet. \n\n\n\nLors du premier atelier\,  on apprend des astuces et on développe des bons outils pour notre chez-soi. \n\n\n\nAu deuxième\, on constate les défis du changement et on développe une approche positive et créative. \n\n\n\nLors du troisième atelier\, on est en mode solution et on trouve des pistes pour vivre en mode zéro déchets.  \n\n\n\nInscription obligatoire. \n\n\n\nSource: montreal.ca \n\n\n\nDates et horaires sont sujets à changement sans préavis. Avant de vous déplacer\, vérifier ces informations sur montreal.ca
URL:https://journalmetro.com/evenement/zero-dechet-ateliers-dinitiation/2023-05-17/
LOCATION:Bibliothèque du Plateau-Mont-Royal\, 465 avenue du Mont-Royal Est\, Montréal\, QC\, Canada
ATTACH;FMTTYPE=image/jpeg:https://journalmetro.com/wp-content/uploads/2023/02/zero-dechet-atelier-initiation-2.jpg
END:VEVENT
BEGIN:VEVENT
DTSTART;TZID=America/Toronto:20230520T103000
DTEND;TZID=America/Toronto:20230520T113000
DTSTAMP:20231016T173724
CREATED:20230404T161936Z
LAST-MODIFIED:20230404T161937Z
UID:10017004-1684578600-1684582200@journalmetro.com
SUMMARY:Festival de contes Festilou : Rêves de papier (3 à 12 ans)
DESCRIPTION:Chaque printemps depuis 2010\, Festilou offre gratuitement des contes pour le jeune public de Montréal. \n\n\n\nUne petite fille se retrouve toute seule dans sa chambre. Elle est triste. Ah\, si sa grand-mère Oba-san était là ! Il suffisait de se blottir dans ses bras pour se sentir beaucoup mieux. Soudain\, devant la petite fille\, se déroule un spectacle étrange\, comme dans un rêve : Oba-san\, sa grand-mère\, est revenue. Elle plie une feuille de papier et ses doigts habiles font apparaître un oiseau. Avec cet oiseau arrive une histoire.  \n\n\n\nPascal Guéran présente ses « rêves de papier »\, un petit monde d’histoires racontées à l’aide de papiers pliés\, inspirés des origamis de la tradition japonaise. Un spectacle tout en délicatesse et en sérénité. \n\n\n\nPour les enfants de 3 à 12 ans. \n\n\n\nInscription obligatoire. \n\n\n\nSource: montreal.ca \n\n\n\nDates et horaires sont sujets à changement sans préavis. Avant de vous déplacer\, vérifier ces informations sur montreal.ca
URL:https://journalmetro.com/evenement/festival-de-contes-festilou-reves-de-papier-3-a-12-ans/
LOCATION:Bibliothèque du Plateau-Mont-Royal\, 465 avenue du Mont-Royal Est\, Montréal\, QC\, Canada
ATTACH;FMTTYPE=image/jpeg:https://journalmetro.com/wp-content/uploads/2023/04/festival-festilou_1200x600.jpg
END:VEVENT
BEGIN:VEVENT
DTSTART;TZID=America/Toronto:20230525T183000
DTEND;TZID=America/Toronto:20230525T195000
DTSTAMP:20231016T173725
CREATED:20230405T153227Z
LAST-MODIFIED:20230405T153229Z
UID:10017056-1685039400-1685044200@journalmetro.com
SUMMARY:Apprendre un instrument de musique : pour débuter du bon pied !
DESCRIPTION:Vous prévoyez commencer l’apprentissage d’un instrument de musique ? Nos ateliers vous donneront des trucs et astuces pour débuter du bon pied\, en plus de vous proposer des ressources pour apprendre votre instrument en autodidacte à la maison. \n\n\n\nEnfin\, des notions de base sur l’instrument vous seront aussi enseignées. Par David Saveliovsky\, animateur de la collection d’instruments de musique des Bibliothèques de Montréal.  \n\n\n\nInscription obligatoire. \n\n\n\nJeudi 30 mars : PianoJeudi 25 mai : Basse-guitare \n\n\n\nSource: montreal.ca \n\n\n\nDates et horaires sont sujets à changement sans préavis. Avant de vous déplacer\, vérifier ces informations sur montreal.ca
URL:https://journalmetro.com/evenement/apprendre-un-instrument-de-musique-pour-debuter-du-bon-pied-3/
LOCATION:Bibliothèque du Plateau-Mont-Royal\, 465 avenue du Mont-Royal Est\, Montréal\, QC\, Canada
ATTACH;FMTTYPE=image/jpeg:https://journalmetro.com/wp-content/uploads/2023/02/apprendre-un-instrument-de-musique-2.jpg
END:VEVENT
BEGIN:VEVENT
DTSTART;TZID=America/Toronto:20230613T130000
DTEND;TZID=America/Toronto:20230613T143000
DTSTAMP:20231016T173725
CREATED:20230524T141735Z
LAST-MODIFIED:20230524T141737Z
UID:10017675-1686661200-1686666600@journalmetro.com
SUMMARY:Club de lecture de la bibliothèque du Plateau-Mont-Royal
DESCRIPTION:Les membres du club de lecture se rencontrent mensuellement pour discuter de littérature avec le bibliothécaire. \n\n\n\nInscription obligatoire. \n\n\n\nSource: montreal.ca \n\n\n\nDates et horaires sont sujets à changement sans préavis. Avant de vous déplacer\, vérifier ces informations sur montreal.ca
URL:https://journalmetro.com/evenement/club-de-lecture-de-la-bibliotheque-du-plateau-mont-royal-7/
LOCATION:Bibliothèque du Plateau-Mont-Royal\, 465 avenue du Mont-Royal Est\, Montréal\, QC\, Canada
ATTACH;FMTTYPE=image/jpeg:https://journalmetro.com/wp-content/uploads/2023/05/club-lecture-plateau-2.jpg
END:VEVENT
BEGIN:VEVENT
DTSTART;TZID=America/Toronto:20230615T180000
DTEND;TZID=America/Toronto:20230622T193000
DTSTAMP:20231016T173725
CREATED:20230313T171537Z
LAST-MODIFIED:20230313T171541Z
UID:10016095-1686852000-1687462200@journalmetro.com
SUMMARY:Service d’aide à l’écriture
DESCRIPTION:Obtenez de l’aide pour remplir divers documents\, en ligne ou sur papier. \n\n\n\nUne notaire d’expérience est là pour vous aider pour la rédaction de documents officiels ou non (CV\, lettre de motivation\, courriels\, correspondances\, etc.). L’aide qu’elle vous apporte est personnalisée\, confidentielle et gratuite. \n\n\n\nInscription obligatoire. \n\n\n\nSource: montreal.ca \n\n\n\nDates et horaires sont sujets à changement sans préavis. Avant de vous déplacer\, vérifier ces informations sur montreal.ca
URL:https://journalmetro.com/evenement/service-daide-a-lecriture/2023-06-15/
LOCATION:Bibliothèque du Plateau-Mont-Royal\, 465 avenue du Mont-Royal Est\, Montréal\, QC\, Canada
ATTACH;FMTTYPE=image/jpeg:https://journalmetro.com/wp-content/uploads/2023/03/service-daide-a-lecriture-2.jpg
END:VEVENT
BEGIN:VEVENT
DTSTART;TZID=America/Toronto:20230617T100000
DTEND;TZID=America/Toronto:20230617T170000
DTSTAMP:20231016T173725
CREATED:20230606T211609Z
LAST-MODIFIED:20230606T211611Z
UID:10017959-1686996000-1687021200@journalmetro.com
SUMMARY:Lancement du Club de lecture estival TD 2023 et atelier de création de macarons (0 à 17ans)
DESCRIPTION:Viens rencontrer le bibliothécaire\, découvrir la bibliothèque et\, surtout\, créer ton macaron personnalisé pour souligner ton inscription au club de lecture cet été ! \n\n\n\nDu 17 juin au 19 août\, choisis et lis jusqu’à 4 livres par visite à la bibliothèque. En les rapportant\, tu recevras un autocollant à poser dans ton carnet de lecture. Collectionne les 9 autocollants et tu pourras faire partie du Panthéon des grand.e.s lecteur.trice.s ! \n\n\n\nPourquoi participer au club de lecture cet été ? Une tonne d’activités super intéressantes et la possibilité de gagner des prix sont au menu ! \n\n\n\nSource: montreal.ca \n\n\n\nDates et horaires sont sujets à changement sans préavis. Avant de vous déplacer\, vérifier ces informations sur montreal.ca
URL:https://journalmetro.com/evenement/lancement-du-club-de-lecture-estival-td-2023-et-atelier-de-creation-de-macarons-0-a-17ans/
LOCATION:Bibliothèque du Plateau-Mont-Royal\, 465 avenue du Mont-Royal Est\, Montréal\, QC\, Canada
ATTACH;FMTTYPE=image/jpeg:https://journalmetro.com/wp-content/uploads/2023/06/td-st-henri-2.jpg
END:VEVENT
BEGIN:VEVENT
DTSTART;TZID=America/Toronto:20230618T143000
DTEND;TZID=America/Toronto:20230625T163000
DTSTAMP:20231016T173725
CREATED:20221108T174008Z
LAST-MODIFIED:20230120T125919Z
UID:10012137-1687098600-1687710600@journalmetro.com
SUMMARY:Les tricots du dimanche
DESCRIPTION:Venez vous exercer à l’art du tricot dans une ambiance d’entraide\, détendue et sympathique. Animé par Maria Luisa Mastache. \n\n\n\nAiguilles et pelotes en main\, les membres du Club de tricot partagent leurs trucs et discutent de leurs différents travaux dans l’ambiance unique de leur bibliothèque de quartier. Niveau débutant\, laine fournie pour les projets de base\, tous et toutes sont les bienvenu-e-s. Sur inscription seulement. \n\n\n\nSource: montreal.ca \n\n\n\nDates et horaires sont sujets à changement sans préavis. Avant de vous déplacer\, vérifier ces informations sur montreal.ca
URL:https://journalmetro.com/evenement/les-tricots-du-dimanche-2/2023-06-18/
LOCATION:Bibliothèque du Plateau-Mont-Royal\, 465 avenue du Mont-Royal Est\, Montréal\, QC\, Canada
ATTACH;FMTTYPE=image/jpeg:https://journalmetro.com/wp-content/uploads/2022/11/tricots-plateau-2.jpg
END:VEVENT
BEGIN:VEVENT
DTSTART;TZID=America/Toronto:20230620T180000
DTEND;TZID=America/Toronto:20230627T193000
DTSTAMP:20231016T173725
CREATED:20230131T153937Z
LAST-MODIFIED:20230224T165627Z
UID:10013389-1687284000-1687894200@journalmetro.com
SUMMARY:Techno-express : réservez un bibliothécaire
DESCRIPTION:Réservez un bibliothécaire pour une période de 30 minutes afin de poser toutes vos questions sur l’informatique\, la recherche documentaire ou le prêt numérique ! \n\n\n\nDécouvrez les meilleurs trucs et astuces pour développer une plus grande autonomie. Attention cependant : aucune installation de logiciel ni réparation d’ordinateur. \n\n\n\nInscription obligatoire. Les mesures sanitaires s’appliquent et le port du masque est obligatoire. Au besoin\, un rendez-vous par visioconférence est aussi disponible. \n\n\n\nSource: montreal.ca \n\n\n\nDates et horaires sont sujets à changement sans préavis. Avant de vous déplacer\, vérifier ces informations sur montreal.ca
URL:https://journalmetro.com/evenement/techno-express-reservez-un-bibliothecaire-2/2023-06-20/
LOCATION:Bibliothèque du Plateau-Mont-Royal\, 465 avenue du Mont-Royal Est\, Montréal\, QC\, Canada
ATTACH;FMTTYPE=image/jpeg:https://journalmetro.com/wp-content/uploads/2023/01/techno-express-2.jpg
END:VEVENT
BEGIN:VEVENT
DTSTART;TZID=America/Toronto:20230621T180000
DTEND;TZID=America/Toronto:20230628T195000
DTSTAMP:20231016T173725
CREATED:20230102T150148Z
LAST-MODIFIED:20230120T132344Z
UID:10012374-1687370400-1687981800@journalmetro.com
SUMMARY:Service d’aide à l’écriture
DESCRIPTION:Obtenez de l’aide pour remplir divers documents\, en ligne ou sur papier. \n\n\n\nUne notaire d’expérience est là pour vous aider pour la rédaction de documents officiels ou non (CV\, lettre de motivation\, courriels\, correspondances\, etc.). L’aide qu’elle vous apporte est personnalisée\, confidentielle et gratuite. \n\n\n\nInscription obligatoire. \n\n\n\nSource: montreal.ca \n\n\n\nDates et horaires sont sujets à changement sans préavis. Avant de vous déplacer\, vérifier ces informations sur montreal.ca
URL:https://journalmetro.com/evenement/service-daide-a-lecriture-2/2023-06-21/
LOCATION:Bibliothèque du Plateau-Mont-Royal\, 465 avenue du Mont-Royal Est\, Montréal\, QC\, Canada
ATTACH;FMTTYPE=image/jpeg:https://journalmetro.com/wp-content/uploads/2023/01/service-daide-a-lecriture-2.jpg
END:VEVENT
BEGIN:VEVENT
DTSTART;TZID=America/Toronto:20230622T160000
DTEND;TZID=America/Toronto:20230629T173000
DTSTAMP:20231016T173725
CREATED:20230125T225705Z
LAST-MODIFIED:20230125T225707Z
UID:10012752-1687449600-1688059800@journalmetro.com
SUMMARY:Après-midi de jeux vidéo (8 à 14 ans)
DESCRIPTION:Pour bien débuter la fin de semaine\, venez découvrir de nouveaux jeux vidéo avec de l’animation dans une ambiance conviviale et décontractée. \n\n\n\nPour l’occasion\, les jeunes peuvent jouer à des jeux vidéo (Nintendo Switch). Un animateur est présent pour sélectionner les jeux et faire de l’animation au besoin. \n\n\n\nPour les jeunes de 8 à 14 ans. \n\n\n\nInscription suggérée. \n\n\n\nSource: montreal.ca \n\n\n\nDates et horaires sont sujets à changement sans préavis. Avant de vous déplacer\, vérifier ces informations sur montreal.ca
URL:https://journalmetro.com/evenement/apres-midi-de-jeux-video-8-a-14-ans-2/2023-06-22/
LOCATION:Bibliothèque du Plateau-Mont-Royal\, 465 avenue du Mont-Royal Est\, Montréal\, QC\, Canada
ATTACH;FMTTYPE=image/jpeg:https://journalmetro.com/wp-content/uploads/2023/01/apres-midi-de-jeux-video-2.jpg
END:VEVENT
BEGIN:VEVENT
DTSTART;TZID=America/Toronto:20230627T180000
DTEND;TZID=America/Toronto:20230627T193000
DTSTAMP:20231016T173725
CREATED:20230427T190744Z
LAST-MODIFIED:20230427T190745Z
UID:10017361-1687888800-1687894200@journalmetro.com
SUMMARY:Savoirs ancestraux : Artisanat et transmission
DESCRIPTION:Venez découvrir l’art de la broderie de poils d’orignal et de piquants de porc-épic\, deux savoir-faire millénaires réalisés par les femmes wendat d’autrefois. \n\n\n\nVous serez mis en contact avec ces précieuses traditions ancestrales: de la récolte\, au nettoyage\, à la teinture végétale\, à leur conservation\, puis à la réalisation de ces savoirs étant les ancêtres du perlage traditionnel tant prisé aujourd’hui par l’ensemble des Premières Nations du Québec. Histoire\, enseignements et mise en valeur de ces patrimoines méconnus! Avec Mélanie Savard\, de la nation huronne-Wendat. \n\n\n\nInscription obligatoire. \n\n\n\nSource: montreal.ca \n\n\n\nDates et horaires sont sujets à changement sans préavis. Avant de vous déplacer\, vérifier ces informations sur montreal.ca
URL:https://journalmetro.com/evenement/savoirs-ancestraux-artisanat-et-transmission-3/
LOCATION:Bibliothèque du Plateau-Mont-Royal\, 465 avenue du Mont-Royal Est\, Montréal\, QC\, Canada
ATTACH;FMTTYPE=image/jpeg:https://journalmetro.com/wp-content/uploads/2023/04/PLATEAU_savoirs-ancestraux-2.jpg
END:VEVENT
BEGIN:VEVENT
DTSTART;TZID=America/Toronto:20230629T180000
DTEND;TZID=America/Toronto:20230629T193000
DTSTAMP:20231016T173725
CREATED:20230427T191140Z
LAST-MODIFIED:20230427T191142Z
UID:10017362-1688061600-1688067000@journalmetro.com
SUMMARY:Le rôle des femmes dans les communautés autochtones
DESCRIPTION:Nicole O’bomsawin\, anthropologue\, muséologue et autrice\, vous invite à aborder avec elle le rôle crucial des femmes dans les communautés autochtones. \n\n\n\nQue nous parlions de l’époque précoloniale\, coloniale ou contemporaine\, les femmes ont toujours été impliquées dans leur communauté. Elles continuent d’être aujourd’hui des actrices incontournables de changements. \n\n\n\nInscription obligatoire. \n\n\n\nSource: montreal.ca \n\n\n\nDates et horaires sont sujets à changement sans préavis. Avant de vous déplacer\, vérifier ces informations sur montreal.ca
URL:https://journalmetro.com/evenement/le-role-des-femmes-dans-les-communautes-autochtones-2/
LOCATION:Bibliothèque du Plateau-Mont-Royal\, 465 avenue du Mont-Royal Est\, Montréal\, QC\, Canada
ATTACH;FMTTYPE=image/jpeg:https://journalmetro.com/wp-content/uploads/2023/04/le-role-des-femmes-2.jpg
END:VEVENT
BEGIN:VEVENT
DTSTART;TZID=America/Toronto:20230810T103000
DTEND;TZID=America/Toronto:20230810T113000
DTSTAMP:20231016T173725
CREATED:20230804T191154Z
LAST-MODIFIED:20230804T191158Z
UID:10019442-1691663400-1691667000@journalmetro.com
SUMMARY:Atelier de peinture de feux d'artifice ( 7 à 12 ans )
DESCRIPTION:Dans cet atelier\, apprends comment créer une peinture de feux d’artifice avec des objets communs de chez toi. \n\n\n\nPour les jeunes de 7 à 12 ans. \n\n\n\nC’est le temps des feux d’artifice à Montréal. Dans cet atelier\, nous utiliserons des objets ordinaires de la maison pour créer notre propre dessin de feux d’artifice. \n\n\n\nInscription obligatoire. \n\n\n\nPour s’inscrireBilletterie514 872-2270biblio_pmr@ville.montreal.qc.ca \n\n\n\nSource: montreal.ca \n\n\n\nDates et horaires sont sujets à changement sans préavis. Avant de vous déplacer\, vérifier ces informations sur montreal.ca
URL:https://journalmetro.com/evenement/atelier-de-peinture-de-feux-dartifice-7-a-12-ans/
LOCATION:Bibliothèque du Plateau-Mont-Royal\, 465 avenue du Mont-Royal Est\, Montréal\, QC\, Canada
CATEGORIES:Communautaire
ATTACH;FMTTYPE=image/jpeg:https://journalmetro.com/wp-content/uploads/2023/08/p4n4ftgisdivjvs5sivz-Cropped.jpg
END:VEVENT
BEGIN:VEVENT
DTSTART;TZID=America/Toronto:20230819T103000
DTEND;TZID=America/Toronto:20230819T113000
DTSTAMP:20231016T173725
CREATED:20230810T171841Z
LAST-MODIFIED:20230810T171901Z
UID:10019546-1692441000-1692444600@journalmetro.com
SUMMARY:Création d’aimants décoratifs ( 7 à 12 ans )
DESCRIPTION:Pour la dernière semaine du club de lecture\, joins-toi à nous pour un atelier de création d’aimants décoratifs. \n\n\n\nPour les jeunes de 7 à 12 ans. \n\n\n\nPour la dernière semaine du club de lecture\, viens célébrer ton été de lecture en créant un aimant décoratif à partir de ton propre dessin ou avec des illustrations tirées de tes livres et revues préférés.  \n\n\n\nInscription obligatoire. \n\n\n\nSource: montreal.ca \n\n\n\nDates et horaires sont sujets à changement sans préavis. Avant de vous déplacer\, vérifier ces informations sur montreal.ca
URL:https://journalmetro.com/evenement/creation-daimants-decoratifs-7-a-12-ans/
LOCATION:Bibliothèque du Plateau-Mont-Royal\, 465 avenue du Mont-Royal Est\, Montréal\, QC\, Canada
CATEGORIES:Communautaire
ATTACH;FMTTYPE=image/png:https://journalmetro.com/wp-content/uploads/2023/08/wpkunscrkiymfm67cxnh.png
END:VEVENT
END:VCALENDAR