BEGIN:VCALENDAR
VERSION:2.0
PRODID:-//Journal Métro - ECPv6.0.13//NONSGML v1.0//EN
CALSCALE:GREGORIAN
METHOD:PUBLISH
X-WR-CALNAME:Journal Métro
X-ORIGINAL-URL:https://journalmetro.com
X-WR-CALDESC:évènements pour Journal Métro
REFRESH-INTERVAL;VALUE=DURATION:PT1H
X-Robots-Tag:noindex
X-PUBLISHED-TTL:PT1H
BEGIN:VTIMEZONE
TZID:America/Toronto
BEGIN:DAYLIGHT
TZOFFSETFROM:-0500
TZOFFSETTO:-0400
TZNAME:EDT
DTSTART:20230312T070000
END:DAYLIGHT
BEGIN:STANDARD
TZOFFSETFROM:-0400
TZOFFSETTO:-0500
TZNAME:EST
DTSTART:20231105T060000
END:STANDARD
END:VTIMEZONE
BEGIN:VEVENT
DTSTART;TZID=America/Toronto:20230730T140000
DTEND;TZID=America/Toronto:20230730T140000
DTSTAMP:20231018T180238
CREATED:20230623T194510Z
LAST-MODIFIED:20230623T194523Z
UID:10018380-1690725600-1690725600@journalmetro.com
SUMMARY:Club LEGO au Vieux-Saint-Laurent
DESCRIPTION:Club LEGO au Vieux-Saint-Laurent \n\n\n\nUn après-midi à créer des maisons\, personnages\, lieux\, véhicules et animaux au gré de l’imagination des participant-es et du thème du mois! Les créations seront ensuite exposées dans la bibliothèque jusqu’au prochain rendez-vous. Les enfants de 7 ans et moins doivent être accompagnés d’un adulte. \n\n\n\nPour les 6 à 13 ans. \n\n\n\nPour s’inscrireBilletterie \n\n\n\nSource: montreal.ca \n\n\n\nDates et horaires sont sujets à changement sans préavis. Avant de vous déplacer\, vérifier ces informations sur montreal.ca
URL:https://journalmetro.com/evenement/club-lego-au-vieux-saint-laurent-3/
LOCATION:Bibliothèque du Vieux-Saint-Laurent\, 1380 rue de l'Eglise\, Montréal\, QC\, H4L 2H2\, Canada
CATEGORIES:Communautaire
ATTACH;FMTTYPE=image/jpeg:https://journalmetro.com/wp-content/uploads/2023/03/club-lego-vieux-saint-laurent-2.jpg
END:VEVENT
BEGIN:VEVENT
DTSTART;TZID=America/Toronto:20230802T140000
DTEND;TZID=America/Toronto:20230802T140000
DTSTAMP:20231018T180238
CREATED:20230628T142844Z
LAST-MODIFIED:20230628T142846Z
UID:10018432-1690984800-1690984800@journalmetro.com
SUMMARY:Bingo de l'été
DESCRIPTION:Activité gratuite d’été pour enfants à la bibliothèque du Vieux-Saint-Laurent \n\n\n\nBingo familial sur le thème de l’été! Venez vous amuser avec nous! \n\n\n\nPour les 5 à 12 ans. \n\n\n\nSource: montreal.ca \n\n\n\nDates et horaires sont sujets à changement sans préavis. Avant de vous déplacer\, vérifier ces informations sur montreal.ca
URL:https://journalmetro.com/evenement/bingo-de-lete/
LOCATION:Bibliothèque du Vieux-Saint-Laurent\, 1380 rue de l'Eglise\, Montréal\, QC\, H4L 2H2\, Canada
ATTACH;FMTTYPE=image/jpeg:https://journalmetro.com/wp-content/uploads/2023/06/bingo-lecture-2_1200x600.jpg
END:VEVENT
BEGIN:VEVENT
DTSTART;TZID=America/Toronto:20230814T101500
DTEND;TZID=America/Toronto:20230814T101500
DTSTAMP:20231018T180238
CREATED:20230628T151031Z
LAST-MODIFIED:20230628T151033Z
UID:10018446-1692008100-1692008100@journalmetro.com
SUMMARY:Bébés contes au Vieux-Saint-Laurent
DESCRIPTION:Activité pour enfants à la bibliothèque du Vieux-Saint-Laurent. \n\n\n\nAvec Isabelle Lamontagne \n\n\n\nDoux moment d’éveil à la lecture avec vos tout-petits! Les places sont limitées. Activité pour les enfants de 0 à 2 ans. \n\n\n\nPour s’inscrireBilletterie \n\n\n\nSource: montreal.ca \n\n\n\nDates et horaires sont sujets à changement sans préavis. Avant de vous déplacer\, vérifier ces informations sur montreal.ca
URL:https://journalmetro.com/evenement/bebes-contes-au-vieux-saint-laurent-5/
LOCATION:Bibliothèque du Vieux-Saint-Laurent\, 1380 rue de l'Eglise\, Montréal\, QC\, H4L 2H2\, Canada
ATTACH;FMTTYPE=image/jpeg:https://journalmetro.com/wp-content/uploads/2023/01/bebe-contes-vieux-st-laurent-2.jpg
END:VEVENT
BEGIN:VEVENT
DTSTART;TZID=America/Toronto:20230816T160000
DTEND;TZID=America/Toronto:20230816T160000
DTSTAMP:20231018T180238
CREATED:20230628T155743Z
LAST-MODIFIED:20230628T155745Z
UID:10018450-1692201600-1692201600@journalmetro.com
SUMMARY:Découvre les jeux vidéo rétro
DESCRIPTION:Activité gratuite pour ados \n\n\n\nVoyage dans le temps en venant tester des jeux vidéo vintages.C’est l’occasion rêvée pour découvrir les classiques qui sont à l’origine des jeux d’aujourd’hui. \n\n\n\nPour s’inscrireBilletterie \n\n\n\nSource: montreal.ca \n\n\n\nDates et horaires sont sujets à changement sans préavis. Avant de vous déplacer\, vérifier ces informations sur montreal.ca
URL:https://journalmetro.com/evenement/decouvre-les-jeux-video-retro-2/
LOCATION:Bibliothèque du Vieux-Saint-Laurent\, 1380 rue de l'Eglise\, Montréal\, QC\, H4L 2H2\, Canada
CATEGORIES:Communautaire
ATTACH;FMTTYPE=image/jpeg:https://journalmetro.com/wp-content/uploads/2023/06/fld2erh4baaa4ziuszkl-Cropped.jpg
END:VEVENT
BEGIN:VEVENT
DTSTART;TZID=America/Toronto:20230818T121500
DTEND;TZID=America/Toronto:20230818T124500
DTSTAMP:20231018T180238
CREATED:20230628T192858Z
LAST-MODIFIED:20230628T192900Z
UID:10018453-1692360900-1692362700@journalmetro.com
SUMMARY:Pique-nique musical
DESCRIPTION:Moment musical à la bibliothèque du Vieux-Saint-Laurent \n\n\n\nVenez vous détendre à la bibliothèque du Vieux-Saint-laurent dans ce moment musical mettant en vedette Aziz Daouni. Natif de Casablanca\, Aziz Daouni et son Oud vous transporteront dans une atmosphère arabe et mélodieuse. Aziz Daouni a enseigné\, a donné des conférences sur la musique arabe et ses instruments dans le cadre universitaire. Il a assuré une chronique culturelle à Radio Centre-ville en qualité de grand connaisseur de la musique arabe. \n\n\n\nGratuit\, entrée libre. \n\n\n\nSource: montreal.ca \n\n\n\nDates et horaires sont sujets à changement sans préavis. Avant de vous déplacer\, vérifier ces informations sur montreal.ca
URL:https://journalmetro.com/evenement/pique-nique-musical/
LOCATION:Bibliothèque du Vieux-Saint-Laurent\, 1380 rue de l'Eglise\, Montréal\, QC\, H4L 2H2\, Canada
CATEGORIES:Communautaire
ATTACH;FMTTYPE=image/jpeg:https://journalmetro.com/wp-content/uploads/2023/06/PiqueNique.jpg
END:VEVENT
BEGIN:VEVENT
DTSTART;TZID=America/Toronto:20230819T101500
DTEND;TZID=America/Toronto:20230819T101500
DTSTAMP:20231018T180239
CREATED:20230628T162211Z
LAST-MODIFIED:20230628T162212Z
UID:10018455-1692440100-1692440100@journalmetro.com
SUMMARY:Brico-contes à la bibliothèque du Vieux-Saint-Laurent
DESCRIPTION:Activité gratuite pour enfants à la bibliothèque du Vieux-Saint-Laurent \n\n\n\nAvec Laïla \n\n\n\nDes histoires\, des comptines et un bricolage amusant pour découvrir le plaisir de la lecture. Un précieux moment parent-enfant pour débuter la fin de semaine. \n\n\n\nPour les enfants de 3 à 6 ans \n\n\n\nPour s’inscrireBilletterie \n\n\n\nSource: montreal.ca \n\n\n\nDates et horaires sont sujets à changement sans préavis. Avant de vous déplacer\, vérifier ces informations sur montreal.ca
URL:https://journalmetro.com/evenement/brico-contes-a-la-bibliotheque-du-vieux-saint-laurent-6/
LOCATION:Bibliothèque du Vieux-Saint-Laurent\, 1380 rue de l'Eglise\, Montréal\, QC\, H4L 2H2\, Canada
ATTACH;FMTTYPE=image/jpeg:https://journalmetro.com/wp-content/uploads/2023/01/brico-contes-2023-2.jpg
END:VEVENT
END:VCALENDAR