BEGIN:VCALENDAR
VERSION:2.0
PRODID:-//Journal Métro - ECPv6.0.13//NONSGML v1.0//EN
CALSCALE:GREGORIAN
METHOD:PUBLISH
X-WR-CALNAME:Journal Métro
X-ORIGINAL-URL:https://journalmetro.com
X-WR-CALDESC:évènements pour Journal Métro
REFRESH-INTERVAL;VALUE=DURATION:PT1H
X-Robots-Tag:noindex
X-PUBLISHED-TTL:PT1H
BEGIN:VTIMEZONE
TZID:America/Toronto
BEGIN:DAYLIGHT
TZOFFSETFROM:-0500
TZOFFSETTO:-0400
TZNAME:EDT
DTSTART:20220313T070000
END:DAYLIGHT
BEGIN:STANDARD
TZOFFSETFROM:-0400
TZOFFSETTO:-0500
TZNAME:EST
DTSTART:20221106T060000
END:STANDARD
BEGIN:DAYLIGHT
TZOFFSETFROM:-0500
TZOFFSETTO:-0400
TZNAME:EDT
DTSTART:20230312T070000
END:DAYLIGHT
BEGIN:STANDARD
TZOFFSETFROM:-0400
TZOFFSETTO:-0500
TZNAME:EST
DTSTART:20231105T060000
END:STANDARD
END:VTIMEZONE
BEGIN:VEVENT
DTSTART;TZID=America/Toronto:20221217T100000
DTEND;TZID=America/Toronto:20221217T120000
DTSTAMP:20231014T063316
CREATED:20221028T203055Z
LAST-MODIFIED:20221028T203058Z
UID:10008490-1671271200-1671278400@journalmetro.com
SUMMARY:Crée ton personnage en pixels (9 à 12 ans)
DESCRIPTION:Cet atelier de Techno Culture Club à la bibliothèque L’Octogone de l’arrondissement LaSalle permettra à vos jeunes de se créer en personnage pixelisé. \n\n\n\nPour les 9-12 ans \n\n\n\nL’activité aura lieu dans l’espace BD \n\n\n\nSource: montreal.ca \n\n\n\nDates et horaires sont sujets à changement sans préavis. Avant de vous déplacer\, vérifier ces informations sur montreal.ca
URL:https://journalmetro.com/evenement/cree-ton-personnage-en-pixels-9-a-12-ans/
LOCATION:Bibliothèque L’Octogone\, 2101 avenue Dollard\, Montréal\, QC\, Canada
ATTACH;FMTTYPE=image/jpeg:https://journalmetro.com/wp-content/uploads/2022/10/pixels-2.jpg
END:VEVENT
BEGIN:VEVENT
DTSTART;TZID=America/Toronto:20230120T180000
DTEND;TZID=America/Toronto:20230120T193000
DTSTAMP:20231014T063316
CREATED:20221221T181812Z
LAST-MODIFIED:20221221T181816Z
UID:10009244-1674237600-1674243000@journalmetro.com
SUMMARY:Soirée jeux vidéo réalité virtuelle
DESCRIPTION:Soirée jeux vidéo destinée aux jeunes de 13 à 17 ans\, afin de leur faire découvrir la réalité virtuelle. \n\n\n\nDes petites collations et d’autres jeux de société seront mis à leur disposition durant l’activité. L’activité se déroulera dans l’espace BD (porte 4). \n\n\n\nSource: montreal.ca \n\n\n\nDates et horaires sont sujets à changement sans préavis. Avant de vous déplacer\, vérifier ces informations sur montreal.ca
URL:https://journalmetro.com/evenement/soiree-jeux-video-realite-virtuelle/
LOCATION:Bibliothèque L’Octogone\, 2101 avenue Dollard\, Montréal\, QC\, Canada
ATTACH;FMTTYPE=image/jpeg:https://journalmetro.com/wp-content/uploads/2022/12/soiree-jeux-video-realite-virtuelle-2.jpg
END:VEVENT
BEGIN:VEVENT
DTSTART;TZID=America/Toronto:20230121T103000
DTEND;TZID=America/Toronto:20230121T103000
DTSTAMP:20231014T063316
CREATED:20221221T182201Z
LAST-MODIFIED:20221221T182203Z
UID:10009245-1674297000-1674297000@journalmetro.com
SUMMARY:Enquêtes et détectives
DESCRIPTION:Activité offerte pour les enfants curieux qui aiment lire des livres mettant en scène des détectives. \n\n\n\nPour le plaisir de mener des enquêtes et de trouver le coupable. Atelier\, jeux et suggestions de lecture pour le bonheur des jeunes âgés de 8 à 13 ans. \n\n\n\nL’activités aura lieu dans l’Espace BD. \n\n\n\nSource: montreal.ca \n\n\n\nDates et horaires sont sujets à changement sans préavis. Avant de vous déplacer\, vérifier ces informations sur montreal.ca
URL:https://journalmetro.com/evenement/enquetes-et-detectives/
LOCATION:Bibliothèque L’Octogone\, 2101 avenue Dollard\, Montréal\, QC\, Canada
ATTACH;FMTTYPE=image/jpeg:https://journalmetro.com/wp-content/uploads/2022/12/enquetes-et-detectives-2.jpg
END:VEVENT
BEGIN:VEVENT
DTSTART;TZID=America/Toronto:20230205T140000
DTEND;TZID=America/Toronto:20230205T140000
DTSTAMP:20231014T063316
CREATED:20230117T185326Z
LAST-MODIFIED:20230117T185329Z
UID:10010050-1675605600-1675605600@journalmetro.com
SUMMARY:Dimanches racontés
DESCRIPTION:Des histoires amusantes\, rigolotes et passionnantes qui plairont aux enfants âgés de 3 à 7 ans. \n\n\n\nLes lectures seront faites par une animatrice de la bibliothèque L’Octogone. \n\n\n\nSource: montreal.ca \n\n\n\nDates et horaires sont sujets à changement sans préavis. Avant de vous déplacer\, vérifier ces informations sur montreal.ca
URL:https://journalmetro.com/evenement/dimanches-racontes/
LOCATION:Bibliothèque L’Octogone\, 2101 avenue Dollard\, Montréal\, QC\, Canada
ATTACH;FMTTYPE=image/jpeg:https://journalmetro.com/wp-content/uploads/2023/01/dimanches-racontes-2.jpg
END:VEVENT
BEGIN:VEVENT
DTSTART;TZID=America/Toronto:20230217T180000
DTEND;TZID=America/Toronto:20230217T193000
DTSTAMP:20231014T063316
CREATED:20230117T195509Z
LAST-MODIFIED:20230226T151450Z
UID:10010051-1676656800-1676662200@journalmetro.com
SUMMARY:La folie des perles
DESCRIPTION:Pour les adeptes de jeux vidéo et de pixel art. Les jeunes de 13-17 ans sont invités à participer à cet atelier amusant sur la réalisation de pixel art avec des perles de fusion. \n\n\n\nC’est le temps de créer un personnage de jeu vidéo ou de BD préféré\, ou toute autre décoration avec des perles colorées. \n\n\n\nSource: montreal.ca \n\n\n\nDates et horaires sont sujets à changement sans préavis. Avant de vous déplacer\, vérifier ces informations sur montreal.ca
URL:https://journalmetro.com/evenement/la-folie-des-perles/
LOCATION:Bibliothèque L’Octogone\, 2101 avenue Dollard\, Montréal\, QC\, Canada
ATTACH;FMTTYPE=image/jpeg:https://journalmetro.com/wp-content/uploads/2023/01/la-folie-des-perles-2.jpg
END:VEVENT
BEGIN:VEVENT
DTSTART;TZID=America/Toronto:20230226T140000
DTEND;TZID=America/Toronto:20230226T140000
DTSTAMP:20231014T063316
CREATED:20230202T194721Z
LAST-MODIFIED:20230226T151250Z
UID:10013606-1677420000-1677420000@journalmetro.com
SUMMARY:Dimanches racontés
DESCRIPTION:Des histoires amusantes\, rigolotes et passionnantes qui plairont aux enfants âgés de 3 à 7 ans. \n\n\n\nLes lectures seront faites par une animatrice de la bibliothèque L’Octogone. \n\n\n\nSource: montreal.ca \n\n\n\nDates et horaires sont sujets à changement sans préavis. Avant de vous déplacer\, vérifier ces informations sur montreal.ca
URL:https://journalmetro.com/evenement/dimanches-racontes-2/
LOCATION:Bibliothèque L’Octogone\, 2101 avenue Dollard\, Montréal\, QC\, Canada
ATTACH;FMTTYPE=image/jpeg:https://journalmetro.com/wp-content/uploads/2023/01/dimanches-racontes-2.jpg
END:VEVENT
END:VCALENDAR