BEGIN:VCALENDAR
VERSION:2.0
PRODID:-//Journal Métro - ECPv6.0.13//NONSGML v1.0//EN
CALSCALE:GREGORIAN
METHOD:PUBLISH
X-WR-CALNAME:Journal Métro
X-ORIGINAL-URL:https://journalmetro.com
X-WR-CALDESC:évènements pour Journal Métro
REFRESH-INTERVAL;VALUE=DURATION:PT1H
X-Robots-Tag:noindex
X-PUBLISHED-TTL:PT1H
BEGIN:VTIMEZONE
TZID:America/Toronto
BEGIN:DAYLIGHT
TZOFFSETFROM:-0500
TZOFFSETTO:-0400
TZNAME:EDT
DTSTART:20230312T070000
END:DAYLIGHT
BEGIN:STANDARD
TZOFFSETFROM:-0400
TZOFFSETTO:-0500
TZNAME:EST
DTSTART:20231105T060000
END:STANDARD
END:VTIMEZONE
BEGIN:VEVENT
DTSTART;TZID=America/Toronto:20230708T133000
DTEND;TZID=America/Toronto:20230708T133000
DTSTAMP:20231016T163617
CREATED:20230623T211119Z
LAST-MODIFIED:20230623T211738Z
UID:10018278-1688823000-1688823000@journalmetro.com
SUMMARY:Rencontre d’autrice : Caroline Dawson
DESCRIPTION:Pour les adultes. \n\n\n\nEn collaboration avec l’union des écrivaines et des écrivains québécois\, UNEQ. \n\n\n\nLa bibliothèque Mercier reçoit Caroline Dawson\, l’autrice du roman Là où je me terre\, lauréate du Prix littéraire des collégiens 2022 et finaliste du Prix des libraires du Québec en 2021. \n\n\n\nSon dernier livre\, le recueil de poèmes Ce qui est tu\, est paru en février dernier. \n\n\n\nSource: montreal.ca \n\n\n\nDates et horaires sont sujets à changement sans préavis. Avant de vous déplacer\, vérifier ces informations sur montreal.ca
URL:https://journalmetro.com/evenement/rencontre-dautrice-caroline-dawson/
LOCATION:Bibliothèque Mercier\, 8105 rue Hochelaga\, Montréal\, QC\, Canada
CATEGORIES:Communautaire
ATTACH;FMTTYPE=image/jpeg:https://journalmetro.com/wp-content/uploads/2023/06/caroline-dawson_1200x600.jpg
END:VEVENT
BEGIN:VEVENT
DTSTART;TZID=America/Toronto:20230717T103000
DTEND;TZID=America/Toronto:20230717T103000
DTSTAMP:20231016T163617
CREATED:20230623T143858Z
LAST-MODIFIED:20230623T143859Z
UID:10018279-1689589800-1689589800@journalmetro.com
SUMMARY:Heure du conte pour les tout-petits
DESCRIPTION:Avec Martine Moreau de Ptits coeurs contes \n\n\n\nPour les 0-2 ans accompagnés d’un parent \n\n\n\nLes moments magiques pour les tout-petits et leurs parents! Histoires amusantes pour nourrir la curiosité de votre bébé et enrichir son imagination. \n\n\n\nSource: montreal.ca \n\n\n\nDates et horaires sont sujets à changement sans préavis. Avant de vous déplacer\, vérifier ces informations sur montreal.ca
URL:https://journalmetro.com/evenement/heure-du-conte-pour-les-tout-petits-2/
LOCATION:Bibliothèque Mercier\, 8105 rue Hochelaga\, Montréal\, QC\, Canada
ATTACH;FMTTYPE=image/jpeg:https://journalmetro.com/wp-content/uploads/2023/06/heure-du-conte-tout-petits_1200x600.jpg
END:VEVENT
BEGIN:VEVENT
DTSTART;TZID=America/Toronto:20230722T103000
DTEND;TZID=America/Toronto:20230722T103000
DTSTAMP:20231016T163617
CREATED:20230623T143813Z
LAST-MODIFIED:20230623T143815Z
UID:10018282-1690021800-1690021800@journalmetro.com
SUMMARY:Brico du samedi
DESCRIPTION:Activité créative pour les enfants de 3 à 7 ans en compagnie d’un parent \n\n\n\nUne fois par mois\, une séance de bricolage avec une thématique liée à la saison. \n\n\n\nSource: montreal.ca \n\n\n\nDates et horaires sont sujets à changement sans préavis. Avant de vous déplacer\, vérifier ces informations sur montreal.ca
URL:https://journalmetro.com/evenement/brico-du-samedi-6/
LOCATION:Bibliothèque Mercier\, 8105 rue Hochelaga\, Montréal\, QC\, Canada
ATTACH;FMTTYPE=image/jpeg:https://journalmetro.com/wp-content/uploads/2023/06/brico-du-samedi_1200x600.jpg
END:VEVENT
BEGIN:VEVENT
DTSTART;TZID=America/Toronto:20230723T103000
DTEND;TZID=America/Toronto:20230723T113000
DTSTAMP:20231016T163617
CREATED:20230509T153439Z
LAST-MODIFIED:20230509T153441Z
UID:10017482-1690108200-1690111800@journalmetro.com
SUMMARY:Jardinage 101 : En attendant les récoltes du jardin\, je cultive à l’intérieur
DESCRIPTION:Atelier sur les micropousses et germinations \n\n\n\nToutes les étapes pour savoir comment en faire. Le matériel sera fourni pendant l’atelier. \n\n\n\nLa période d’inscription débute un mois avant la date de l’activité. \n\n\n\nEn partenariat avec l’Éco-quartier Mercier-Hochelaga-Maisonneuve \n\n\n\nSource: montreal.ca \n\n\n\nDates et horaires sont sujets à changement sans préavis. Avant de vous déplacer\, vérifier ces informations sur montreal.ca
URL:https://journalmetro.com/evenement/jardinage-101-en-attendant-les-recoltes-du-jardin-je-cultive-a-linterieur/
LOCATION:Bibliothèque Mercier\, 8105 rue Hochelaga\, Montréal\, QC\, Canada
ATTACH;FMTTYPE=image/jpeg:https://journalmetro.com/wp-content/uploads/2023/05/jardinage-101-2.jpg
END:VEVENT
BEGIN:VEVENT
DTSTART;TZID=America/Toronto:20230730T103000
DTEND;TZID=America/Toronto:20230730T103000
DTSTAMP:20231016T163617
CREATED:20230621T191706Z
LAST-MODIFIED:20230621T191708Z
UID:10018285-1690713000-1690713000@journalmetro.com
SUMMARY:Aquarelle botanique
DESCRIPTION:Ateliers d’aquarelle pour les adultes. \n\n\n\nCet atelier se concentrera en particulier sur la création de portraits réalistes de fleurs à partir du dessin d’observation de photos ou de vraies plantes. \n\n\n\nL’objectif est de passer un moment de détente ensemble\, tout en partageant des techniques de dessin et/ou de peinture à l’aquarelle. \n\n\n\nOuvert à tous\, débutants comme confirmés. \n\n\n\nSource: montreal.ca \n\n\n\nDates et horaires sont sujets à changement sans préavis. Avant de vous déplacer\, vérifier ces informations sur montreal.ca
URL:https://journalmetro.com/evenement/aquarelle-botanique/
LOCATION:Bibliothèque Mercier\, 8105 rue Hochelaga\, Montréal\, QC\, Canada
ATTACH;FMTTYPE=image/jpeg:https://journalmetro.com/wp-content/uploads/2023/06/aquarelle-botanique-22-2.jpg
END:VEVENT
BEGIN:VEVENT
DTSTART;TZID=America/Toronto:20230805T103000
DTEND;TZID=America/Toronto:20230805T103000
DTSTAMP:20231016T163617
CREATED:20230801T175401Z
LAST-MODIFIED:20230801T175403Z
UID:10019292-1691231400-1691231400@journalmetro.com
SUMMARY:Vive la rentrée à la maternelle!
DESCRIPTION:Avec ptits coeurs contes. \n\n\n\nHeure du conte pour les enfants qui entrent à la maternelle. \n\n\n\nVenez participer en famille à une heure de conte à la fois interactive\, bizarre et comique. Lors de cette heure du conte parent-enfant\, vos enfants vont découvrir des livres et un décor surprenant. Le tout sera suivi du bricolage d’une école comique et attachante. \n\n\n\nSource: montreal.ca \n\n\n\nDates et horaires sont sujets à changement sans préavis. Avant de vous déplacer\, vérifier ces informations sur montreal.ca
URL:https://journalmetro.com/evenement/vive-la-rentree-a-la-maternelle/
LOCATION:Bibliothèque Mercier\, 8105 rue Hochelaga\, Montréal\, QC\, Canada
ATTACH;FMTTYPE=image/jpeg:https://journalmetro.com/wp-content/uploads/2023/08/vive-la-rentree-2.jpg
END:VEVENT
BEGIN:VEVENT
DTSTART;TZID=America/Toronto:20230813T103000
DTEND;TZID=America/Toronto:20230813T103000
DTSTAMP:20231016T163617
CREATED:20230807T174416Z
LAST-MODIFIED:20230807T174418Z
UID:10019475-1691922600-1691922600@journalmetro.com
SUMMARY:Colle\, papier\, ciseaux
DESCRIPTION:Atelier de bricolage pour les enfants de 8 à 12 ans \n\n\n\nUn moment agréable pour créer de beaux bricolages et apprendre de nouvelles techniques de travail avec le papier. \n\n\n\nSource: montreal.ca \n\n\n\nDates et horaires sont sujets à changement sans préavis. Avant de vous déplacer\, vérifier ces informations sur montreal.ca
URL:https://journalmetro.com/evenement/colle-papier-ciseaux/
LOCATION:Bibliothèque Mercier\, 8105 rue Hochelaga\, Montréal\, QC\, Canada
ATTACH;FMTTYPE=image/jpeg:https://journalmetro.com/wp-content/uploads/2023/08/colle-papier-ciseaux-2.jpg
END:VEVENT
BEGIN:VEVENT
DTSTART;TZID=America/Toronto:20230814T103000
DTEND;TZID=America/Toronto:20230814T103000
DTSTAMP:20231016T163617
CREATED:20230628T161912Z
LAST-MODIFIED:20230628T161914Z
UID:10018423-1692009000-1692009000@journalmetro.com
SUMMARY:Heure du conte pour les tout-petits
DESCRIPTION:Avec Martine Moreau de Ptits coeurs contes \n\n\n\nPour les 0-2 ans accompagnés d’un parent \n\n\n\nLes moments magiques pour les tout-petits et leurs parents! Histoires amusantes pour nourrir la curiosité de votre bébé et enrichir son imagination. \n\n\n\nSource: montreal.ca \n\n\n\nDates et horaires sont sujets à changement sans préavis. Avant de vous déplacer\, vérifier ces informations sur montreal.ca
URL:https://journalmetro.com/evenement/heure-du-conte-pour-les-tout-petits-3/
LOCATION:Bibliothèque Mercier\, 8105 rue Hochelaga\, Montréal\, QC\, Canada
ATTACH;FMTTYPE=image/jpeg:https://journalmetro.com/wp-content/uploads/2023/06/heure-du-conte.jpg
END:VEVENT
BEGIN:VEVENT
DTSTART;TZID=America/Toronto:20230819T140000
DTEND;TZID=America/Toronto:20230819T140000
DTSTAMP:20231016T163617
CREATED:20230627T185740Z
LAST-MODIFIED:20230627T185742Z
UID:10018424-1692453600-1692453600@journalmetro.com
SUMMARY:Brico du samedi
DESCRIPTION:L’activité créative pour les enfants de 3 à 7 ans en compagnie d’un parent \n\n\n\nUne fois par mois\, une séance de bricolage avec une thématique liée à la saison. \n\n\n\nSource: montreal.ca \n\n\n\nDates et horaires sont sujets à changement sans préavis. Avant de vous déplacer\, vérifier ces informations sur montreal.ca
URL:https://journalmetro.com/evenement/brico-du-samedi-7/
LOCATION:Bibliothèque Mercier\, 8105 rue Hochelaga\, Montréal\, QC\, Canada
ATTACH;FMTTYPE=image/jpeg:https://journalmetro.com/wp-content/uploads/2023/06/brico-du-samedi-2.jpg
END:VEVENT
BEGIN:VEVENT
DTSTART;TZID=America/Toronto:20230820T103000
DTEND;TZID=America/Toronto:20230820T103000
DTSTAMP:20231016T163617
CREATED:20230627T190140Z
LAST-MODIFIED:20230627T190142Z
UID:10018425-1692527400-1692527400@journalmetro.com
SUMMARY:Aquarelle botanique
DESCRIPTION:Ateliers d’aquarelle pour les adultes. \n\n\n\nCet atelier se concentrera en particulier sur la création de portraits réalistes de fruits à partir du dessin d’observation de photos ou de vraies plantes. \n\n\n\nL’objectif est de passer un moment de détente ensemble\, tout en partageant des techniques de dessin et/ou de peinture à l’aquarelle. \n\n\n\nOuvert à tous\, débutants comme confirmés. \n\n\n\nSource: montreal.ca \n\n\n\nDates et horaires sont sujets à changement sans préavis. Avant de vous déplacer\, vérifier ces informations sur montreal.ca
URL:https://journalmetro.com/evenement/aquarelle-botanique-3/
LOCATION:Bibliothèque Mercier\, 8105 rue Hochelaga\, Montréal\, QC\, Canada
ATTACH;FMTTYPE=image/jpeg:https://journalmetro.com/wp-content/uploads/2023/06/aquarelle-botanique-2-2.jpg
END:VEVENT
BEGIN:VEVENT
DTSTART;TZID=America/Toronto:20230821T103000
DTEND;TZID=America/Toronto:20230821T103000
DTSTAMP:20231016T163617
CREATED:20230808T185828Z
LAST-MODIFIED:20230808T185830Z
UID:10019494-1692613800-1692613800@journalmetro.com
SUMMARY:Les lundis illustrés
DESCRIPTION:Ateliers pour les adolescents de 13 à 17 ans \n\n\n\nCet atelier d’initiation à l’illustration et de bricolage s’articule autour d’un projet de décoration de la section ado de la bibliothèque Mercier\, comprenant en particulier la création d’un mobile collectif à partir de vinyles. Des techniques de dessin\, de peinture et de collage y seront abordées. \n\n\n\nSource: montreal.ca \n\n\n\nDates et horaires sont sujets à changement sans préavis. Avant de vous déplacer\, vérifier ces informations sur montreal.ca
URL:https://journalmetro.com/evenement/les-lundis-illustres/
LOCATION:Bibliothèque Mercier\, 8105 rue Hochelaga\, Montréal\, QC\, Canada
ATTACH;FMTTYPE=image/jpeg:https://journalmetro.com/wp-content/uploads/2023/08/lundis-illustres-2.jpg
END:VEVENT
END:VCALENDAR