BEGIN:VCALENDAR
VERSION:2.0
PRODID:-//Journal Métro - ECPv6.0.13//NONSGML v1.0//EN
CALSCALE:GREGORIAN
METHOD:PUBLISH
X-WR-CALNAME:Journal Métro
X-ORIGINAL-URL:https://journalmetro.com
X-WR-CALDESC:évènements pour Journal Métro
REFRESH-INTERVAL;VALUE=DURATION:PT1H
X-Robots-Tag:noindex
X-PUBLISHED-TTL:PT1H
BEGIN:VTIMEZONE
TZID:America/Toronto
BEGIN:DAYLIGHT
TZOFFSETFROM:-0500
TZOFFSETTO:-0400
TZNAME:EDT
DTSTART:20230312T070000
END:DAYLIGHT
BEGIN:STANDARD
TZOFFSETFROM:-0400
TZOFFSETTO:-0500
TZNAME:EST
DTSTART:20231105T060000
END:STANDARD
END:VTIMEZONE
BEGIN:VEVENT
DTSTART;TZID=America/Toronto:20230902T103000
DTEND;TZID=America/Toronto:20230902T113000
DTSTAMP:20231016T174719
CREATED:20230810T195304Z
LAST-MODIFIED:20230810T195306Z
UID:10019560-1693650600-1693654200@journalmetro.com
SUMMARY:Heure du conte : éveil à la lecture (0 à 2 ans)
DESCRIPTION:Lors de ces ateliers\, la talentueuse Édith Grosse raconte des histoires aux tout(es)-petit(e)s\, chante des comptines et encourage la relation entre livre et bébé. \n\n\n\nUne belle expérience assurée pour les parents et les enfants! \n\n\n\nInscription obligatoire. \n\n\n\nPour s’inscrireInscription obligatoire (à partir du 22 août)Billetterie514 872-2142 \n\n\n\nSource: montreal.ca \n\n\n\nDates et horaires sont sujets à changement sans préavis. Avant de vous déplacer\, vérifier ces informations sur montreal.ca
URL:https://journalmetro.com/evenement/heure-du-conte-eveil-a-la-lecture-0-a-2-ans/
LOCATION:Bibliothèque Mordecai-Richler\, 5434 avenue du Parc\, Montréal\, QC\, Canada
CATEGORIES:Communautaire
ATTACH;FMTTYPE=image/jpeg:https://journalmetro.com/wp-content/uploads/2023/08/tziwrcprrlpmndxkgpiw-Cropped.jpg
END:VEVENT
BEGIN:VEVENT
DTSTART;TZID=America/Toronto:20230908T140000
DTEND;TZID=America/Toronto:20230908T160000
DTSTAMP:20231016T174719
CREATED:20230811T144702Z
LAST-MODIFIED:20230811T144704Z
UID:10019594-1694181600-1694188800@journalmetro.com
SUMMARY:Club de lecture de la bibliothèque Mordecai-Richler
DESCRIPTION:Les membres du club de lecture se rencontrent mensuellement pour discuter de plusieurs livres regroupés autour d’une thématique choisie. \n\n\n\nL’inscription est obligatoire. \n\n\n\nThématique du 9 juin 2023 : Marie N’Diaye. \n\n\n\nPour s’inscrireInscription recommandée (à partir du 25 juillet)Billetterie514 872-2141 \n\n\n\nSource: montreal.ca \n\n\n\nDates et horaires sont sujets à changement sans préavis. Avant de vous déplacer\, vérifier ces informations sur montreal.ca
URL:https://journalmetro.com/evenement/club-de-lecture-de-la-bibliotheque-mordecai-richler-4/2023-09-08/
LOCATION:Bibliothèque Mordecai-Richler\, 5434 avenue du Parc\, Montréal\, QC\, Canada
CATEGORIES:Communautaire
ATTACH;FMTTYPE=image/jpeg:https://journalmetro.com/wp-content/uploads/2023/08/dz5anatozl87anuypoyt.jpeg
END:VEVENT
END:VCALENDAR