BEGIN:VCALENDAR
VERSION:2.0
PRODID:-//Journal Métro - ECPv6.0.13//NONSGML v1.0//EN
CALSCALE:GREGORIAN
METHOD:PUBLISH
X-WR-CALNAME:Journal Métro
X-ORIGINAL-URL:https://journalmetro.com
X-WR-CALDESC:évènements pour Journal Métro
REFRESH-INTERVAL;VALUE=DURATION:PT1H
X-Robots-Tag:noindex
X-PUBLISHED-TTL:PT1H
BEGIN:VTIMEZONE
TZID:America/Toronto
BEGIN:DAYLIGHT
TZOFFSETFROM:-0500
TZOFFSETTO:-0400
TZNAME:EDT
DTSTART:20230312T070000
END:DAYLIGHT
BEGIN:STANDARD
TZOFFSETFROM:-0400
TZOFFSETTO:-0500
TZNAME:EST
DTSTART:20231105T060000
END:STANDARD
END:VTIMEZONE
BEGIN:VEVENT
DTSTART;TZID=America/Toronto:20230128T103000
DTEND;TZID=America/Toronto:20230527T113000
DTSTAMP:20231016T114127
CREATED:20230103T173718Z
LAST-MODIFIED:20230321T194846Z
UID:10009350-1674901800-1685187000@journalmetro.com
SUMMARY:Contes en musique
DESCRIPTION:Activité pour les enfants âgés de 3 ans et plus. \n\n\n\nEmmenez vos enfants se laisser bercer par les mots et les histoires de Mathieu Gaudreault\, qui les invitera à participer à la sonorisation des contes et à mimer certaines actions. Du violon\, des chansons\, des pieds qui tapent le sol\, des comptines et des danses pour les petites jambes seront au rendez-vous! \n\n\n\nSource: montreal.ca \n\n\n\nDates et horaires sont sujets à changement sans préavis. Avant de vous déplacer\, vérifier ces informations sur montreal.ca
URL:https://journalmetro.com/evenement/contes-en-musique/
LOCATION:Bibliothèque Serge Bouchard (Pointe-aux-Trembles)\, 14001 rue Notre-Dame Est\, Montréal\, Canada
ATTACH;FMTTYPE=image/jpeg:https://journalmetro.com/wp-content/uploads/2023/01/contes-en-musique-2023-2.jpg
END:VEVENT
BEGIN:VEVENT
DTSTART;TZID=America/Toronto:20230204T103000
DTEND;TZID=America/Toronto:20230603T113000
DTSTAMP:20231016T114127
CREATED:20230123T203100Z
LAST-MODIFIED:20230406T184729Z
UID:10012773-1675506600-1685791800@journalmetro.com
SUMMARY:Bébés bougeotte
DESCRIPTION:Activité pour les enfants âgés de 0 à 36 mois. \n\n\n\nAvec des histoires\, des comptines\, des sons\, des chansons et du mouvement\, tous les sens de vos bébés seront sollicités! \n\n\n\nSource: montreal.ca \n\n\n\nDates et horaires sont sujets à changement sans préavis. Avant de vous déplacer\, vérifier ces informations sur montreal.ca
URL:https://journalmetro.com/evenement/bebes-bougeotte/
LOCATION:Bibliothèque Serge Bouchard (Pointe-aux-Trembles)\, 14001 rue Notre-Dame Est\, Montréal\, Canada
ATTACH;FMTTYPE=image/jpeg:https://journalmetro.com/wp-content/uploads/2022/08/BebesBougeotte.jpg
END:VEVENT
BEGIN:VEVENT
DTSTART;TZID=America/Toronto:20230506T140000
DTEND;TZID=America/Toronto:20230506T150000
DTSTAMP:20231016T114127
CREATED:20230327T165748Z
LAST-MODIFIED:20230327T165750Z
UID:10016711-1683381600-1683385200@journalmetro.com
SUMMARY:Japon – empire du soleil levant : arts plastiques
DESCRIPTION:Découvre le monde par l’art  \n\n\n\nLe Japon est un pays de 125 millions d’habitants\, composé de 6852 îles. Embarque avec nous à la découverte de ce pays fantastique et mystique en réalisant un koi nobori\, de jolies banderoles de carpes en papier que tu pourras laisser flotter au vent. \n\n\n\nDès 5 ans \n\n\n\nSource: montreal.ca \n\n\n\nDates et horaires sont sujets à changement sans préavis. Avant de vous déplacer\, vérifier ces informations sur montreal.ca
URL:https://journalmetro.com/evenement/japon-empire-du-soleil-levant-arts-plastiques/
LOCATION:Bibliothèque Serge Bouchard (Pointe-aux-Trembles)\, 14001 rue Notre-Dame Est\, Montréal\, Canada
CATEGORIES:Communautaire
ATTACH;FMTTYPE=image/jpeg:https://journalmetro.com/wp-content/uploads/2023/03/japon_1200x600.jpg
END:VEVENT
BEGIN:VEVENT
DTSTART;TZID=America/Toronto:20230507T140000
DTEND;TZID=America/Toronto:20230507T150000
DTSTAMP:20231016T114128
CREATED:20230327T173303Z
LAST-MODIFIED:20230327T173305Z
UID:10016753-1683468000-1683471600@journalmetro.com
SUMMARY:Autocollants mangas : crée-les et colle-les !
DESCRIPTION:Laisse ta trace où tu veux ! \n\n\n\nCrée des autocollants sur le thème de ton choix ou avec tes personnages mangas préférés en utilisant différentes techniques de dessins et de colorisation\, puis transpose-les sur du papier adapté. Le plus difficile sera de déterminer l’emplacement où tu le colleras ! \n\n\n\nDès 12 ans \n\n\n\nSource: montreal.ca \n\n\n\nDates et horaires sont sujets à changement sans préavis. Avant de vous déplacer\, vérifier ces informations sur montreal.ca
URL:https://journalmetro.com/evenement/autocollants-mangas-cree-les-et-colle-les/
LOCATION:Bibliothèque Serge Bouchard (Pointe-aux-Trembles)\, 14001 rue Notre-Dame Est\, Montréal\, Canada
ATTACH;FMTTYPE=image/jpeg:https://journalmetro.com/wp-content/uploads/2023/03/autocollants-manga_1200x600.jpg
END:VEVENT
BEGIN:VEVENT
DTSTART;TZID=America/Toronto:20230610T140000
DTEND;TZID=America/Toronto:20230610T150000
DTSTAMP:20231016T114128
CREATED:20230411T190538Z
LAST-MODIFIED:20230411T190539Z
UID:10017186-1686405600-1686409200@journalmetro.com
SUMMARY:La glu galactique : la science de la slime avec Les Débrouillards
DESCRIPTION:La science des Débrouillards. \n\n\n\nT’es-tu déjà demandé comment faire de la bave d’extraterrestre ? Ou du moins\, celle qu’on voit dans les films ? Nous\, oui. Et on en a découvert la recette ! Une façon ludique d’explorer les polymères et les caractéristiques. \n\n\n\nDès 4 ans. \n\n\n\nSource: montreal.ca \n\n\n\nDates et horaires sont sujets à changement sans préavis. Avant de vous déplacer\, vérifier ces informations sur montreal.ca
URL:https://journalmetro.com/evenement/la-glu-galactique-la-science-de-la-slime-avec-les-debrouillards/
LOCATION:Bibliothèque Serge Bouchard (Pointe-aux-Trembles)\, 14001 rue Notre-Dame Est\, Montréal\, Canada
ATTACH;FMTTYPE=image/jpeg:https://journalmetro.com/wp-content/uploads/2023/04/glu-galactique-2.jpg
END:VEVENT
BEGIN:VEVENT
DTSTART;TZID=America/Toronto:20230618T120000
DTEND;TZID=America/Toronto:20230820T170000
DTSTAMP:20231016T114128
CREATED:20230607T151642Z
LAST-MODIFIED:20230607T151643Z
UID:10017977-1687089600-1692550800@journalmetro.com
SUMMARY:CLUB DE LECTURE D’ÉTÉ TD 2023 : Plus tu lis\, plus tu as de chances de gagner !
DESCRIPTION:Inscris-toi Club de lecture d’été TD 2023 ! Tu peux lire tes livres coups de cœur\, découvrir de nouveaux genres littéraires et participer à une foule d’activités divertissantes et stimulantes ! \n\n\n\nTout l’été\, les jeunes sont invités à prendre part au Club de lecture estival dans les deux bibliothèques de l’arrondissement ! C’est sous le thème de la curiosité qu’ils partiront à la découverte du monde merveilleux des livres. Chaque enfant inscrit au Club de lecture recevra un livret d’activités et un carnet de lecteur où il pourra consigner tous les livres qu’il lira durant la belle saison et courir la chance de gagner de nombreux prix. Les bibliothécaires ont également planifié une foule d’activités sur le thème du club de lecture. À vos marques\, prêts\, lisez ! \n\n\n\n0 à 13 ans \n\n\n\nSource: montreal.ca \n\n\n\nDates et horaires sont sujets à changement sans préavis. Avant de vous déplacer\, vérifier ces informations sur montreal.ca
URL:https://journalmetro.com/evenement/club-de-lecture-dete-td-2023-plus-tu-lis-plus-tu-as-de-chances-de-gagner-3/
LOCATION:Bibliothèque Serge Bouchard (Pointe-aux-Trembles)\, 14001 rue Notre-Dame Est\, Montréal\, Canada
ATTACH;FMTTYPE=image/jpeg:https://journalmetro.com/wp-content/uploads/2023/06/td-st-henri-2.jpg
END:VEVENT
BEGIN:VEVENT
DTSTART;TZID=America/Toronto:20230618T120000
DTEND;TZID=America/Toronto:20230820T170000
DTSTAMP:20231016T114128
CREATED:20230512T152629Z
LAST-MODIFIED:20230512T152631Z
UID:10017537-1687089600-1692550800@journalmetro.com
SUMMARY:La quête du billet d'or : Biblio-aventure
DESCRIPTION:À jouer tout l’été ! \n\n\n\nViens à la bibliothèque participer à une nouvelle chasse au trésor. Résous des énigmes et retrouve le mystérieux billet d’or ! Durant tout l’été\, du dimanche 18 juin au dimanche 20 août. \n\n\n\nDès 7 ans \n\n\n\nSource: montreal.ca \n\n\n\nDates et horaires sont sujets à changement sans préavis. Avant de vous déplacer\, vérifier ces informations sur montreal.ca
URL:https://journalmetro.com/evenement/la-quete-du-billet-dor-biblio-aventure/
LOCATION:Bibliothèque Serge Bouchard (Pointe-aux-Trembles)\, 14001 rue Notre-Dame Est\, Montréal\, Canada
ATTACH;FMTTYPE=image/jpeg:https://journalmetro.com/wp-content/uploads/2023/05/billet-dor-2.jpg
END:VEVENT
BEGIN:VEVENT
DTSTART;TZID=America/Toronto:20230618T130000
DTEND;TZID=America/Toronto:20230618T143000
DTSTAMP:20231016T114128
CREATED:20230516T141420Z
LAST-MODIFIED:20230517T143017Z
UID:10017584-1687093200-1687098600@journalmetro.com
SUMMARY:Chasse au trésor techno
DESCRIPTION:Joue à l’explorateur avec ta propre boussole ! \n\n\n\nAventure-toi dans une chasse au trésor techno au cours de laquelle tu te procureras les différents éléments qui te permettront d’assembler ta propre boussole ! Une activité amusante qui te fera découvrir des objets simples mais extraordinaires\, mystérieux et énigmatiques ! \n\n\n\nDe 4 à 12 ans \n\n\n\nSource: montreal.ca \n\n\n\nDates et horaires sont sujets à changement sans préavis. Avant de vous déplacer\, vérifier ces informations sur montreal.ca
URL:https://journalmetro.com/evenement/chasse-au-tresor-techno/
LOCATION:Bibliothèque Serge Bouchard (Pointe-aux-Trembles)\, 14001 rue Notre-Dame Est\, Montréal\, Canada
ATTACH;FMTTYPE=image/jpeg:https://journalmetro.com/wp-content/uploads/2023/05/chasse-au-tresor-techno_1200x600.jpg
END:VEVENT
BEGIN:VEVENT
DTSTART;TZID=America/Toronto:20230805T130000
DTEND;TZID=America/Toronto:20230805T143000
DTSTAMP:20231016T114128
CREATED:20230801T185448Z
LAST-MODIFIED:20230801T185449Z
UID:10019299-1691240400-1691245800@journalmetro.com
SUMMARY:Récolte de semences
DESCRIPTION:Un atelier-conférence sur les méthodes de récoltes de semences ! \n\n\n\nComment récolter les semences produites par nos plantes potagères et les garder pour l’année suivante ? Pendant cette activité\, découvrez les différentes techniques de récolte selon les différents types de semences. Lorsque bien faite\, la récolte vous permet de devenir autonome dans votre production de fruits et légumes\, en plus de contribuer à l’économie circulaire et au partage citoyen ! \n\n\n\nSource: montreal.ca \n\n\n\nDates et horaires sont sujets à changement sans préavis. Avant de vous déplacer\, vérifier ces informations sur montreal.ca
URL:https://journalmetro.com/evenement/recolte-de-semences-4/
LOCATION:Bibliothèque Serge Bouchard (Pointe-aux-Trembles)\, 14001 rue Notre-Dame Est\, Montréal\, Canada
ATTACH;FMTTYPE=image/jpeg:https://journalmetro.com/wp-content/uploads/2023/06/recolte-de-semences-2.jpg
END:VEVENT
END:VCALENDAR