BEGIN:VCALENDAR
VERSION:2.0
PRODID:-//Journal Métro - ECPv6.0.13//NONSGML v1.0//EN
CALSCALE:GREGORIAN
METHOD:PUBLISH
X-WR-CALNAME:Journal Métro
X-ORIGINAL-URL:https://journalmetro.com
X-WR-CALDESC:évènements pour Journal Métro
REFRESH-INTERVAL;VALUE=DURATION:PT1H
X-Robots-Tag:noindex
X-PUBLISHED-TTL:PT1H
BEGIN:VTIMEZONE
TZID:America/Toronto
BEGIN:DAYLIGHT
TZOFFSETFROM:-0500
TZOFFSETTO:-0400
TZNAME:EDT
DTSTART:20230312T070000
END:DAYLIGHT
BEGIN:STANDARD
TZOFFSETFROM:-0400
TZOFFSETTO:-0500
TZNAME:EST
DTSTART:20231105T060000
END:STANDARD
END:VTIMEZONE
BEGIN:VEVENT
DTSTART;TZID=America/Toronto:20230610T190000
DTEND;TZID=America/Toronto:20230610T190000
DTSTAMP:20231018T161553
CREATED:20230526T172416Z
LAST-MODIFIED:20230526T172418Z
UID:10017726-1686423600-1686423600@journalmetro.com
SUMMARY:Arbracadabra
DESCRIPTION:La compagnie de théâtre de rue Toxique Trottoir débute une tournée de 7 dates dans les parcs de Hochelaga\, Rosemont et Le Plateau avec son spectacle Arbracadabra. Cette création familiale et humoristique théâtrale avec marionnettes et art du cirque nous plonge dans l’univers de la vie des arbres. \n\n\n\nArbracadabra a pour objectif de nous mettre en lien avec la nature et célébrer les arbres. Entre fiction et faits avérés\, la création veut nourrir le public d’un lien tangible et sensible avec ces grands compagnons qui permettent la vie. En laissant les arbres se raconter\, Toxique Trottoir souhaite plus que jamais être porteur de sens et répondre artistiquement aux préoccupations contemporaines tout en conservant un langage accessible à tous. La création amène les citadins à la redécouverte des parcs et boisés de leur ville. Une aventure qui fait le plein d’oxygène et qui laissera des petits bourgeons ! \n\n\n\nÀ PROPOS DE TOXIQUE TROTTOIR : https://toxique.caToxique Trottoir\, compagnie de théâtre de rue a pour mandat de créer des projets artistiques en espace public qui participent au développement d’une société plus solidaire. Toxique Trottoir crée des spectacles pour tous\, pour une mixité sociale\, interculturelle et intergénérationnelle\, tel le public cosmopolite de nos villes. Animées par cette conviction que le social et l’artistique peuvent se côtoyer dans des projets exceptionnels\, ses créations sont des invitations festives autour d’enjeux contemporains.
URL:https://journalmetro.com/evenement/arbracadabra-4/
LOCATION:Boisé Steinberg\, À l'ouest du 5600 rue Hochelaga\, Montréal\, QC\, Canada
CATEGORIES:Communautaire
ATTACH;FMTTYPE=image/jpeg:https://journalmetro.com/wp-content/uploads/2023/05/arbracadabra-2.jpg
END:VEVENT
END:VCALENDAR