BEGIN:VCALENDAR
VERSION:2.0
PRODID:-//Journal Métro - ECPv6.0.13//NONSGML v1.0//EN
CALSCALE:GREGORIAN
METHOD:PUBLISH
X-WR-CALNAME:Journal Métro
X-ORIGINAL-URL:https://journalmetro.com
X-WR-CALDESC:évènements pour Journal Métro
REFRESH-INTERVAL;VALUE=DURATION:PT1H
X-Robots-Tag:noindex
X-PUBLISHED-TTL:PT1H
BEGIN:VTIMEZONE
TZID:America/Toronto
BEGIN:DAYLIGHT
TZOFFSETFROM:-0500
TZOFFSETTO:-0400
TZNAME:EDT
DTSTART:20220313T070000
END:DAYLIGHT
BEGIN:STANDARD
TZOFFSETFROM:-0400
TZOFFSETTO:-0500
TZNAME:EST
DTSTART:20221106T060000
END:STANDARD
BEGIN:DAYLIGHT
TZOFFSETFROM:-0500
TZOFFSETTO:-0400
TZNAME:EDT
DTSTART:20230312T070000
END:DAYLIGHT
BEGIN:STANDARD
TZOFFSETFROM:-0400
TZOFFSETTO:-0500
TZNAME:EST
DTSTART:20231105T060000
END:STANDARD
END:VTIMEZONE
BEGIN:VEVENT
DTSTART;TZID=America/Toronto:20221006T190000
DTEND;TZID=America/Toronto:20221006T230000
DTSTAMP:20231016T155514
CREATED:20220930T124841Z
LAST-MODIFIED:20230223T183739Z
UID:10007658-1665082800-1665097200@journalmetro.com
SUMMARY:Conseil d'arrondissement de CDN–NDG - Octobre 2022
DESCRIPTION:Participez à la vie démocratique et profitez des conseils d’arrondissement pour attirer l’attention des élus sur les sujets qui vous préoccupent! \n\n\n\nLa séance du conseil d’arrondissement de Côte-des-Neiges–Notre-Dame-de-Grâce a lieu en personne à 19 h.  \n\n\n\nVous pouvez suivre en direct la séance du conseil grâce à la webdiffusion ou la visionner plus tard sur notre page YouTube.  \n\n\n\nConsultez l’ordre du jour. \n\n\n\nPériode de questions : \n\n\n\nUne période de questions est réservée aux citoyens à chaque séance.  \n\n\n\nVous pouvez envoyer dès maintenant votre question en remplissant le formulaire. \n\n\n\nLa mairesse limite à trois (3) interventions le nombre de questions portant sur un même sujet. \n\n\n\nLa mairesse ou son remplaçant invite\, selon l’ordre de tirage au sort\, et en alternant entre un homme et une femme\, chaque personne inscrite à poser sa question ou à faire sa demande.  Une personne ainsi invitée peut poser un maximum de deux (2) questions. \n\n\n\nSource: montreal.ca \n\n\n\nDates et horaires sont sujets à changement sans préavis. Avant de vous déplacer\, vérifier ces informations sur montreal.ca
URL:https://journalmetro.com/evenement/conseil-darrondissement-de-cdn-ndg-octobre-2022/
LOCATION:Bureau Accès Montréal – Côte-des-Neiges-Notre-Dame-de-Grâce\, 5160 boulevard Décarie\, Montréal\, QC\, Canada
ATTACH;FMTTYPE=image/jpeg:https://journalmetro.com/wp-content/uploads/2022/09/seance-conseil-cdn-ndg-2.jpg
END:VEVENT
BEGIN:VEVENT
DTSTART;TZID=America/Toronto:20221107T190000
DTEND;TZID=America/Toronto:20221107T230000
DTSTAMP:20231016T155514
CREATED:20220930T141628Z
LAST-MODIFIED:20230227T152425Z
UID:10007949-1667847600-1667862000@journalmetro.com
SUMMARY:Conseil d'arrondissement de CDN–NDG - Novembre 2022
DESCRIPTION:Participez à la vie démocratique et profitez des conseils d’arrondissement pour attirer l’attention des élus sur les sujets qui vous préoccupent! \n\n\n\nLa séance du conseil d’arrondissement de Côte-des-Neiges–Notre-Dame-de-Grâce a lieu en personne à 19 h.  \n\n\n\nVous pouvez suivre en direct la séance du conseil grâce à la webdiffusion ou la visionner plus tard sur notre page YouTube.  \n\n\n\nConsultez l’ordre du jour. \n\n\n\nPériode de questions : \n\n\n\nUne période de questions est réservée aux citoyens à chaque séance.  \n\n\n\nVous pouvez envoyer dès maintenant votre question en remplissant le formulaire. \n\n\n\nLa mairesse limite à trois (3) interventions le nombre de questions portant sur un même sujet. \n\n\n\nLa mairesse ou son remplaçant invite\, selon l’ordre de tirage au sort\, et en alternant entre un homme et une femme\, chaque personne inscrite à poser sa question ou à faire sa demande.  Une personne ainsi invitée peut poser un maximum de deux (2) questions. \n\n\n\nSource: montreal.ca \n\n\n\nDates et horaires sont sujets à changement sans préavis. Avant de vous déplacer\, vérifier ces informations sur montreal.ca
URL:https://journalmetro.com/evenement/conseil-darrondissement-de-cdn-ndg-novembre-2022/
LOCATION:Bureau Accès Montréal – Côte-des-Neiges-Notre-Dame-de-Grâce\, 5160 boulevard Décarie\, Montréal\, QC\, Canada
ATTACH;FMTTYPE=image/jpeg:https://journalmetro.com/wp-content/uploads/2022/09/seeance-conseil-cdn-ndg-novembre-2.jpg
END:VEVENT
BEGIN:VEVENT
DTSTART;TZID=America/Toronto:20221205T190000
DTEND;TZID=America/Toronto:20221205T230000
DTSTAMP:20231016T155514
CREATED:20221001T144445Z
LAST-MODIFIED:20230227T153545Z
UID:10007977-1670266800-1670281200@journalmetro.com
SUMMARY:Conseil d'arrondissement de CDN–NDG - Décembre 2022
DESCRIPTION:Participez à la vie démocratique et profitez des conseils d’arrondissement pour attirer l’attention des élus sur les sujets qui vous préoccupent! \n\n\n\nLa séance du conseil d’arrondissement de Côte-des-Neiges–Notre-Dame-de-Grâce a lieu en personne à 19 h.  \n\n\n\nVous pouvez suivre en direct la séance du conseil grâce à la webdiffusion ou la visionner plus tard sur notre page YouTube.  \n\n\n\nConsultez l’ordre du jour. \n\n\n\nPériode de questions : \n\n\n\nUne période de questions est réservée aux citoyens à chaque séance.  \n\n\n\nVous pouvez envoyer dès maintenant votre question en remplissant le formulaire. \n\n\n\nLa mairesse limite à trois (3) interventions le nombre de questions portant sur un même sujet. \n\n\n\nLa mairesse ou son remplaçant invite\, selon l’ordre de tirage au sort\, et en alternant entre un homme et une femme\, chaque personne inscrite à poser sa question ou à faire sa demande.  Une personne ainsi invitée peut poser un maximum de deux (2) questions. \n\n\n\nSource: montreal.ca \n\n\n\nDates et horaires sont sujets à changement sans préavis. Avant de vous déplacer\, vérifier ces informations sur montreal.ca
URL:https://journalmetro.com/evenement/conseil-darrondissement-de-cdn-ndg-decembre-2022/
LOCATION:Bureau Accès Montréal – Côte-des-Neiges-Notre-Dame-de-Grâce\, 5160 boulevard Décarie\, Montréal\, QC\, Canada
ATTACH;FMTTYPE=image/jpeg:https://journalmetro.com/wp-content/uploads/2022/09/seance-conseil-cdn-ndg-2.jpg
END:VEVENT
BEGIN:VEVENT
DTSTART;TZID=America/Toronto:20230207T190000
DTEND;TZID=America/Toronto:20230207T230000
DTSTAMP:20231016T155514
CREATED:20221205T205417Z
LAST-MODIFIED:20230223T182441Z
UID:10008973-1675796400-1675810800@journalmetro.com
SUMMARY:Conseil d'arrondissement de CDN–NDG - Février 2023
DESCRIPTION:Participez à la vie démocratique et profitez des conseils d’arrondissement pour attirer l’attention des élus sur les sujets qui vous préoccupent! \n\n\n\nLa séance du conseil d’arrondissement de Côte-des-Neiges–Notre-Dame-de-Grâce a lieu en personne à 19 h.  \n\n\n\nVous pouvez suivre en direct la séance du conseil grâce à la webdiffusion ou la visionner plus tard sur notre page YouTube.  \n\n\n\nConsultez l’ordre du jour. \n\n\n\nPériode de questions : \n\n\n\nUne période de questions est réservée aux citoyens à chaque séance.  \n\n\n\nVous pouvez envoyer dès maintenant votre question en remplissant le formulaire. \n\n\n\nLa mairesse limite à trois (3) interventions le nombre de questions portant sur un même sujet. \n\n\n\nLa mairesse ou son remplaçant invite\, selon l’ordre de tirage au sort\, et en alternant entre un homme et une femme\, chaque personne inscrite à poser sa question ou à faire sa demande.  Une personne ainsi invitée peut poser un maximum de deux (2) questions. \n\n\n\nSource: montreal.ca \n\n\n\nDates et horaires sont sujets à changement sans préavis. Avant de vous déplacer\, vérifier ces informations sur montreal.ca
URL:https://journalmetro.com/evenement/conseil-darrondissement-de-cdn-ndg-fevrier-2023/
LOCATION:Bureau Accès Montréal – Côte-des-Neiges-Notre-Dame-de-Grâce\, 5160 boulevard Décarie\, Montréal\, QC\, Canada
ATTACH;FMTTYPE=image/jpeg:https://journalmetro.com/wp-content/uploads/2022/12/conseil-cdn-2.jpg
END:VEVENT
BEGIN:VEVENT
DTSTART;TZID=America/Toronto:20230308T190000
DTEND;TZID=America/Toronto:20230308T230000
DTSTAMP:20231016T155514
CREATED:20221214T182822Z
LAST-MODIFIED:20230227T145118Z
UID:10009135-1678302000-1678316400@journalmetro.com
SUMMARY:Conseil d'arrondissement de CDN–NDG - Mars 2023
DESCRIPTION:Participez à la vie démocratique et profitez des conseils d’arrondissement pour attirer l’attention des élus sur les sujets qui vous préoccupent! \n\n\n\nLa séance du conseil d’arrondissement de Côte-des-Neiges–Notre-Dame-de-Grâce a lieu en personne à 19 h.  \n\n\n\nVous pouvez suivre en direct la séance du conseil grâce à la webdiffusion ou la visionner plus tard sur notre page YouTube.  \n\n\n\nConsultez l’ordre du jour. \n\n\n\nPériode de questions : \n\n\n\nUne période de questions est réservée aux citoyens à chaque séance.  \n\n\n\nVous pouvez envoyer dès maintenant votre question en remplissant le formulaire. \n\n\n\nLa mairesse limite à trois (3) interventions le nombre de questions portant sur un même sujet. \n\n\n\nLa mairesse ou son remplaçant invite\, selon l’ordre de tirage au sort\, et en alternant entre un homme et une femme\, chaque personne inscrite à poser sa question ou à faire sa demande.  Une personne ainsi invitée peut poser un maximum de deux (2) questions. \n\n\n\nSource: montreal.ca \n\n\n\nDates et horaires sont sujets à changement sans préavis. Avant de vous déplacer\, vérifier ces informations sur montreal.ca
URL:https://journalmetro.com/evenement/conseil-darrondissement-de-cdn-ndg-mars-2023/
LOCATION:Bureau Accès Montréal – Côte-des-Neiges-Notre-Dame-de-Grâce\, 5160 boulevard Décarie\, Montréal\, QC\, Canada
ATTACH;FMTTYPE=image/jpeg:https://journalmetro.com/wp-content/uploads/2022/12/conseil-cdn-ndg-2.jpg
END:VEVENT
BEGIN:VEVENT
DTSTART;TZID=America/Toronto:20230501T190000
DTEND;TZID=America/Toronto:20230501T230000
DTSTAMP:20231016T155514
CREATED:20230323T150151Z
LAST-MODIFIED:20230323T150153Z
UID:10016430-1682967600-1682982000@journalmetro.com
SUMMARY:Conseil d'arrondissement de CDN–NDG - Mai 2023
DESCRIPTION:Participez à la vie démocratique et profitez des conseils d’arrondissement pour attirer l’attention des élus sur les sujets qui vous préoccupent! \n\n\n\nLa séance du conseil d’arrondissement de Côte-des-Neiges–Notre-Dame-de-Grâce a lieu en personne à 19 h.  \n\n\n\nVous pouvez suivre en direct la séance du conseil grâce à la webdiffusion ou la visionner plus tard sur notre page YouTube.  \n\n\n\nNouveau! En décembre 2022\, les membres du conseil ont adopté un nouveau Règlement de régie interne pour le fonctionnement des séances du conseil d’arrondissement. Il est en vigueur et vous pouvez le consulter ici. \n\n\n\nConsultez l’ordre du jour. \n\n\n\nPériode de questions : \n\n\n\nUne période de questions est réservée aux citoyens à chaque séance.  \n\n\n\nVous pouvez envoyer dès maintenant votre question en remplissant le formulaire. \n\n\n\nLa mairesse limite à trois (3) interventions le nombre de questions portant sur un même sujet. \n\n\n\nLa mairesse ou son remplaçant invite\, selon l’ordre de tirage au sort\, et en alternant entre un homme et une femme\, chaque personne inscrite à poser sa question ou à faire sa demande.  Une personne ainsi invitée peut poser un maximum de deux (2) questions. \n\n\n\nSource: montreal.ca \n\n\n\nDates et horaires sont sujets à changement sans préavis. Avant de vous déplacer\, vérifier ces informations sur montreal.ca
URL:https://journalmetro.com/evenement/conseil-darrondissement-de-cdn-ndg-mai-2023/
LOCATION:Bureau Accès Montréal – Côte-des-Neiges-Notre-Dame-de-Grâce\, 5160 boulevard Décarie\, Montréal\, QC\, Canada
ATTACH;FMTTYPE=image/jpeg:https://journalmetro.com/wp-content/uploads/2023/03/conseil-cdn-ndg-mai-2.jpg
END:VEVENT
END:VCALENDAR