BEGIN:VCALENDAR
VERSION:2.0
PRODID:-//Journal Métro - ECPv6.0.13//NONSGML v1.0//EN
CALSCALE:GREGORIAN
METHOD:PUBLISH
X-WR-CALNAME:Journal Métro
X-ORIGINAL-URL:https://journalmetro.com
X-WR-CALDESC:évènements pour Journal Métro
REFRESH-INTERVAL;VALUE=DURATION:PT1H
X-Robots-Tag:noindex
X-PUBLISHED-TTL:PT1H
BEGIN:VTIMEZONE
TZID:America/Toronto
BEGIN:DAYLIGHT
TZOFFSETFROM:-0500
TZOFFSETTO:-0400
TZNAME:EDT
DTSTART:20230312T070000
END:DAYLIGHT
BEGIN:STANDARD
TZOFFSETFROM:-0400
TZOFFSETTO:-0500
TZNAME:EST
DTSTART:20231105T060000
END:STANDARD
END:VTIMEZONE
BEGIN:VEVENT
DTSTART;TZID=America/Toronto:20230221T000000
DTEND;TZID=America/Toronto:20230328T235959
DTSTAMP:20231018T165754
CREATED:20230202T192237Z
LAST-MODIFIED:20230202T192240Z
UID:10013593-1676937600-1680047999@journalmetro.com
SUMMARY:ComediHa! Club en tournée au Casino de Montréal
DESCRIPTION:Contenu Promotionnel \n\n\n\n\n\n\n\nVous aimez les spectacles d’humour gratuits? Nous avons la formule parfaite pour vous : les soirées d’humour du ComediHa! Club en tournée\, présentées par Loto-Québec\, sont de retour tous les mardis du 21 février au 28 mars au Casino de Montréal.  \n\n\n\nCharles Pellerin reçoit chaque semaine des humoristes talentueux de la relève dans une ambiance unique et intime\, typique des stand-up et des comedy clubs américains. Ça va être drôle et c’est gratuit! Réservé aux 18 ans ou plus.  \n\n\n\n\n\n\n\n\nPlus d’information ici\n\n\n\n\n\n\n\n\n\n\n\n\n\n\n\n\n\n\n \n\n\n\n\n\n\n\nPour plus de renseignements\, visitez le casinodemontreal.ca ou leurs médias sociaux! \n\n\n\n\n\n\n\nFacebook\n\nInstagram
URL:https://journalmetro.com/evenement/comediha-club-en-tournee-au-casino-de-montreal-7/
LOCATION:Casino de Montréal\, 1 avenue du Casino\, Montréal\, QC\, H3C 4W7\, Canada
CATEGORIES:Promotionnel
ATTACH;FMTTYPE=image/png:https://journalmetro.com/wp-content/uploads/2023/01/1479_MTL_ComediHa_Natif_1200x627.png
END:VEVENT
BEGIN:VEVENT
DTSTART;TZID=America/Toronto:20230221T000000
DTEND;TZID=America/Toronto:20230328T235959
DTSTAMP:20231018T165754
CREATED:20230202T192019Z
LAST-MODIFIED:20230207T151913Z
UID:10013592-1676937600-1680047999@journalmetro.com
SUMMARY:ComediHa! Club en tournée au Casino de Montréal
DESCRIPTION:Contenu Promotionnel \n\n\n\n\n\n\n\nVous aimez les spectacles d’humour gratuits? Nous avons la formule parfaite pour vous : les soirées d’humour du ComediHa! Club en tournée\, présentées par Loto-Québec\, sont de retour tous les mardis du 21 février au 28 mars au Casino de Montréal.  \n\n\n\nCharles Pellerin reçoit chaque semaine des humoristes talentueux de la relève dans une ambiance unique et intime\, typique des stand-up et des comedy clubs américains. Ça va être drôle et c’est gratuit! Réservé aux 18 ans ou plus.  \n\n\n\n\n\n\n\n\nPlus d’information ici\n\n\n\n\n\n\n\n\n\n\n\n\n\n\n\n\n\n\n \n\n\n\n\n\n\n\nPour plus de renseignements\, visitez le casinodemontreal.ca ou leurs médias sociaux! \n\n\n\n\n\n\n\nFacebook\n\nInstagram
URL:https://journalmetro.com/evenement/comediha-club-en-tournee-au-casino-de-montreal-6/
LOCATION:Casino de Montréal\, 1 avenue du Casino\, Montréal\, QC\, H3C 4W7\, Canada
CATEGORIES:Promotionnel
ATTACH;FMTTYPE=image/png:https://journalmetro.com/wp-content/uploads/2023/01/1479_MTL_ComediHa_Natif_1200x627.png
END:VEVENT
BEGIN:VEVENT
DTSTART;TZID=America/Toronto:20230221T000000
DTEND;TZID=America/Toronto:20230328T235959
DTSTAMP:20231018T165754
CREATED:20230202T191943Z
LAST-MODIFIED:20230202T191946Z
UID:10013591-1676937600-1680047999@journalmetro.com
SUMMARY:ComediHa! Club en tournée au Casino de Montréal
DESCRIPTION:Contenu Promotionnel \n\n\n\n\n\n\n\nVous aimez les spectacles d’humour gratuits? Nous avons la formule parfaite pour vous : les soirées d’humour du ComediHa! Club en tournée\, présentées par Loto-Québec\, sont de retour tous les mardis du 21 février au 28 mars au Casino de Montréal.  \n\n\n\nCharles Pellerin reçoit chaque semaine des humoristes talentueux de la relève dans une ambiance unique et intime\, typique des stand-up et des comedy clubs américains. Ça va être drôle et c’est gratuit! Réservé aux 18 ans ou plus.  \n\n\n\n\n\n\n\n\nPlus d’information ici\n\n\n\n\n\n\n\n\n\n\n\n\n\n\n\n\n\n\n \n\n\n\n\n\n\n\nPour plus de renseignements\, visitez le casinodemontreal.ca ou leurs médias sociaux! \n\n\n\n\n\n\n\nFacebook\n\nInstagram
URL:https://journalmetro.com/evenement/comediha-club-en-tournee-au-casino-de-montreal-5/
LOCATION:Casino de Montréal\, 1 avenue du Casino\, Montréal\, QC\, H3C 4W7\, Canada
CATEGORIES:Promotionnel
ATTACH;FMTTYPE=image/png:https://journalmetro.com/wp-content/uploads/2023/01/1479_MTL_ComediHa_Natif_1200x627.png
END:VEVENT
BEGIN:VEVENT
DTSTART;TZID=America/Toronto:20230221T000000
DTEND;TZID=America/Toronto:20230328T235959
DTSTAMP:20231018T165754
CREATED:20230202T191923Z
LAST-MODIFIED:20230329T144005Z
UID:10013590-1676937600-1680047999@journalmetro.com
SUMMARY:ComediHa! Club en tournée au Casino de Montréal
DESCRIPTION:Contenu Promotionnel \n\n\n\n\n\n\n\nVous aimez les spectacles d’humour gratuits? Nous avons la formule parfaite pour vous : les soirées d’humour du ComediHa! Club en tournée\, présentées par Loto-Québec\, sont de retour tous les mardis du 21 février au 28 mars au Casino de Montréal.  \n\n\n\nCharles Pellerin reçoit chaque semaine des humoristes talentueux de la relève dans une ambiance unique et intime\, typique des stand-up et des comedy clubs américains. Ça va être drôle et c’est gratuit! Réservé aux 18 ans ou plus.  \n\n\n\n\n\n\n\n\nPlus d’information ici\n\n\n\n\n\n\n\n\n\n\n\n\n\n\n\n\n\n\n \n\n\n\n\n\n\n\nPour plus de renseignements\, visitez le casinodemontreal.ca ou leurs médias sociaux! \n\n\n\n\n\n\n\nFacebook\n\nInstagram
URL:https://journalmetro.com/evenement/comediha-club-en-tournee-au-casino-de-montreal-4/
LOCATION:Casino de Montréal\, 1 avenue du Casino\, Montréal\, QC\, H3C 4W7\, Canada
CATEGORIES:Promotionnel
ATTACH;FMTTYPE=image/png:https://journalmetro.com/wp-content/uploads/2023/01/1479_MTL_ComediHa_Natif_1200x627.png
END:VEVENT
BEGIN:VEVENT
DTSTART;TZID=America/Toronto:20230221T000000
DTEND;TZID=America/Toronto:20230328T235959
DTSTAMP:20231018T165754
CREATED:20230202T191900Z
LAST-MODIFIED:20230227T151637Z
UID:10013589-1676937600-1680047999@journalmetro.com
SUMMARY:ComediHa! Club en tournée au Casino de Montréal
DESCRIPTION:Contenu Promotionnel \n\n\n\n\n\n\n\nVous aimez les spectacles d’humour gratuits? Nous avons la formule parfaite pour vous : les soirées d’humour du ComediHa! Club en tournée\, présentées par Loto-Québec\, sont de retour tous les mardis du 21 février au 28 mars au Casino de Montréal.  \n\n\n\nCharles Pellerin reçoit chaque semaine des humoristes talentueux de la relève dans une ambiance unique et intime\, typique des stand-up et des comedy clubs américains. Ça va être drôle et c’est gratuit! Réservé aux 18 ans ou plus.  \n\n\n\n\n\n\n\n\nPlus d’information ici\n\n\n\n\n\n\n\n\n\n\n\n\n\n\n\n\n\n\n \n\n\n\n\n\n\n\nPour plus de renseignements\, visitez le casinodemontreal.ca ou leurs médias sociaux! \n\n\n\n\n\n\n\nFacebook\n\nInstagram
URL:https://journalmetro.com/evenement/comediha-club-en-tournee-au-casino-de-montreal-3/
LOCATION:Casino de Montréal\, 1 avenue du Casino\, Montréal\, QC\, H3C 4W7\, Canada
CATEGORIES:Promotionnel
ATTACH;FMTTYPE=image/png:https://journalmetro.com/wp-content/uploads/2023/01/1479_MTL_ComediHa_Natif_1200x627.png
END:VEVENT
BEGIN:VEVENT
DTSTART;TZID=America/Toronto:20230221T000000
DTEND;TZID=America/Toronto:20230328T235959
DTSTAMP:20231018T165754
CREATED:20230202T191836Z
LAST-MODIFIED:20230202T191839Z
UID:10013588-1676937600-1680047999@journalmetro.com
SUMMARY:ComediHa! Club en tournée au Casino de Montréal
DESCRIPTION:Contenu Promotionnel \n\n\n\n\n\n\n\nVous aimez les spectacles d’humour gratuits? Nous avons la formule parfaite pour vous : les soirées d’humour du ComediHa! Club en tournée\, présentées par Loto-Québec\, sont de retour tous les mardis du 21 février au 28 mars au Casino de Montréal.  \n\n\n\nCharles Pellerin reçoit chaque semaine des humoristes talentueux de la relève dans une ambiance unique et intime\, typique des stand-up et des comedy clubs américains. Ça va être drôle et c’est gratuit! Réservé aux 18 ans ou plus.  \n\n\n\n\n\n\n\n\nPlus d’information ici\n\n\n\n\n\n\n\n\n\n\n\n\n\n\n\n\n\n\n \n\n\n\n\n\n\n\nPour plus de renseignements\, visitez le casinodemontreal.ca ou leurs médias sociaux! \n\n\n\n\n\n\n\nFacebook\n\nInstagram
URL:https://journalmetro.com/evenement/comediha-club-en-tournee-au-casino-de-montreal-2/
LOCATION:Casino de Montréal\, 1 avenue du Casino\, Montréal\, QC\, H3C 4W7\, Canada
CATEGORIES:Promotionnel
ATTACH;FMTTYPE=image/png:https://journalmetro.com/wp-content/uploads/2023/01/1479_MTL_ComediHa_Natif_1200x627.png
END:VEVENT
BEGIN:VEVENT
DTSTART;TZID=America/Toronto:20230221T000000
DTEND;TZID=America/Toronto:20230328T235959
DTSTAMP:20231018T165755
CREATED:20230126T185050Z
LAST-MODIFIED:20230202T151911Z
UID:10013029-1676937600-1680047999@journalmetro.com
SUMMARY:ComediHa! Club en tournée au Casino de Montréal
DESCRIPTION:Contenu Promotionnel \n\n\n\n\n\n\n\nVous aimez les spectacles d’humour gratuits? Nous avons la formule parfaite pour vous : les soirées d’humour du ComediHa! Club en tournée\, présentées par Loto-Québec\, sont de retour tous les mardis du 21 février au 28 mars au Casino de Montréal.  \n\n\n\nCharles Pellerin reçoit chaque semaine des humoristes talentueux de la relève dans une ambiance unique et intime\, typique des stand-up et des comedy clubs américains. Ça va être drôle et c’est gratuit! Réservé aux 18 ans ou plus.  \n\n\n\n\n\n\n\n\nPlus d’information ici\n\n\n\n\n\n\n\n\n\n\n\n\n\n\n\n\n\n\n \n\n\n\n\n\n\n\nPour plus de renseignements\, visitez le casinodemontreal.ca ou leurs médias sociaux! \n\n\n\n\n\n\n\nFacebook\n\nInstagram
URL:https://journalmetro.com/evenement/comediha-club-en-tournee-au-casino-de-montreal/
LOCATION:Casino de Montréal\, 1 avenue du Casino\, Montréal\, QC\, H3C 4W7\, Canada
CATEGORIES:Promotionnel
ATTACH;FMTTYPE=image/png:https://journalmetro.com/wp-content/uploads/2023/01/1479_MTL_ComediHa_Natif_1200x627.png
END:VEVENT
END:VCALENDAR