BEGIN:VCALENDAR
VERSION:2.0
PRODID:-//Journal Métro - ECPv6.0.13//NONSGML v1.0//EN
CALSCALE:GREGORIAN
METHOD:PUBLISH
X-WR-CALNAME:Journal Métro
X-ORIGINAL-URL:https://journalmetro.com
X-WR-CALDESC:évènements pour Journal Métro
REFRESH-INTERVAL;VALUE=DURATION:PT1H
X-Robots-Tag:noindex
X-PUBLISHED-TTL:PT1H
BEGIN:VTIMEZONE
TZID:America/Toronto
BEGIN:DAYLIGHT
TZOFFSETFROM:-0500
TZOFFSETTO:-0400
TZNAME:EDT
DTSTART:20220313T070000
END:DAYLIGHT
BEGIN:STANDARD
TZOFFSETFROM:-0400
TZOFFSETTO:-0500
TZNAME:EST
DTSTART:20221106T060000
END:STANDARD
END:VTIMEZONE
BEGIN:VEVENT
DTSTART;TZID=America/Toronto:20221028T180000
DTEND;TZID=America/Toronto:20221028T210000
DTSTAMP:20231016T114719
CREATED:20221011T162200Z
LAST-MODIFIED:20230329T144819Z
UID:10008188-1666980000-1666990800@journalmetro.com
SUMMARY:Projection publique du documentaire Maman\, pourquoi tu pleures ?
DESCRIPTION:Projection publique du documentaire Maman pourquoi tu pleures? vendredi le 28 octobre au CCSE Maisonneuve! \n\n\n\n(Gratuit) Inscription obligatoire!Utilisez le formulaire en ligne : https://docs.google.com/…/1FAIpQLSfQE9XrSmV…/viewform… \n\n\n\nCe long métrage percutant portera sur la santé mentale des mères durant la période périnatale. \n\n\n\nLe souper vous sera offert. \n\n\n\n« La santé mentale des femmes enceintes et des nouvelles mamans est très mal comprise. Pourquoi est-ce encore le cas aujourd’hui? Après avoir entendu le témoignage d’une voisine\, je me suis posé beaucoup de questions… C’est notre devoir à tous et à toutes de briser les tabous qui entourent la santé mentale périnatale! »Jessica Barker \n\n\n\nUn évènement organisé en partenariat entre le CCSE Maisonneuve\, Entre Mamans et Papas et Jessica Barker. 
URL:https://journalmetro.com/evenement/projection-publique-du-documentaire-maman-pourquoi-tu-pleures/
LOCATION:CCSE Maisonneuve\, 4375 rue Ontario Est\, Montréal\, QC\, Canada
ATTACH;FMTTYPE=image/jpeg:https://journalmetro.com/wp-content/uploads/2022/10/Hochelaga_Maman.jpg
END:VEVENT
END:VCALENDAR