BEGIN:VCALENDAR
VERSION:2.0
PRODID:-//Journal Métro - ECPv6.0.13//NONSGML v1.0//EN
CALSCALE:GREGORIAN
METHOD:PUBLISH
X-WR-CALNAME:Journal Métro
X-ORIGINAL-URL:https://journalmetro.com
X-WR-CALDESC:évènements pour Journal Métro
REFRESH-INTERVAL;VALUE=DURATION:PT1H
X-Robots-Tag:noindex
X-PUBLISHED-TTL:PT1H
BEGIN:VTIMEZONE
TZID:America/Toronto
BEGIN:DAYLIGHT
TZOFFSETFROM:-0500
TZOFFSETTO:-0400
TZNAME:EDT
DTSTART:20230312T070000
END:DAYLIGHT
BEGIN:STANDARD
TZOFFSETFROM:-0400
TZOFFSETTO:-0500
TZNAME:EST
DTSTART:20231105T060000
END:STANDARD
END:VTIMEZONE
BEGIN:VEVENT
DTSTART;TZID=America/Toronto:20230504T193000
DTEND;TZID=America/Toronto:20230504T213000
DTSTAMP:20231016T132030
CREATED:20230324T154750Z
LAST-MODIFIED:20230328T144635Z
UID:10016513-1683228600-1683235800@journalmetro.com
SUMMARY:Mononk Jules - Jocelyn Sioui
DESCRIPTION:Une histoire vraie et poignante… \n\n\n\nCe spectacle documentaire solo place Jocelyn Sioui au cœur de l’Histoire. Il tire sur les petits et grands fils du récit de son grand-oncle\, mais aussi de l’histoire méconnue des autochtones du 20e siècle. Entouré d’écrans et de maquettes qui s’animent de personnages historiques et d’images\, il nous emporte au fond d’une boîte d’archives d’où l’on ressort changé. \n\n\n\nDURÉE: 2 heures sans entracte \n\n\n\nDistribution des laissez-passer : \n\n\n\n(Pré-vente) Résidents d’Anjou – dès le 17 avril\, 12 h \n\n\n\n(Admission générale) Pour tous – dès le 1er mai\, 12 h \n\n\n\nComptoirs: \n\n\n\nCentre communautaire d’Anjou (7800 boul. Métropolitain E) \n\n\n\nBibliothèque du Haut-Anjou (7070 rue Jarry E) \n\n\n\nlepointdevente.com/maisondelacultureanjou \n\n\n\nSource: montreal.ca \n\n\n\nDates et horaires sont sujets à changement sans préavis. Avant de vous déplacer\, vérifier ces informations sur montreal.ca
URL:https://journalmetro.com/evenement/mononk-jules-jocelyn-sioui-4/
LOCATION:Centre communautaire d’Anjou\, 7800 boulevard Métropolitain Est\, Montréal\, QC\, Canada
CATEGORIES:Communautaire
ATTACH;FMTTYPE=image/jpeg:https://journalmetro.com/wp-content/uploads/2023/03/mononk-jules-mai-anjou-2.jpg
END:VEVENT
BEGIN:VEVENT
DTSTART;TZID=America/Toronto:20230506T110000
DTEND;TZID=America/Toronto:20230506T114500
DTSTAMP:20231016T132030
CREATED:20230324T212200Z
LAST-MODIFIED:20230328T144600Z
UID:10016587-1683370800-1683373500@journalmetro.com
SUMMARY:Les Mamizelles en tournée
DESCRIPTION:Autrefois capitaines des mers dangereuses\, mécaniciennes de trains à vapeur et vétérinaires d’animaux « poids lourds »\, Les Mamizelles n’attendent qu’une étincelle pour s’enflammer de nouveau et repartir à l’aventure. \n\n\n\nMamie Nouche a perdu son chat. Avec Mamie Za et Mamie Prune\, elle va tout mettre en œuvre pour le retrouver. Sans compter qu’il faut aussi organiser l’anniversaire de Mamie Prune! 103 bougies\, ça se fête! Une aventure jazzée en chansons et en danses inspirées du charleston et du swing. \n\n\n\nInterprétation\, texte et musique : Muriel De Zangroniz\, Hélène De Blois\, Inès Canepa \n\n\n\nArrangement musical : Frédérick Desroches \n\n\n\nMise en scène : Francine Côté \n\n\n\nCostumes : Barbara Ménard \n\n\n\nScénographie : Bruno Rathbone \n\n\n\nDistribution des laissez-passer : \n\n\n\n(Pré-vente) Résidents d’Anjou – dès le 17 avril\, 12 h \n\n\n\n(Admission générale) Pour tous – dès le 1er mai\, 12 h \n\n\n\nComptoirs: \n\n\n\nCentre communautaire d’Anjou (7800 boul. Métropolitain E) \n\n\n\nBibliothèque du Haut-Anjou (7070 rue Jarry E) \n\n\n\nlepointdevente.com/maisondelacultureanjou \n\n\n\nSource: montreal.ca \n\n\n\nDates et horaires sont sujets à changement sans préavis. Avant de vous déplacer\, vérifier ces informations sur montreal.ca \n\n\n\n\n\n\n\nUn événement présenté dans le cadre du CAM en tournée.
URL:https://journalmetro.com/evenement/les-mamizelles-en-tournee-2/
LOCATION:Centre communautaire d’Anjou\, 7800 boulevard Métropolitain Est\, Montréal\, QC\, Canada
CATEGORIES:Communautaire
ATTACH;FMTTYPE=image/jpeg:https://journalmetro.com/wp-content/uploads/2023/03/les-mamizelles-en-tournee-anjou-2.jpg
END:VEVENT
BEGIN:VEVENT
DTSTART;TZID=America/Toronto:20230531T130000
DTEND;TZID=America/Toronto:20230531T160000
DTSTAMP:20231016T132030
CREATED:20230509T172146Z
LAST-MODIFIED:20230509T172148Z
UID:10017497-1685538000-1685548800@journalmetro.com
SUMMARY:Forum de discussion pour les aînés d'Anjou
DESCRIPTION:Imaginons ensemble le plan d’action Municipalité amie des aînés 2024-2029 à Anjou! \n\n\n\nEn prévision de son prochain plan d’action\, Anjou fait appel à vos idées pour orienter les objectifs et projets qui y seront définis. \n\n\n\nVous avez 60 ans et + ? Vous aimeriez enrichir les discussions de votre expérience et de votre point de vue afin de doter l’arrondissement d’une vision à votre image? Voilà l’occasion de participer de manière concrète aux réflexions.  \n\n\n\nParmi les thèmes abordés : sécurité\, services offerts\, accessibilité\, participation citoyenne\, et toute autre préoccupation en lien avec votre qualité de vie.  \n\n\n\nOn a hâte de vous entendre! \n\n\n\nDes breuvages et biscuits seront servis. \n\n\n\nInscription en ligne ou par téléphone au 514 493-8200 \n\n\n\nSource: montreal.ca \n\n\n\nDates et horaires sont sujets à changement sans préavis. Avant de vous déplacer\, vérifier ces informations sur montreal.ca \n\n\n\n \n\n\n\nPlan et stratégie
URL:https://journalmetro.com/evenement/forum-de-discussion-pour-les-aines-danjou/
LOCATION:Centre communautaire d’Anjou\, 7800 boulevard Métropolitain Est\, Montréal\, QC\, Canada
ATTACH;FMTTYPE=image/jpeg:https://journalmetro.com/wp-content/uploads/2023/05/forum-de-discussion-aines-2.jpg
END:VEVENT
END:VCALENDAR