BEGIN:VCALENDAR
VERSION:2.0
PRODID:-//Journal Métro - ECPv6.0.13//NONSGML v1.0//EN
CALSCALE:GREGORIAN
METHOD:PUBLISH
X-WR-CALNAME:Journal Métro
X-ORIGINAL-URL:https://journalmetro.com
X-WR-CALDESC:évènements pour Journal Métro
REFRESH-INTERVAL;VALUE=DURATION:PT1H
X-Robots-Tag:noindex
X-PUBLISHED-TTL:PT1H
BEGIN:VTIMEZONE
TZID:America/Toronto
BEGIN:DAYLIGHT
TZOFFSETFROM:-0500
TZOFFSETTO:-0400
TZNAME:EDT
DTSTART:20230312T070000
END:DAYLIGHT
BEGIN:STANDARD
TZOFFSETFROM:-0400
TZOFFSETTO:-0500
TZNAME:EST
DTSTART:20231105T060000
END:STANDARD
END:VTIMEZONE
BEGIN:VEVENT
DTSTART;TZID=America/Toronto:20230522T130000
DTEND;TZID=America/Toronto:20230522T170000
DTSTAMP:20231016T105009
CREATED:20230504T220433Z
LAST-MODIFIED:20230504T220435Z
UID:10017423-1684760400-1684774800@journalmetro.com
SUMMARY:Bazar et artisanat local pour toute la famille
DESCRIPTION:Si vous avez des choses à vendre au bazar\, appelez au Phare pour réserver votre place auprès de Charlotte ou Roxana jusqu’au 18 mai.  \n\n\n\nSi vous venez pour acheter ou simplement vous promener\, rendez-vous à 13h!
URL:https://journalmetro.com/evenement/bazar-et-artisanat-local-pour-toute-la-famille/
LOCATION:Centre de promotion communautaire Le Phare\, 7890 rue Jacques-Rousseau\, Montréal\, QC\, Canada
ATTACH;FMTTYPE=image/jpeg:https://journalmetro.com/wp-content/uploads/2023/05/thumbnail_VenteGarage.jpg
END:VEVENT
END:VCALENDAR