BEGIN:VCALENDAR
VERSION:2.0
PRODID:-//Journal Métro - ECPv6.0.13//NONSGML v1.0//EN
CALSCALE:GREGORIAN
METHOD:PUBLISH
X-WR-CALNAME:Journal Métro
X-ORIGINAL-URL:https://journalmetro.com
X-WR-CALDESC:évènements pour Journal Métro
REFRESH-INTERVAL;VALUE=DURATION:PT1H
X-Robots-Tag:noindex
X-PUBLISHED-TTL:PT1H
BEGIN:VTIMEZONE
TZID:America/Toronto
BEGIN:DAYLIGHT
TZOFFSETFROM:-0500
TZOFFSETTO:-0400
TZNAME:EDT
DTSTART:20220313T070000
END:DAYLIGHT
BEGIN:STANDARD
TZOFFSETFROM:-0400
TZOFFSETTO:-0500
TZNAME:EST
DTSTART:20221106T060000
END:STANDARD
END:VTIMEZONE
BEGIN:VEVENT
DTSTART;TZID=America/Toronto:20220728T180000
DTEND;TZID=America/Toronto:20220728T200000
DTSTAMP:20231017T104720
CREATED:20220725T181805Z
LAST-MODIFIED:20220725T181810Z
UID:10006849-1659031200-1659038400@journalmetro.com
SUMMARY:Soirée documentaire: À pleine voix
DESCRIPTION:Retrouvez-nous dans les locaux du Centre pour le visionnement du documentaire: À Pleine-Voix\, de Saïda Ouchaou-Ozarowski.  \n\n\n\nLe visionnement sera suivi d’échanges. Il y aura également une collation\, sur place. \n\n\n\n\nContact: \n\n\n\nFacebook Centre des femmes de Verdun  \n\n\n\n\n \n\n\n\nDescriptions du documentaire: \n\n\n\nLes femmes musulmanes dérangent\, intriguent\, polarisent\, prises au piège dans un carcan forgé par un amalgame d’histoires à la une. Si les médias aiment à les dépeindre comme étant soumises et réduites au silence\, la réalisatrice Saïda Ouchaou-Ozarowski pose un regard intimiste sur le parcours de ces femmes. \n\n\n\nBANDE-ANNONCE
URL:https://journalmetro.com/evenement/soiree-documentaire-a-pleine-voix/
LOCATION:Centre des femmes de Verdun\, 284 Rue de l'Église\, Montreal\, QC\, H4G 2M4\, Canada
ATTACH;FMTTYPE=image/jpeg:https://journalmetro.com/wp-content/uploads/2022/07/apleine.jpg
END:VEVENT
END:VCALENDAR