BEGIN:VCALENDAR
VERSION:2.0
PRODID:-//Journal Métro - ECPv6.0.13//NONSGML v1.0//EN
CALSCALE:GREGORIAN
METHOD:PUBLISH
X-WR-CALNAME:Journal Métro
X-ORIGINAL-URL:https://journalmetro.com
X-WR-CALDESC:évènements pour Journal Métro
REFRESH-INTERVAL;VALUE=DURATION:PT1H
X-Robots-Tag:noindex
X-PUBLISHED-TTL:PT1H
BEGIN:VTIMEZONE
TZID:America/Toronto
BEGIN:DAYLIGHT
TZOFFSETFROM:-0500
TZOFFSETTO:-0400
TZNAME:EDT
DTSTART:20220313T070000
END:DAYLIGHT
BEGIN:STANDARD
TZOFFSETFROM:-0400
TZOFFSETTO:-0500
TZNAME:EST
DTSTART:20221106T060000
END:STANDARD
END:VTIMEZONE
BEGIN:VEVENT
DTSTART;TZID=America/Toronto:20220912T080000
DTEND;TZID=America/Toronto:20220912T170000
DTSTAMP:20231017T112015
CREATED:20220912T203351Z
LAST-MODIFIED:20220912T203353Z
UID:10007492-1662969600-1663002000@journalmetro.com
SUMMARY:Atelier comment écrire un livre pour enfant
DESCRIPTION:Manon Douesnard vous explique comment créer et écrire un Livre pour enfant (en Français). \n\n\n\n« Ce livre\, Besoins animaux\, est d’une sensibilité et d’une intelligence exceptionnelles\, il touche notre cœur d’enfant. « Marielle Paradis\, psychologue « La transparence et la qualité de votre travail artistique ont sensibilisé tous les membres du groupe de travail du mouvement contre le viol et l’inceste (MCVI). Félicitations. » Amélia Moreno\, psychologue clinicienne. \n\n\n\nEnvoyez votre Inscription au courriel suivant : info@cfse.ca ou joindre le 514 388 0980 \n\n\n\nCout : 20$ Les Dates : du 21 Septembre jusqu’au 19 Octobre 2022 de 10h à midi.
URL:https://journalmetro.com/evenement/atelier-comment-ecrire-un-livre-pour-enfant/
LOCATION:Centre des femmes solidaires et engagées\, 1586 rue Fleury Est\, suite 100\, Montréal\, QC\, Canada
ATTACH;FMTTYPE=image/jpeg:https://journalmetro.com/wp-content/uploads/2022/09/atelier-ecrire-livre-enfant-2.jpg
END:VEVENT
BEGIN:VEVENT
DTSTART;TZID=America/Toronto:20220919T100000
DTEND;TZID=America/Toronto:20221121T120000
DTSTAMP:20231017T112015
CREATED:20220912T193219Z
LAST-MODIFIED:20220917T102406Z
UID:10007486-1663581600-1669032000@journalmetro.com
SUMMARY:Atelier La Grande Traversée sur l’inceste avec Ginette Goulet
DESCRIPTION:Cet atelier s’adresse aux femmes qui ont vécu des abus sexuels ou l’inceste. Le but est d’informer sensibiliser et savoir quels sont vos droits. L’histoire de Ginette Goulet l’a amené jusqu’à vous afin de partager son parcours et ses ateliers de survivante et de résiliente. Coût : 20$ Dates : du 19 septembre jusqu’au 21 Novembre 2022 de 10h à midi.  \n\n\n\nEnvoyez votre Inscription au courriel suivant : info@cfse.ca ou joindre le 514 388 0980
URL:https://journalmetro.com/evenement/atelier-la-grande-traversee-sur-linceste-avec-ginette-goulet/
LOCATION:Centre des femmes solidaires et engagées\, 1586 rue Fleury Est\, suite 100\, Montréal\, QC\, Canada
ATTACH;FMTTYPE=image/jpeg:https://journalmetro.com/wp-content/uploads/2022/09/AHUNTSIC_GrandeTraverse-1.jpg
END:VEVENT
BEGIN:VEVENT
DTSTART;TZID=America/Toronto:20220922T093000
DTEND;TZID=America/Toronto:20220922T093000
DTSTAMP:20231017T112015
CREATED:20220912T202509Z
LAST-MODIFIED:20220912T202512Z
UID:10007490-1663839000-1663839000@journalmetro.com
SUMMARY:Sortie aux pommes - Centre des femmes solidaires et engagées
DESCRIPTION:C’est le Temps des Pommes au Chalet du Ruisseau! \n\n\n\nLe Jeudi 22 Septembre 2022\, le temps d’une sortie avec Le Centre des Femmes Solidaires et Engagées. \n\n\n\nHeure de Départ du Centre à 9h30 précise. \n\n\n\nPrix: 35 Dollars \n\n\n\nInclus : Repas\, Dessert\, Thé/ Café (Autres breuvages Non Inclus) et Transport par Autobus). \n\n\n\nSi vous souhaitez vous inscrire\, contactez le numéro suivant\, 514-388-0980 ou venez nous voir\, au 1586\, rue Fleury Est\, bureau 100\, à Montréal.
URL:https://journalmetro.com/evenement/sortie-aux-pommes-centre-des-femmes-solidaires-et-engagees/
LOCATION:Centre des femmes solidaires et engagées\, 1586 rue Fleury Est\, suite 100\, Montréal\, QC\, Canada
ATTACH;FMTTYPE=image/jpeg:https://journalmetro.com/wp-content/uploads/2022/09/pommes-2.jpg
END:VEVENT
BEGIN:VEVENT
DTSTART;TZID=America/Toronto:20220922T100000
DTEND;TZID=America/Toronto:20221117T120000
DTSTAMP:20231017T112015
CREATED:20220912T202924Z
LAST-MODIFIED:20220916T203642Z
UID:10007491-1663840800-1668686400@journalmetro.com
SUMMARY:Atelier de conversation en français
DESCRIPTION:Atelier de Conversation en Français avec Souhir Saber – (en Anglais Français). \n\n\n\nCet atelier s’adresse à toutes les femmes\, de tout âge\, qui vous permettra de converser en Français à un niveau flexible\, le tout enseigné dans une méthode constructive\, et dans un ordre Grammatical pour éviter de commettre des fautes de français. Coût : 20$ Dates : du 22 septembre jusqu’au 17 Novembre 2022 de 10h à midi. Envoyez votre Inscription au courriel suivant : info@cfse.ca ou joindre le 514 388 0980
URL:https://journalmetro.com/evenement/atelier-de-conversation-en-francais/
LOCATION:Centre des femmes solidaires et engagées\, 1586 rue Fleury Est\, suite 100\, Montréal\, QC\, Canada
ATTACH;FMTTYPE=image/jpeg:https://journalmetro.com/wp-content/uploads/2022/09/AHUNTSIC_Conversation.jpg
END:VEVENT
END:VCALENDAR