BEGIN:VCALENDAR
VERSION:2.0
PRODID:-//Journal Métro - ECPv6.0.13//NONSGML v1.0//EN
CALSCALE:GREGORIAN
METHOD:PUBLISH
X-WR-CALNAME:Journal Métro
X-ORIGINAL-URL:https://journalmetro.com
X-WR-CALDESC:évènements pour Journal Métro
REFRESH-INTERVAL;VALUE=DURATION:PT1H
X-Robots-Tag:noindex
X-PUBLISHED-TTL:PT1H
BEGIN:VTIMEZONE
TZID:America/Toronto
BEGIN:DAYLIGHT
TZOFFSETFROM:-0500
TZOFFSETTO:-0400
TZNAME:EDT
DTSTART:20230312T070000
END:DAYLIGHT
BEGIN:STANDARD
TZOFFSETFROM:-0400
TZOFFSETTO:-0500
TZNAME:EST
DTSTART:20231105T060000
END:STANDARD
END:VTIMEZONE
BEGIN:VEVENT
DTSTART;TZID=America/Toronto:20230311T100000
DTEND;TZID=America/Toronto:20230311T113000
DTSTAMP:20231016T114333
CREATED:20230215T232024Z
LAST-MODIFIED:20230226T163832Z
UID:10014831-1678528800-1678534200@journalmetro.com
SUMMARY:Relais ActiV+ : initiation au Goal ball adapté
DESCRIPTION:Voici tout ce qu’il faut savoir sur le relais ActiV+\, ce programme d’initiation aux activités récréatives et sportives adaptées aux personnes ayant des limitations fonctionnelles qui est offert gratuitement jusqu’en avril au Centre du Plateau. \n\n\n\nVous êtes une personne ayant des limitations fonctionnelles qui désire découvrir de nouveaux sports\, de nouvelles activités ou encore socialiser? Vous êtes une personne qui n’a pas de limitations fonctionnelles\, mais qui désire se sensibiliser à cette réalité? \n\n\n\n Le Centre du Plateau vous propose le Relais Activ+\, une série d’activités qui se pratiquent en luge\, au sol ou encore en fauteuil roulant.   \n\n\n\nLe goal ball adapté est un sport de ballon pour personnes aveugles ou malvoyantes qui se joue les yeux bandés. \n\n\n\nAussi à noter\n\n\n\nLes enfants peuvent participer à ces activités pour toutes et tous dès l’âge de 9 ans. Chaque enfant doit toutefois être accompagné d’un adulte. \n\n\n\nLes activités se déroulent au Centre du Plateau\, toujours de 10 h à 11 h 30. Elles sont gratuites\, mais l’inscription est obligatoire : 514 872-6830. \n\n\n\nSource: montreal.ca \n\n\n\nDates et horaires sont sujets à changement sans préavis. Avant de vous déplacer\, vérifier ces informations sur montreal.ca
URL:https://journalmetro.com/evenement/relais-activ-initiation-au-goal-ball-adapte/
LOCATION:Centre du Plateau\, 2275 boulevard Saint-Joseph Est\, Montréal\, QC\, Canada
ATTACH;FMTTYPE=image/jpeg:https://journalmetro.com/wp-content/uploads/2023/02/initiation-au-goal-ball-2.jpg
END:VEVENT
BEGIN:VEVENT
DTSTART;TZID=America/Toronto:20230318T100000
DTEND;TZID=America/Toronto:20230318T113000
DTSTAMP:20231016T114333
CREATED:20230217T221340Z
LAST-MODIFIED:20230226T163557Z
UID:10015135-1679133600-1679139000@journalmetro.com
SUMMARY:Relais ActiV+ : initiation au basketball
DESCRIPTION:Voici tout ce qu’il faut savoir sur le relais ActiV+\, ce programme d’initiation aux activités récréatives et sportives adaptées aux personnes ayant des limitations fonctionnelles qui est offert gratuitement jusqu’en avril au Centre du Plateau. \n\n\n\nVous êtes une personne ayant des limitations fonctionnelles qui désire découvrir de nouveaux sports\, de nouvelles activités ou encore socialiser? Vous êtes une personne qui n’a pas de limitations fonctionnelles\, mais qui désire se sensibiliser à cette réalité? \n\n\n\n Le Centre du Plateau vous propose le Relais Activ+\, une série d’activités qui se pratiquent en luge\, au sol ou encore en fauteuil roulant.   \n\n\n\nAussi à noter\n\n\n\nLes enfants peuvent participer à ces activités pour toutes et tous dès l’âge de 9 ans. Chaque enfant doit toutefois être accompagné d’un adulte. \n\n\n\nLes activités se déroulent au Centre du Plateau\, toujours de 10 h à 11 h 30. Elles sont gratuites\, mais l’inscription est obligatoire : 514 872-6830. \n\n\n\nSource: montreal.ca \n\n\n\nDates et horaires sont sujets à changement sans préavis. Avant de vous déplacer\, vérifier ces informations sur montreal.ca
URL:https://journalmetro.com/evenement/relais-activ-initiation-au-basketball/
LOCATION:Centre du Plateau\, 2275 boulevard Saint-Joseph Est\, Montréal\, QC\, Canada
ATTACH;FMTTYPE=image/jpeg:https://journalmetro.com/wp-content/uploads/2023/02/relais-activ-basket-2.jpg
END:VEVENT
BEGIN:VEVENT
DTSTART;TZID=America/Toronto:20230325T100000
DTEND;TZID=America/Toronto:20230325T113000
DTSTAMP:20231016T114333
CREATED:20230220T182830Z
LAST-MODIFIED:20230226T163410Z
UID:10015275-1679738400-1679743800@journalmetro.com
SUMMARY:Relais ActiV+ : initiation multisport (quilles\, tennis\, luge et basket)
DESCRIPTION:Voici tout ce qu’il faut savoir sur le relais ActiV+\, ce programme d’initiation aux activités récréatives et sportives adaptées aux personnes ayant des limitations fonctionnelles qui est offert gratuitement jusqu’en avril au Centre du Plateau. \n\n\n\nVous êtes une personne ayant des limitations fonctionnelles qui désire découvrir de nouveaux sports\, de nouvelles activités ou encore socialiser? Vous êtes une personne qui n’a pas de limitations fonctionnelles\, mais qui désire se sensibiliser à cette réalité? \n\n\n\n Le Centre du Plateau vous propose le Relais Activ+\, une série d’activités qui se pratiquent en luge\, au sol ou encore en fauteuil roulant.   \n\n\n\nAussi à noter\n\n\n\nLes enfants peuvent participer à ces activités pour toutes et tous dès l’âge de 9 ans. Chaque enfant doit toutefois être accompagné d’un adulte. \n\n\n\nLes activités se déroulent au Centre du Plateau\, toujours de 10 h à 11 h 30. Elles sont gratuites\, mais l’inscription est obligatoire : 514 872-6830. \n\n\n\nSource: montreal.ca \n\n\n\nDates et horaires sont sujets à changement sans préavis. Avant de vous déplacer\, vérifier ces informations sur montreal.ca
URL:https://journalmetro.com/evenement/relais-activ-initiation-multisport-quilles-tennis-luge-et-basket/
LOCATION:Centre du Plateau\, 2275 boulevard Saint-Joseph Est\, Montréal\, QC\, Canada
ATTACH;FMTTYPE=image/jpeg:https://journalmetro.com/wp-content/uploads/2023/02/relais-activ-multisports-2.jpg
END:VEVENT
BEGIN:VEVENT
DTSTART;TZID=America/Toronto:20230401T100000
DTEND;TZID=America/Toronto:20230401T113000
DTSTAMP:20231016T114333
CREATED:20230301T204647Z
LAST-MODIFIED:20230301T204650Z
UID:10015634-1680343200-1680348600@journalmetro.com
SUMMARY:Relais ActiV+ : initiation à la luge en gymnase
DESCRIPTION:Voici tout ce qu’il faut savoir sur le relais ActiV+\, ce programme d’initiation aux activités récréatives et sportives adaptées aux personnes ayant des limitations fonctionnelles qui est offert gratuitement jusqu’en avril au Centre du Plateau. \n\n\n\nVous êtes une personne ayant des limitations fonctionnelles qui désire découvrir de nouveaux sports\, de nouvelles activités ou encore socialiser? Vous êtes une personne qui n’a pas de limitations fonctionnelles\, mais qui désire se sensibiliser à cette réalité? \n\n\n\n Le Centre du Plateau vous propose le Relais Activ+\, une série d’activités qui se pratiquent en luge\, au sol ou encore en fauteuil roulant.   \n\n\n\nL’initiation à la luge en gymnase se fait via du ballon-balai et des jeux d’adresse. \n\n\n\nAussi à noter\n\n\n\nLes enfants peuvent participer à ces activités pour toutes et tous dès l’âge de 9 ans. Chaque enfant doit toutefois être accompagné d’un adulte. \n\n\n\nLes activités se déroulent au Centre du Plateau\, toujours de 10 h à 11 h 30. Elles sont gratuites\, mais l’inscription est obligatoire : 514 872-6830. \n\n\n\n \n\n\n\nSource: montreal.ca \n\n\n\nDates et horaires sont sujets à changement sans préavis. Avant de vous déplacer\, vérifier ces informations sur montreal.ca
URL:https://journalmetro.com/evenement/relais-activ-initiation-a-la-luge-en-gymnase/
LOCATION:Centre du Plateau\, 2275 boulevard Saint-Joseph Est\, Montréal\, QC\, Canada
ATTACH;FMTTYPE=image/jpeg:https://journalmetro.com/wp-content/uploads/2023/03/luge-en-gymnase-2.jpg
END:VEVENT
BEGIN:VEVENT
DTSTART;TZID=America/Toronto:20230408T100000
DTEND;TZID=America/Toronto:20230408T113000
DTSTAMP:20231016T114333
CREATED:20230307T181445Z
LAST-MODIFIED:20230307T181447Z
UID:10015834-1680948000-1680953400@journalmetro.com
SUMMARY:Relais ActiV+ : initiation au Goal ball adapté
DESCRIPTION:Voici tout ce qu’il faut savoir sur le relais ActiV+\, ce programme d’initiation aux activités récréatives et sportives adaptées aux personnes ayant des limitations fonctionnelles qui est offert gratuitement jusqu’en avril au Centre du Plateau. \n\n\n\nVous êtes une personne ayant des limitations fonctionnelles qui désire découvrir de nouveaux sports\, de nouvelles activités ou encore socialiser? Vous êtes une personne qui n’a pas de limitations fonctionnelles\, mais qui désire se sensibiliser à cette réalité? \n\n\n\n Le Centre du Plateau vous propose le Relais Activ+\, une série d’activités qui se pratiquent en luge\, au sol ou encore en fauteuil roulant.   \n\n\n\nLe goal ball adapté est un sport de ballon pour personnes aveugles ou malvoyantes qui se joue les yeux bandés. \n\n\n\nAussi à noter\n\n\n\nLes enfants peuvent participer à ces activités pour toutes et tous dès l’âge de 9 ans. Chaque enfant doit toutefois être accompagné d’un adulte. \n\n\n\nLes activités se déroulent au Centre du Plateau\, toujours de 10 h à 11 h 30. Elles sont gratuites\, mais l’inscription est obligatoire : 514 872-6830. \n\n\n\nSource: montreal.ca \n\n\n\nDates et horaires sont sujets à changement sans préavis. Avant de vous déplacer\, vérifier ces informations sur montreal.ca
URL:https://journalmetro.com/evenement/relais-activ-initiation-au-goal-ball-adapte-2/
LOCATION:Centre du Plateau\, 2275 boulevard Saint-Joseph Est\, Montréal\, QC\, Canada
ATTACH;FMTTYPE=image/jpeg:https://journalmetro.com/wp-content/uploads/2023/03/goal-ball-adapte-2.jpg
END:VEVENT
BEGIN:VEVENT
DTSTART;TZID=America/Toronto:20230614T120000
DTEND;TZID=America/Toronto:20230614T190000
DTSTAMP:20231016T114333
CREATED:20230525T163522Z
LAST-MODIFIED:20230525T163523Z
UID:10017696-1686744000-1686769200@journalmetro.com
SUMMARY:Distribution gratuite de plantes grimpantes dans Le Plateau
DESCRIPTION:Le Plateau-Mont-Royal renouvelle en 2023 sa campagne de distribution gratuite de plantes grimpantes pour les résidentes et résidents de l’arrondissement. \n\n\n\nInscrivez-vous sans tarder\, les quantités sont limitées! \n\n\n\nLes plantes grimpantes sont une solution rafraîchissante et environnementale pour la végétalisation\, le verdissement et la réduction des îlots de chaleur en milieu urbain. \n\n\n\nPour avoir plus d’informations sur les rôles et bienfaits des plantes grimpantes\, consultez ce document du Centre d’écologie urbaine de Montréal. \n\n\n\nSource: montreal.ca \n\n\n\nDates et horaires sont sujets à changement sans préavis. Avant de vous déplacer\, vérifier ces informations sur montreal.ca
URL:https://journalmetro.com/evenement/distribution-gratuite-de-plantes-grimpantes-dans-le-plateau/
LOCATION:Centre du Plateau\, 2275 boulevard Saint-Joseph Est\, Montréal\, QC\, Canada
ATTACH;FMTTYPE=image/jpeg:https://journalmetro.com/wp-content/uploads/2023/05/plantes-grimpantes-2.jpg
END:VEVENT
END:VCALENDAR