BEGIN:VCALENDAR
VERSION:2.0
PRODID:-//Journal Métro - ECPv6.0.13//NONSGML v1.0//EN
CALSCALE:GREGORIAN
METHOD:PUBLISH
X-WR-CALNAME:Journal Métro
X-ORIGINAL-URL:https://journalmetro.com
X-WR-CALDESC:évènements pour Journal Métro
REFRESH-INTERVAL;VALUE=DURATION:PT1H
X-Robots-Tag:noindex
X-PUBLISHED-TTL:PT1H
BEGIN:VTIMEZONE
TZID:America/Toronto
BEGIN:DAYLIGHT
TZOFFSETFROM:-0500
TZOFFSETTO:-0400
TZNAME:EDT
DTSTART:20220313T070000
END:DAYLIGHT
BEGIN:STANDARD
TZOFFSETFROM:-0400
TZOFFSETTO:-0500
TZNAME:EST
DTSTART:20221106T060000
END:STANDARD
END:VTIMEZONE
BEGIN:VEVENT
DTSTART;TZID=America/Toronto:20221204T000000
DTEND;TZID=America/Toronto:20221205T235959
DTSTAMP:20231018T172447
CREATED:20221107T212911Z
LAST-MODIFIED:20221107T212950Z
UID:10008664-1670112000-1670284799@journalmetro.com
SUMMARY:La saison de CASSE-NOISETTE est arrivée
DESCRIPTION:Contenu promotionnel \n\n\n\n\n\n\n\nBallet Ouest est de retour avec sa production acclamée de Casse-Noisette les 3 et 4 décembre prochains à la Salle Pierre-Mercure du Centre Pierre Péladeau à Montréal. Cette version intégrale du classique bien-aimé du temps des Fêtes met en vedette plus de 40 danseurs et danseuses de la compagnie auxquels se joignent 80 jeunes enfants\, parfaitement intégrés pour offrir l’expérience complète de Casse-Noisette. \n\n\n\nDirecteur artistique : Claude Caron \n\n\n\nObtenez vos billets maintenant : https://centrepierrepeladeau.tuxedobillet.com/main/casse-noisette-2022 \n\n\n\nSite web : https://www.balletouest.com/Facebook : https://www.facebook.com/balletouestdemontreal/Vimeo : https://vimeo.com/balletouestdemontrealInsta : https://www.instagram.com/balletouest/
URL:https://journalmetro.com/evenement/la-saison-de-casse-noisette-est-arrivee/
LOCATION:Centre Pierre-Péladeau\, Salle Pierre-Mercure\, 300 Boul. Maisonneuve Est\, Montréal\, QC\, H2X 3X6\, Canada
CATEGORIES:Promotionnel
ATTACH;FMTTYPE=image/jpeg:https://journalmetro.com/wp-content/uploads/2022/11/312362187_2342348882579332_7537374184340544664_n-1.jpg
END:VEVENT
END:VCALENDAR