BEGIN:VCALENDAR
VERSION:2.0
PRODID:-//Journal Métro - ECPv6.0.13//NONSGML v1.0//EN
CALSCALE:GREGORIAN
METHOD:PUBLISH
X-WR-CALNAME:Journal Métro
X-ORIGINAL-URL:https://journalmetro.com
X-WR-CALDESC:évènements pour Journal Métro
REFRESH-INTERVAL;VALUE=DURATION:PT1H
X-Robots-Tag:noindex
X-PUBLISHED-TTL:PT1H
BEGIN:VTIMEZONE
TZID:America/Toronto
BEGIN:DAYLIGHT
TZOFFSETFROM:-0500
TZOFFSETTO:-0400
TZNAME:EDT
DTSTART:20220313T070000
END:DAYLIGHT
BEGIN:STANDARD
TZOFFSETFROM:-0400
TZOFFSETTO:-0500
TZNAME:EST
DTSTART:20221106T060000
END:STANDARD
BEGIN:DAYLIGHT
TZOFFSETFROM:-0500
TZOFFSETTO:-0400
TZNAME:EDT
DTSTART:20230312T070000
END:DAYLIGHT
BEGIN:STANDARD
TZOFFSETFROM:-0400
TZOFFSETTO:-0500
TZNAME:EST
DTSTART:20231105T060000
END:STANDARD
END:VTIMEZONE
BEGIN:VEVENT
DTSTART;TZID=America/Toronto:20220815T160000
DTEND;TZID=America/Toronto:20220815T170000
DTSTAMP:20231016T165939
CREATED:20220812T185324Z
LAST-MODIFIED:20230213T231404Z
UID:10007023-1660579200-1660582800@journalmetro.com
SUMMARY:Initiation au baseball (5-10 ans)
DESCRIPTION:Rendez-vous au terrain de balle du centre récréatif Édouard-Rivet pour initier vos enfants de 5 à 10 ans au baseball\, cet été! \n\n\n\nSeules conditions : venir accompagné d’un adulte; être en tenue sportive; et apporter un gant de baseball si l’enfant en a. \n\n\n\nAucune inscription requise. Les enfants habitant à Montréal-Est seront prioritaires. \n\n\n\nVenez nombreux à cette activité gratuite! Pour plus de détails\, veuillez composer le 514 905-2000\, option 1.
URL:https://journalmetro.com/evenement/initiation-au-baseball-5-10-ans/
LOCATION:Centre récréatif Edouard-Rivet\, 11111 rue Notre-Dame\, Montréal-Est\, QC\, Canada
ATTACH;FMTTYPE=image/jpeg:https://journalmetro.com/wp-content/uploads/2022/08/visuel_web_1200x628_baseball-2.jpg
END:VEVENT
BEGIN:VEVENT
DTSTART;TZID=America/Toronto:20221002T120000
DTEND;TZID=America/Toronto:20221002T170000
DTSTAMP:20231016T165939
CREATED:20220920T181252Z
LAST-MODIFIED:20230213T225058Z
UID:10007629-1664712000-1664730000@journalmetro.com
SUMMARY:Sortie aux pommes
DESCRIPTION:Prévention Pointe-de-l’Ile organise une sortie aux pommes (autocueillette) avec le Centre Edouard-Rivest. Le départ en autobus se fera dans le stationnement du Centre récréatif Edouard-Rivest.  \n\n\n\nDestination: le Verger Magie de la pomme à Saint-Eustache.  \n\n\n\nInscription gratuite au 514-905-2105.
URL:https://journalmetro.com/evenement/sortie-aux-pommes/
LOCATION:Centre récréatif Edouard-Rivet\, 11111 rue Notre-Dame\, Montréal-Est\, QC\, Canada
ATTACH;FMTTYPE=image/jpeg:https://journalmetro.com/wp-content/uploads/2022/09/pommes-2.jpg
END:VEVENT
BEGIN:VEVENT
DTSTART;TZID=America/Toronto:20221102T183000
DTEND;TZID=America/Toronto:20221102T203000
DTSTAMP:20231016T165939
CREATED:20221028T154115Z
LAST-MODIFIED:20230213T224326Z
UID:10008431-1667413800-1667421000@journalmetro.com
SUMMARY:Forum citoyens-industries
DESCRIPTION:Venez rencontrer vos voisins industriels\, le 2 novembre! \n\n\n\nC’est l’occasion unique de mieux les connaître mais aussi de savoir ce qu’ils mettent en place pour un meilleur respect de l’environnement. \n\n\n\nCCR\, ParaChem\, Indorama\, Alpek Polyester Canada\, Bitumar et Valero seront là pour répondre à vos questions. \n\n\n\nParlez-en autour de vous et rendez-vous à leurs kiosques d’information lors de cette soirée au centre récréatif Édouard-Rivet.
URL:https://journalmetro.com/evenement/forum-citoyens-industries/
LOCATION:Centre récréatif Edouard-Rivet\, 11111 rue Notre-Dame\, Montréal-Est\, QC\, Canada
ATTACH;FMTTYPE=image/jpeg:https://journalmetro.com/wp-content/uploads/2022/10/forum2-1-2.jpg
END:VEVENT
BEGIN:VEVENT
DTSTART;TZID=America/Toronto:20230116T080000
DTEND;TZID=America/Toronto:20230402T210000
DTSTAMP:20231016T165939
CREATED:20230302T172922Z
LAST-MODIFIED:20230302T172927Z
UID:10015674-1673856000-1680469200@journalmetro.com
SUMMARY:Session d’hiver au CRÉR
DESCRIPTION:70 activités pour tous les goûts : c’est l’éventail de choix que vous offre le centre récréatif Édouard-Rivet pour rester en forme\, cet hiver. \n\n\n\nEn plus des classiques pour petits et grands (sports\, activités aquatiques)\, des nouveautés vous attendent pour mieux braver le froid : cardio-vélo\, drumfit\, kickboxing\, improvisation\, jui-jitsu\, tabata\, yoga restauratif\, volleyball et bien plus! \n\n\n\nTous les détails ici : https://crer.me
URL:https://journalmetro.com/evenement/session-dhiver-au-crer/
LOCATION:Centre récréatif Edouard-Rivet\, 11111 rue Notre-Dame\, Montréal-Est\, QC\, Canada
ATTACH;FMTTYPE=image/jpeg:https://journalmetro.com/wp-content/uploads/2023/03/Sport-illustration-2.jpg
END:VEVENT
BEGIN:VEVENT
DTSTART;TZID=America/Toronto:20230513T090000
DTEND;TZID=America/Toronto:20230513T150000
DTSTAMP:20231016T165939
CREATED:20230419T175637Z
LAST-MODIFIED:20230419T211648Z
UID:10017310-1683968400-1683990000@journalmetro.com
SUMMARY:Marché aux puces
DESCRIPTION:Les inscriptions sont ouvertes jusqu’au 21 avril pour les vendeurs qui souhaitent louer un emplacement.  \n\n\n\nPour vendre des articles\, le principe est simple : \n\n\n\n\nComplétez le formulaire d’inscription disponible au Centre Récréatif Édouard-Rivet (CRÉR);\n\n\n\nLouez un emplacement au coût de 15 $ payables à l’avance et en espèces\, au CRÉR;Possibilité de louer des tables (10 $ par table)\n\n\n\nPrenez connaissance des règlements à respecter.\n\n\n\n\nBonne nouvelle : cette année\, les commerçants situés à Montréal-Est sont à nouveau les bienvenus. \n\n\n\nInscription pour les citoyens de Montréal-Est : dès le 13 marsInscriptions ouvertes à tous : à partir du 20 mars. \n\n\n\nInscrivez-vous rapidement et avant le 21 avril car les places sont limitées. Premier inscrit\, premier servi! \n\n\n\nComposez le 514 905-2105 pour toute question sur les inscriptions.
URL:https://journalmetro.com/evenement/marche-aux-puces/
LOCATION:Centre récréatif Edouard-Rivet\, 11111 rue Notre-Dame\, Montréal-Est\, QC\, Canada
ATTACH;FMTTYPE=image/jpeg:https://journalmetro.com/wp-content/uploads/2023/04/VenteDeGarage_1200x600.jpg
END:VEVENT
END:VCALENDAR