BEGIN:VCALENDAR
VERSION:2.0
PRODID:-//Journal Métro - ECPv6.0.13//NONSGML v1.0//EN
CALSCALE:GREGORIAN
METHOD:PUBLISH
X-WR-CALNAME:Journal Métro
X-ORIGINAL-URL:https://journalmetro.com
X-WR-CALDESC:évènements pour Journal Métro
REFRESH-INTERVAL;VALUE=DURATION:PT1H
X-Robots-Tag:noindex
X-PUBLISHED-TTL:PT1H
BEGIN:VTIMEZONE
TZID:America/Toronto
BEGIN:DAYLIGHT
TZOFFSETFROM:-0500
TZOFFSETTO:-0400
TZNAME:EDT
DTSTART:20220313T070000
END:DAYLIGHT
BEGIN:STANDARD
TZOFFSETFROM:-0400
TZOFFSETTO:-0500
TZNAME:EST
DTSTART:20221106T060000
END:STANDARD
END:VTIMEZONE
BEGIN:VEVENT
DTSTART;TZID=America/Toronto:20221001T100000
DTEND;TZID=America/Toronto:20221001T160000
DTSTAMP:20231016T173814
CREATED:20220929T174350Z
LAST-MODIFIED:20230328T153729Z
UID:10007922-1664618400-1664640000@journalmetro.com
SUMMARY:Portes ouvertes au Cercle des fermières Anjou
DESCRIPTION:Dans le cadre des journées de la culture\, le Cercle des fermières Anjou tiendra sa journée portes ouvertes le samedi 1er octobre 2022 de 10 h à 16 h. Cette journée consistera en une visite de nos locaux. Vous y verrez une exposition de nos pièces d’artisanat réalisées par des membres de notre Cercle de Fermières Anjou. Des artisanes seront sur place pour vous faire des démonstrations. Il y aura des pièces tissées\, tricotées\, cousues\, brodées\, des courtepointes et des bijoux. Nous vous informerons des organismes avec lesquels nous collaborons. De plus\, si vous désirez devenir membre de notre Cercle\, vous pourrez y adhérer sur place.
URL:https://journalmetro.com/evenement/portes-ouvertes-au-cercle-des-fermieres-anjou/
LOCATION:Cercle des fermières Anjou\, 7800 boulevard Métropolitain Est\, local 104\, Montréal\, Canada
ATTACH;FMTTYPE=image/jpeg:https://journalmetro.com/wp-content/uploads/2022/09/cercle-des-ferrmieres-anjou-2.jpg
END:VEVENT
END:VCALENDAR