BEGIN:VCALENDAR
VERSION:2.0
PRODID:-//Journal Métro - ECPv6.0.13//NONSGML v1.0//EN
CALSCALE:GREGORIAN
METHOD:PUBLISH
X-WR-CALNAME:Journal Métro
X-ORIGINAL-URL:https://journalmetro.com
X-WR-CALDESC:évènements pour Journal Métro
REFRESH-INTERVAL;VALUE=DURATION:PT1H
X-Robots-Tag:noindex
X-PUBLISHED-TTL:PT1H
BEGIN:VTIMEZONE
TZID:America/Toronto
BEGIN:DAYLIGHT
TZOFFSETFROM:-0500
TZOFFSETTO:-0400
TZNAME:EDT
DTSTART:20230312T070000
END:DAYLIGHT
BEGIN:STANDARD
TZOFFSETFROM:-0400
TZOFFSETTO:-0500
TZNAME:EST
DTSTART:20231105T060000
END:STANDARD
END:VTIMEZONE
BEGIN:VEVENT
DTSTART;TZID=America/Toronto:20230330T193000
DTEND;TZID=America/Toronto:20230330T193000
DTSTAMP:20231017T120658
CREATED:20230228T204714Z
LAST-MODIFIED:20230228T204718Z
UID:10015537-1680204600-1680204600@journalmetro.com
SUMMARY:Trio du Faubourg
DESCRIPTION:Billets disponibles dès le 23 mars à midi \n\n\n\nAnne-Sophie Paquet\, violonStéphane Fontaine\, clarinetteMartin Dubé au piano \n\n\n\nProgramme: \n\n\n\nAram Khachaturian: Trio pour violon\, clarinette et pianoGian Carlo Menotti: Trio pour violon\, clarinette et pianoDmitri Chostakovich: 5 pièces pour 2 violons et piano ( transcription )Srul Irving Glick: Klezmer’s Wedding
URL:https://journalmetro.com/evenement/trio-du-faubourg/
LOCATION:Chapelle historique du Bon-Pasteur\, 100 rue Sherbrooke Est\, Montréal\, QC\, Canada
ATTACH;FMTTYPE=image/jpeg:https://journalmetro.com/wp-content/uploads/2023/02/trio-du-faubourg-2.jpg
END:VEVENT
BEGIN:VEVENT
DTSTART;TZID=America/Toronto:20230402T150000
DTEND;TZID=America/Toronto:20230402T150000
DTSTAMP:20231017T120658
CREATED:20230303T203534Z
LAST-MODIFIED:20230303T203537Z
UID:10015721-1680447600-1680447600@journalmetro.com
SUMMARY:Quatuor Cobalt IV
DESCRIPTION:Billets disponibles dès le 23 mars à midi \n\n\n\n4e concert du Quatuor Cobalt dans le cadre de leur résidence à la Chapelle. \n\n\n\nGuillaume Villeneuve\, violonDiane Bayard\, violonClément Bufferne\, altoFrançois Leclerc\, violoncelle \n\n\n\nProgramme: \n\n\n\nInfluencés \n\n\n\nConcert de restitution de la recherche du Quatuor mené sur les quatuors révolutionnaires français \n\n\n\nSource: montreal.ca \n\n\n\nDates et horaires sont sujets à changement sans préavis. Avant de vous déplacer\, vérifier ces informations sur montreal.ca
URL:https://journalmetro.com/evenement/quatuor-cobalt-iv/
LOCATION:Chapelle historique du Bon-Pasteur\, 100 rue Sherbrooke Est\, Montréal\, QC\, Canada
ATTACH;FMTTYPE=image/jpeg:https://journalmetro.com/wp-content/uploads/2023/03/quatuor-cobalt-iv-2.jpg
END:VEVENT
BEGIN:VEVENT
DTSTART;TZID=America/Toronto:20230405T120000
DTEND;TZID=America/Toronto:20230405T120000
DTSTAMP:20231017T120658
CREATED:20230306T223819Z
LAST-MODIFIED:20230306T223823Z
UID:10015772-1680696000-1680696000@journalmetro.com
SUMMARY:Midi concert des lauréats du Concours OMNI III
DESCRIPTION:Entrée libre\, billets non requis \n\n\n\nSérie de concerts midi en collaboration avec l’Orchestre Métropolitain. \n\n\n\nMegan Lo\, pianoEmad Zolfaghari\, altoFélix Marquis\, piano \n\n\n\nProgramme: \n\n\n\nDomenico Scarlatti: Sonate en si mineur\, K 27                                     Sonate in do mineur\, K 56Frédéric Chopin: Barcarolle en fa dièse majeur\, opus 60Maurice Ravel: Jeux d’eauSergueï Prokofiev: 3e mouvement de la Sonate no 8 en si bémol majeur  \n\n\n\nMegan Lo\, piano \n\n\n\nJohann Sebastian Bach: Sarabande et gigue de la Partita no 2 (adapté pour alto)  Max Bruch: Romance Robert Schumann: Fantasiestucke\, opus 73 Florence Price: Elfantanz \n\n\n\nEmad Zolfaghari\, alto Félix Marquis\, piano \n\n\n\nSource: montreal.ca \n\n\n\nDates et horaires sont sujets à changement sans préavis. Avant de vous déplacer\, vérifier ces informations sur montreal.ca
URL:https://journalmetro.com/evenement/midi-concert-des-laureats-du-concours-omni-iii/
LOCATION:Chapelle historique du Bon-Pasteur\, 100 rue Sherbrooke Est\, Montréal\, QC\, Canada
ATTACH;FMTTYPE=image/jpeg:https://journalmetro.com/wp-content/uploads/2023/03/concours-omni-iii-2.jpg
END:VEVENT
BEGIN:VEVENT
DTSTART;TZID=America/Toronto:20230406T193000
DTEND;TZID=America/Toronto:20230406T193000
DTSTAMP:20231017T120658
CREATED:20230307T175617Z
LAST-MODIFIED:20230307T175620Z
UID:10015829-1680809400-1680809400@journalmetro.com
SUMMARY:Autour de Shakespeare
DESCRIPTION:Billets disponibles dès le 30 mars à midi \n\n\n\nElvira Misbakhova\, altoIrina Krasnyanskaya\, piano \n\n\n\nProgramme: \n\n\n\nSergueï Prokofiev: Suite Roméo et Juliette (arrangement V. Borisovsky) Yuliya Zakharava: Avant-hier\, hier et 5 minutes après» (première) Airat Ichmouratov: Fantaisie sur les thèmes d’opéra Lady Macbeth de Chostakovitch \n\n\n\nSource: montreal.ca \n\n\n\nDates et horaires sont sujets à changement sans préavis. Avant de vous déplacer\, vérifier ces informations sur montreal.ca
URL:https://journalmetro.com/evenement/autour-de-shakespeare/
LOCATION:Chapelle historique du Bon-Pasteur\, 100 rue Sherbrooke Est\, Montréal\, QC\, Canada
ATTACH;FMTTYPE=image/jpeg:https://journalmetro.com/wp-content/uploads/2023/03/autour-de-shakespeare-2.jpg
END:VEVENT
BEGIN:VEVENT
DTSTART;TZID=America/Toronto:20230413T193000
DTEND;TZID=America/Toronto:20230413T193000
DTSTAMP:20231017T120659
CREATED:20230308T165154Z
LAST-MODIFIED:20230308T165158Z
UID:10015903-1681414200-1681414200@journalmetro.com
SUMMARY:André Laplante et le Quatuor Arthur Leblanc II
DESCRIPTION:Concert tarifé au profit de la Fondation de la Chapelle  \n\n\n\nBillets disponibles dès le 19 janvier \n\n\n\nAndré Laplante\, piano Hibiki Kobayashi\, violonJeen-Hee Lee\, violonJean-Luc Plourde\, altoRyan Molzan\, violoncelle \n\n\n\nProgramme: \n\n\n\nDimitri Chostakovitch: Quintette\, opus 57                                            Quatuor no 8\, opus 110 \n\n\n\nSource: montreal.ca \n\n\n\nDates et horaires sont sujets à changement sans préavis. Avant de vous déplacer\, vérifier ces informations sur montreal.ca
URL:https://journalmetro.com/evenement/andre-laplante-et-le-quatuor-arthur-leblanc-ii/
LOCATION:Chapelle historique du Bon-Pasteur\, 100 rue Sherbrooke Est\, Montréal\, QC\, Canada
ATTACH;FMTTYPE=image/jpeg:https://journalmetro.com/wp-content/uploads/2023/03/andre-laplante-et-le-quatuor-2.jpg
END:VEVENT
BEGIN:VEVENT
DTSTART;TZID=America/Toronto:20230416T150000
DTEND;TZID=America/Toronto:20230416T150000
DTSTAMP:20231017T120659
CREATED:20230310T180739Z
LAST-MODIFIED:20230310T180741Z
UID:10015979-1681657200-1681657200@journalmetro.com
SUMMARY:Schulich @ Bonpasteur VI
DESCRIPTION:Billets disponibles dès le 6 avril \n\n\n\nCette série présente étudiants et professeurs de l’École Schulich de l’Université McGill \n\n\n\nLauréat•e du Prix d’art vocal Wirth 2022–2023 \n\n\n\nProgramme et participant-es à déterminer \n\n\n\nSource: montreal.ca \n\n\n\nDates et horaires sont sujets à changement sans préavis. Avant de vous déplacer\, vérifier ces informations sur montreal.ca
URL:https://journalmetro.com/evenement/schulich-bonpasteur-vi/
LOCATION:Chapelle historique du Bon-Pasteur\, 100 rue Sherbrooke Est\, Montréal\, QC\, Canada
ATTACH;FMTTYPE=image/jpeg:https://journalmetro.com/wp-content/uploads/2023/03/bonpasteur-vi-2.jpg
END:VEVENT
BEGIN:VEVENT
DTSTART;TZID=America/Toronto:20230420T193000
DTEND;TZID=America/Toronto:20230420T193000
DTSTAMP:20231017T120659
CREATED:20230314T160809Z
LAST-MODIFIED:20230314T160812Z
UID:10016131-1682019000-1682019000@journalmetro.com
SUMMARY:Gabriel Fauré : Les cycles
DESCRIPTION:Billets disponibles dès le 13 avril \n\n\n\nEmmanuel Lebel\, barytonGuillaume St-Cyr\, piano \n\n\n\nProgramme: \n\n\n\nGabriel Fauré: 2 Mélodies\, opus 46                            Cinq Mélodies de Venise\, opus 58                            La bonne chanson\, opus 61                            L’Horizon chimérique\, opus 11 \n\n\n\nSource: montreal.ca \n\n\n\nDates et horaires sont sujets à changement sans préavis. Avant de vous déplacer\, vérifier ces informations sur montreal.ca
URL:https://journalmetro.com/evenement/gabriel-faure-les-cycles/
LOCATION:Chapelle historique du Bon-Pasteur\, 100 rue Sherbrooke Est\, Montréal\, QC\, Canada
ATTACH;FMTTYPE=image/jpeg:https://journalmetro.com/wp-content/uploads/2023/03/gabriel-faure-2.jpg
END:VEVENT
BEGIN:VEVENT
DTSTART;TZID=America/Toronto:20230423T150000
DTEND;TZID=America/Toronto:20230423T150000
DTSTAMP:20231017T120659
CREATED:20230317T150518Z
LAST-MODIFIED:20230317T150523Z
UID:10016259-1682262000-1682262000@journalmetro.com
SUMMARY:Trésors de l'Europe Centrale
DESCRIPTION:Billets disponibles dès le 13 avril \n\n\n\nQuatuor à cordes avec piano \n\n\n\nOlivier Thouin\, violon Victor Fournelle-Blain\, alto Sylvain Murray\, violoncelleFrançois Zeitouni\, piano  \n\n\n\nProgramme: \n\n\n\nBedrich Smetana: Z domoviny (De la patrie) pour violon et pianoErno Dohnanyi: Sérénade\, opus 10\, pour violon\, alto et violoncelleAntonín Dvořák: Quatuor pour piano et cordes\, opus 87 \n\n\n\nSource: montreal.ca \n\n\n\nDates et horaires sont sujets à changement sans préavis. Avant de vous déplacer\, vérifier ces informations sur montreal.ca
URL:https://journalmetro.com/evenement/tresors-de-leurope-centrale/
LOCATION:Chapelle historique du Bon-Pasteur\, 100 rue Sherbrooke Est\, Montréal\, QC\, Canada
ATTACH;FMTTYPE=image/jpeg:https://journalmetro.com/wp-content/uploads/2023/03/tresors-europe-centrale-2.jpg
END:VEVENT
BEGIN:VEVENT
DTSTART;TZID=America/Toronto:20230430T150000
DTEND;TZID=America/Toronto:20230430T150000
DTSTAMP:20231017T120659
CREATED:20230322T174436Z
LAST-MODIFIED:20230322T174438Z
UID:10016418-1682866800-1682866800@journalmetro.com
SUMMARY:Mozart: Les quatuors pour flûte et cordes
DESCRIPTION:Billets disponibles dès le 20 avril \n\n\n\nAriane Brisson\, flûteJulie Triquet\, violonLambert Chen\, altoJulie Trudeau\, violoncelle \n\n\n\nProgramme: \n\n\n\nWolfgang Amadeus Mozart: Quatuor no 4 en la majeur\, K. 298              Les noces de Figaro\, extraits (arrangement Ariane Brisson)              Quatuor no 3 en do majeur\, K. 285b              Quatuor no 2 en sol majeur\, K. 285a              Quatuor no 1 en ré majeur\, K. 285a \n\n\n\nSource: montreal.ca \n\n\n\nDates et horaires sont sujets à changement sans préavis. Avant de vous déplacer\, vérifier ces informations sur montreal.ca
URL:https://journalmetro.com/evenement/mozart-les-quatuors-pour-flute-et-cordes/
LOCATION:Chapelle historique du Bon-Pasteur\, 100 rue Sherbrooke Est\, Montréal\, QC\, Canada
ATTACH;FMTTYPE=image/jpeg:https://journalmetro.com/wp-content/uploads/2023/03/mozart-2.jpg
END:VEVENT
BEGIN:VEVENT
DTSTART;TZID=America/Toronto:20230504T193000
DTEND;TZID=America/Toronto:20230504T193000
DTSTAMP:20231017T120659
CREATED:20230324T154204Z
LAST-MODIFIED:20230324T154207Z
UID:10016512-1683228600-1683228600@journalmetro.com
SUMMARY:Quatuor Cobalt V
DESCRIPTION:Billets disponibles dès le 27 avril \n\n\n\nDernier concert du Quatuor Cobalt dans le cadre de leur série à la Chapelle \n\n\n\nGuillaume Villeneuve\, violonDiane Bayard\, violonClément Bufferne\, altoFrançois Leclerc\, violoncelle \n\n\n\nInvitée : Elisabeth Pion\, piano \n\n\n\nProgramme: \n\n\n\nHéritages francophones \n\n\n\nCésar Franck: Quintette en fa mineur Francis Battah: Création \n\n\n\nSource: montreal.ca \n\n\n\nDates et horaires sont sujets à changement sans préavis. Avant de vous déplacer\, vérifier ces informations sur montreal.ca
URL:https://journalmetro.com/evenement/quatuor-cobalt-v/
LOCATION:Chapelle historique du Bon-Pasteur\, 100 rue Sherbrooke Est\, Montréal\, QC\, Canada
ATTACH;FMTTYPE=image/jpeg:https://journalmetro.com/wp-content/uploads/2023/03/quatuor-cobalt-v-2.jpg
END:VEVENT
BEGIN:VEVENT
DTSTART;TZID=America/Toronto:20230505T130000
DTEND;TZID=America/Toronto:20230505T213000
DTSTAMP:20231017T120659
CREATED:20230505T145350Z
LAST-MODIFIED:20230505T145352Z
UID:10017430-1683291600-1683322200@journalmetro.com
SUMMARY:Concours Prix-d'Europe 2023
DESCRIPTION:La 111e édition du Concours Prix d’Europe aura lieu du 4 au 10 juin 2023 \n\n\n\nHoraire de l’épreuve demi-finale du Prix d’Europe 2023 \n\n\n\nDimanche 4 juin 13 h à 17 h 30 et 19 h à 22 h- catégorie chantLundi 5 juin 13 h à 17 h 30 et de 19 h à 22 h- catégorie cordesMardi 6 juin de 13 h à 17 h 30 et de 19 h à 22 h- catégorie cordesMercredi 7 juin de 13 h à 17 h 30 et de 19 h à 22 h- catégorie cordes et pianoJeudi 8 juin de 13 h à 17 h 30 et de 19 h à 21 h- catégorie piano \n\n\n\nA la suite de l’épreuve demi-finale\, dévoilement par le président du jury des candidatsretenus pour participer à la finale. \n\n\n\nÉpreuve finale: Vendredi 9 juin \, séances à 13h et à 19hDévoilement par le président du jury des quatre gagnants qui participeront au concertgala. \n\n\n\nConcert gala : Samedi 10 juin à 19h30
URL:https://journalmetro.com/evenement/concours-prix-deurope-2023/
LOCATION:Chapelle historique du Bon-Pasteur\, 100 rue Sherbrooke Est\, Montréal\, QC\, Canada
ATTACH;FMTTYPE=image/jpeg:https://journalmetro.com/wp-content/uploads/2023/05/concours-prix-deurope-2.jpg
END:VEVENT
BEGIN:VEVENT
DTSTART;TZID=America/Toronto:20230507T150000
DTEND;TZID=America/Toronto:20230507T150000
DTSTAMP:20231017T120659
CREATED:20230327T173731Z
LAST-MODIFIED:20230327T173733Z
UID:10016755-1683471600-1683471600@journalmetro.com
SUMMARY:Chloé Dumoulin
DESCRIPTION:Billets disponibles dès le 27 avril \n\n\n\nChloé Dumoulin\, piano \n\n\n\nProgramme: \n\n\n\nDomenico Scarlatti: Sonate K. 24                                      Sonate K. 132                                      Sonate K. 208                                      Sonate K. 466                                     Sonate K. 492Wolfgang Amadeus Mozart: Sonate pour piano no 13\, K. 333 en si bémol majeur Franz Liszt: Sonate pour piano en si mineur\, S. 178 \n\n\n\nSource: montreal.ca \n\n\n\nDates et horaires sont sujets à changement sans préavis. Avant de vous déplacer\, vérifier ces informations sur montreal.ca
URL:https://journalmetro.com/evenement/chloe-dumoulin/
LOCATION:Chapelle historique du Bon-Pasteur\, 100 rue Sherbrooke Est\, Montréal\, QC\, Canada
ATTACH;FMTTYPE=image/jpeg:https://journalmetro.com/wp-content/uploads/2023/03/chloe-dumoulin-2.jpg
END:VEVENT
BEGIN:VEVENT
DTSTART;TZID=America/Toronto:20230510T193000
DTEND;TZID=America/Toronto:20230510T193000
DTSTAMP:20231017T120659
CREATED:20230328T182254Z
LAST-MODIFIED:20230328T182257Z
UID:10016786-1683747000-1683747000@journalmetro.com
SUMMARY:Toute une musique
DESCRIPTION:Billets disponibles dès le 4 mai \n\n\n\nPour souligner la 1000e émission radio de Toute une musique sur les ondes d’ICI Musique\, l’animatrice Marie-Christine Trottier est heureuse de présenter devant son public une édition spéciale de l’émission à la Chapelle historique du Bon-Pasteur. Plusieurs Révélations classiques de Radio-Canada seront présentes pour nous offrir un programme musical original et varié: \n\n\n\n– Vincent Lauzer\, flûtiste\, Révélation 2013-2014– Caroline Gélinas\, mezzo-soprano\, Révélation 2017-2018.– Cameron Crozman\, violoncelliste\, Révélation 2019-2020– Isabella Perron\, violoniste\, Révélation 2020-2021La pianiste Meagan Milatz et le luthiste Michel Angers seront aussi de la fête! \n\n\n\nCe concert sera présenté à l’automne 2023 dans le cadre de l’émission Toute  une musique\,  animée par Marie-Christine Trottier et diffusée du lundi au jeudi\, de 20h00 à 22h00.Réalisation à l’enregistrement : Guylaine PicardPrise de son: Dominic BeaudoinEn collaboration avec Noncerto \n\n\n\nSource: montreal.ca \n\n\n\nDates et horaires sont sujets à changement sans préavis. Avant de vous déplacer\, vérifier ces informations sur montreal.ca
URL:https://journalmetro.com/evenement/toute-une-musique/
LOCATION:Chapelle historique du Bon-Pasteur\, 100 rue Sherbrooke Est\, Montréal\, QC\, Canada
CATEGORIES:Communautaire
ATTACH;FMTTYPE=image/jpeg:https://journalmetro.com/wp-content/uploads/2023/03/toute-une-musique-2.jpg
END:VEVENT
BEGIN:VEVENT
DTSTART;TZID=America/Toronto:20230511T193000
DTEND;TZID=America/Toronto:20230511T193000
DTSTAMP:20231017T120659
CREATED:20230328T201014Z
LAST-MODIFIED:20230328T201016Z
UID:10016802-1683833400-1683833400@journalmetro.com
SUMMARY:Musique d'ici et d'ailleurs
DESCRIPTION:Billets disponibles dès le 4 mai \n\n\n\nDuo M \n\n\n\nViolaine Melançon\, violonMeagan Milatz\, piano  \n\n\n\nProgramme: \n\n\n\nAntonín Dvořák: Sonate pour violon et piano\, opus 57 Ana Sokolovic: Chant pour violon et piano François Morel: Deux études de sonorité pour pianoJacques Hétu: Variations pour violon seul Robert Schumann: Sonate pour violon et piano\, opus 12 \n\n\n\nSource: montreal.ca \n\n\n\nDates et horaires sont sujets à changement sans préavis. Avant de vous déplacer\, vérifier ces informations sur montreal.ca
URL:https://journalmetro.com/evenement/musique-dici-et-dailleurs/
LOCATION:Chapelle historique du Bon-Pasteur\, 100 rue Sherbrooke Est\, Montréal\, QC\, Canada
ATTACH;FMTTYPE=image/jpeg:https://journalmetro.com/wp-content/uploads/2023/03/musique-dici-et-dailleurs-2.jpg
END:VEVENT
BEGIN:VEVENT
DTSTART;TZID=America/Toronto:20230514T150000
DTEND;TZID=America/Toronto:20230514T150000
DTSTAMP:20231017T120659
CREATED:20230331T144918Z
LAST-MODIFIED:20230331T144921Z
UID:10016870-1684076400-1684076400@journalmetro.com
SUMMARY:L'Univers Schumann IV
DESCRIPTION:Billets disponibles dès le 4 mai \n\n\n\nReprise du concert du 2 octobre 2022 \n\n\n\nAlicia Choi\, violonJeanne Amièle\, piano \n\n\n\nProgramme: \n\n\n\nRobert Schumann: Trois romances pour violon et piano\, opus 94Joseph Joachim: 3 Stücke\, opus 2Clara Schumann: Trois romances pour violon et piano\, opus 22Robert Schumann: Sonate pour violon et piano n° 2 en ré mineur\, opus 121 \n\n\n\nSource: montreal.ca \n\n\n\nDates et horaires sont sujets à changement sans préavis. Avant de vous déplacer\, vérifier ces informations sur montreal.ca
URL:https://journalmetro.com/evenement/lunivers-schumann-iv/
LOCATION:Chapelle historique du Bon-Pasteur\, 100 rue Sherbrooke Est\, Montréal\, QC\, Canada
ATTACH;FMTTYPE=image/jpeg:https://journalmetro.com/wp-content/uploads/2023/03/lunivers-schumann-iv-2.jpg
END:VEVENT
END:VCALENDAR